BEGIN:VCALENDAR
VERSION:2.0
PRODID:-//SCHWARTZ, METZ &amp; WISE, P.A. - ECPv6.13.2.1//NONSGML v1.0//EN
CALSCALE:GREGORIAN
METHOD:PUBLISH
X-ORIGINAL-URL:https://www.smwpa.com
X-WR-CALDESC:Events for SCHWARTZ, METZ &amp; WISE, P.A.
REFRESH-INTERVAL;VALUE=DURATION:PT1H
X-Robots-Tag:noindex
X-PUBLISHED-TTL:PT1H
BEGIN:VTIMEZONE
TZID:America/New_York
BEGIN:DAYLIGHT
TZOFFSETFROM:-0500
TZOFFSETTO:-0400
TZNAME:EDT
DTSTART:20250309T070000
END:DAYLIGHT
BEGIN:STANDARD
TZOFFSETFROM:-0400
TZOFFSETTO:-0500
TZNAME:EST
DTSTART:20251102T060000
END:STANDARD
END:VTIMEZONE
BEGIN:VEVENT
DTSTART;TZID=America/New_York:20250801T173000
DTEND;TZID=America/New_York:20250801T200000
DTSTAMP:20260423T195047
CREATED:20250714T211757Z
LAST-MODIFIED:20250714T211757Z
UID:7018-1754069400-1754078400@www.smwpa.com
SUMMARY:Senator J.B. Jennings' Polo Fundraiser
DESCRIPTION:Location:\n3633 Fallston Road\nJarrettsville \nCost:\n$2\,000 Triple Crown Sponsorship (10 Tickets)\n$1\,000 Champion Sponsorship (8 Tickets)\n$500 Front-Runner Sponsorship (6 Tickets)\n$250 Pony Sponsorship (4 Tickets)\n$75 Couples Ticket\n$50 Ticket \nEvent Information:\nFor more information\, please contact friendsofjbjenningsmd@gmail.com\nCan purchase tickets online at: https://secure.anedot.com/friends-of-j-b-jennings/polo2025 \nChecks can be payable and mailed to:\nFriends of J.B. Jennings\nPO Box 764\nBel Air\, MD 21014 \nLauren Fowler\, Treasurer \nSenate Budget and Taxation Committee\nRepublican\nDistrict 7\nBaltimore and Harford County
URL:https://www.smwpa.com/event/senator-j-b-jennings-polo-fundraiser/
CATEGORIES:Fundraisers
END:VEVENT
BEGIN:VEVENT
DTSTART;TZID=America/New_York:20250809T150000
DTEND;TZID=America/New_York:20250809T190000
DTSTAMP:20260423T195047
CREATED:20250808T163325Z
LAST-MODIFIED:20250808T164041Z
UID:7070-1754751600-1754766000@www.smwpa.com
SUMMARY:Delegate Andre Johnson's Beer-N-Brats Fundraiser
DESCRIPTION:Location:\n3520 Woodsdale Road\nAbingdon \nCost:\n$2\,500 Platinum Sponsor\n$1\,000 Gold Sponsor\n$500 Silver Sponsor\n$250 Friend of the Campaign\n$60 Per Person \nEvent Information:\nFor more information\, please contact 443-473-4643 or email electandrevjohnson@gmail.com\nCan donate online at: https://secure.actblue.com/donate/avjdistrict34a \nHouse Economic Matters Committee\nDemocrat\nDistrict 34A\nHarford County
URL:https://www.smwpa.com/event/7070/
CATEGORIES:Fundraisers
END:VEVENT
BEGIN:VEVENT
DTSTART;TZID=America/New_York:20250810T150000
DTEND;TZID=America/New_York:20250810T170000
DTSTAMP:20260423T195047
CREATED:20250808T163943Z
LAST-MODIFIED:20250808T163943Z
UID:7072-1754838000-1754845200@www.smwpa.com
SUMMARY:Delegate Karen Simpson's Kickoff Fundraiser
DESCRIPTION:Location:\n103 Linden Avenue\nFrederick \nCost:\n$2\,000 Gardner\n$1\,000 Pollinator\n$500 Rain\n$250 Sower\n$100 Planter \nEvent Information:\nFor more information\, please contact karen4maryland@gmail.com\nCan purchase tickets online at: https://secure.actblue.com/donate/karensimpsonfund \nChecks can be payable and mailed to:\nFriends of Karen Simpson\nP.O. Box 1358\nFrederick\, MD 21702 \nDonna Flaharty\, Treasurer \nHouse Judiciary Committee\nDemocrat\nDistrict 3\nFrederick County
URL:https://www.smwpa.com/event/delegate-karen-simpsons-kickoff-fundraiser/
CATEGORIES:Fundraisers
END:VEVENT
BEGIN:VEVENT
DTSTART;TZID=America/New_York:20250813T180000
DTEND;TZID=America/New_York:20250813T200000
DTSTAMP:20260423T195047
CREATED:20250714T212527Z
LAST-MODIFIED:20250714T220541Z
UID:7020-1755108000-1755115200@www.smwpa.com
SUMMARY:Maryland Senate Republican Caucus' MACo Welcome Reception Fundraiser
DESCRIPTION:Location:\nBLU Crabhouse & Raw Bar\n2305 Philadelphia Ave.\nOcean City \nCost:\n$2\,500 Diamond Sponsor (20 Tickets)\n$1\,000 Gold Sponsor (10 Tickets)\n$500 Silver Sponsor (5 Tickets)\n$125 Ticket \nEvent Information:\nCan purchase tickets online at: https://secure.anedot.com/maryland-republican-senate-caucus-committee/maco25 \nMaryland Senate Republican Caucus
URL:https://www.smwpa.com/event/maryland-senate-republican-caucus-maco-welcome-reception/
CATEGORIES:Fundraisers
END:VEVENT
BEGIN:VEVENT
DTSTART;TZID=America/New_York:20250814T120000
DTEND;TZID=America/New_York:20250814T133000
DTSTAMP:20260423T195047
CREATED:20250424T164944Z
LAST-MODIFIED:20250424T170115Z
UID:6845-1755172800-1755178200@www.smwpa.com
SUMMARY:House Speaker Adrienne Jones' Take a Beach Break Event During MACo Conference Fundraiser
DESCRIPTION:Location:\nAloft Ocean City\n4501 Coastal Highway\nOcean City \nCost:\n$1\,000 Seaside Sponsor\n$500 Boardwalk Benefactor\n$125 Tide Pool Ticket \nEvent Information:\nFor more information\, please contact 410-838-6355 or email adriennejones@riceconsultingllc.com\nCan purchase tickets online at: https://secure.ngpvan.com/U6AJ9iYTZ0qxXyfv-WhKEg2 \nChecks can be payable and mailed to:\nCitizens for Adrienne Jones\nc/o Rice Consulting\n17 W. Courtland Street\nSuite 210\nBel Air\, MD 21014 \nArnold Jablon\, Treasurer \nSpeaker of the House of Delegates\nDemocrat\nDistrict 10\nBaltimore County
URL:https://www.smwpa.com/event/house-speaker-adrienne-jones-take-a-beach-break-event-during-maco-conference/
CATEGORIES:Fundraisers
END:VEVENT
BEGIN:VEVENT
DTSTART;TZID=America/New_York:20250814T134500
DTEND;TZID=America/New_York:20250814T151500
DTSTAMP:20260423T195047
CREATED:20250714T214127Z
LAST-MODIFIED:20250714T220531Z
UID:7022-1755179100-1755184500@www.smwpa.com
SUMMARY:Delegate Vanessa Atterbeary's MACo Luncheon Fundraiser
DESCRIPTION:Location:\nSpain Wine Bar\n13 St. Louis Avenue\nOcean City \nCost:\n$1\,500 Ticket \nEvent Information:\nFor more information or to RSVP\, please contact Ryan at rsvp@mellingergroup.com\nCan purchase tickets online at: https://secure.actblue.com/donate/maco2025\n*Event is limited to twenty seats* \nChecks can be payable and mailed to:\nCommittee to Elect Vanessa Atterbeary\n137 E. Gittings Street\nBaltimore\, MD 21230 \nMarlyn Oatts\, Treasurer \nChair\, House Ways and Means Committee\nDemocrat\nDistrict 13\nHoward County
URL:https://www.smwpa.com/event/delegate-vanessa-atterbearys-maco-luncheon/
CATEGORIES:Fundraisers
END:VEVENT
BEGIN:VEVENT
DTSTART;TZID=America/New_York:20250814T150000
DTEND;TZID=America/New_York:20250814T163000
DTSTAMP:20260423T195047
CREATED:20250714T230459Z
LAST-MODIFIED:20250714T230459Z
UID:7045-1755183600-1755189000@www.smwpa.com
SUMMARY:Delegate Jessica Feldmark's Rising Tide Happy Hour Fundraiser
DESCRIPTION:Location:\nFlamingo Coast\n3 Atlantic Ave.\nOcean City \nCost:\n$2\,500 Host\n$1\,000 Sponsor\n$500 Patron\n$250 Friend\n$100 Guest \nEvent Information:\nFor more information or to RSVP and contribute by check\, please contact Jibril at jh@helloadeo.com\nCan purchase tickets online at: https://secure.ngpvan.com/v3kwvEy9HUy5vmv9XDcBcw2 \nChecks can be payable and mailed to:\nFriends of Jessica Feldmark\n711 W. 40th Street\nSuite 330\nBaltimore\, MD 21211 \nPatrick Croushler\, Treasurer \nHouse Ways and Means Committee\nCandidate for Howard County Executive\nDemocrat\nDistrict 12A\nHoward County
URL:https://www.smwpa.com/event/delegate-jessica-feldmarks-rising-tide-happy-hour-fundraiser/
CATEGORIES:Fundraisers
END:VEVENT
BEGIN:VEVENT
DTSTART;TZID=America/New_York:20250814T153000
DTEND;TZID=America/New_York:20250814T163000
DTSTAMP:20260423T195047
CREATED:20250714T214708Z
LAST-MODIFIED:20250714T220520Z
UID:7024-1755185400-1755189000@www.smwpa.com
SUMMARY:Senator Jeff Waldstreicher's MACo Reception Fundraiser
DESCRIPTION:Location:\nDry 85 OC (Overholt Room)\n12 48th Street\nOcean City \nCost:\n$2\,500 Champion\n$1\,000 Sponsor\n$500 Host\n$150 Guest \nEvent Information:\nFor more information\, please contact Haley at 410-547-8884 or email haley@martinlauer.com\nCan purchase tickets online at: https://secure.actblue.com/donate/oceancity2025 \nChecks can be payable and mailed to:\nFriends of Jeff Waldstreicher\n1215 E Fort Ave.\nSuite 106\nBaltimore\, MD 21230 \nEllen Townsend\, Treasurer \nVice-Chair\, Senate Judicial Proceedings Committee\nDemocrat\nDistrict 18\nMontgomery County
URL:https://www.smwpa.com/event/senator-jeff-waldstreichers-maco-reception/
CATEGORIES:Fundraisers
END:VEVENT
BEGIN:VEVENT
DTSTART;TZID=America/New_York:20250814T163000
DTEND;TZID=America/New_York:20250814T183000
DTSTAMP:20260423T195047
CREATED:20250529T164326Z
LAST-MODIFIED:20250529T164326Z
UID:6936-1755189000-1755196200@www.smwpa.com
SUMMARY:Senator J.B. Jennings' MACo Summer Cocktail Reception Fundraiser
DESCRIPTION:Location: \nRopewalk Ocean City\n8203 Coastal Hwy\nOcean City \nCost: \n$6\,000 Wave Makers\n$4\,000 Seas the Day Hosts\n$2\,000 Buoy oh Buoy! Co-Hosts\n$1\,000 Sand-tastic Friends\n$500 Splash Zone \nEvent Information: \nFor more information\, please contact Lauren at 443-520-9931 or email friendsofjbjennings@gmail.com\nCan purchase tickets online at: https://secure.anedot.com/friends-of-j-b-jennings/mmlmaco2025 \nChecks can be payable and mailed to:\nFriends of J.B. Jennings\nP.O. Box 764\nBel Air\, MD 21014 \nLauren Fowler\, Treasurer \nSenate Budget and Taxation Committee\nRepublican\nDistrict 7\nBaltimore and Harford County
URL:https://www.smwpa.com/event/senator-j-b-jennings-maco-summer-cocktail-reception-fundraiser/
CATEGORIES:Fundraisers
END:VEVENT
BEGIN:VEVENT
DTSTART;TZID=America/New_York:20250814T173000
DTEND;TZID=America/New_York:20250814T193000
DTSTAMP:20260423T195047
CREATED:20250630T221741Z
LAST-MODIFIED:20250731T173952Z
UID:6994-1755192600-1755199800@www.smwpa.com
SUMMARY:Governor Wes Moore's MACo Reception Fundraiser
DESCRIPTION:Location:\n45th Street Taphouse\n4507 Coastal Highway\nOcean City \nCost:\n$2\,500 Sponsor\n$1\,000 Host\n$250 Guest \nEvent Information:\nFor more information\, please contact Colin at 410-366-3940 ext. 101 or email cb@helloadeo.com\nCan purchase tickets online at: https://support.wesmoore.com/a/governormoore0814maco\n5:30pm – 6:00pm – Sponsor Reception\n6:00pm – 7:30pm – General Reception \nGovernor of Maryland\nDemocrat
URL:https://www.smwpa.com/event/governor-wes-moores-maco-reception-fundraiser/
CATEGORIES:Fundraisers
END:VEVENT
BEGIN:VEVENT
DTSTART;TZID=America/New_York:20250815T090000
DTEND;TZID=America/New_York:20250815T103000
DTSTAMP:20260423T195048
CREATED:20250610T185814Z
LAST-MODIFIED:20250610T185814Z
UID:6961-1755248400-1755253800@www.smwpa.com
SUMMARY:Comptroller Brooke Lierman's MACo Breakfast Fundraiser
DESCRIPTION:Location:\nFlamingo Coast\n3 Atlantic Avenue\nOcean City \nCost:\n$1\,000 Sponsor\n$250 Guest \nEvent Information:\nFor more information or to RSVP\, please contact Sophia Silbergeld at 410-366-3940 or email ss@helloadeo.com\nCan purchase tickets online at: https://www.brookelierman.com/rsvpmacoreception \nComptroller of Maryland\nDemocrat
URL:https://www.smwpa.com/event/comptroller-brooke-liermans-maco-breakfast-fundraiser-2/
CATEGORIES:Fundraisers
END:VEVENT
BEGIN:VEVENT
DTSTART;TZID=America/New_York:20250815T113000
DTEND;TZID=America/New_York:20250815T133000
DTSTAMP:20260423T195048
CREATED:20250714T215911Z
LAST-MODIFIED:20250714T225106Z
UID:7026-1755257400-1755264600@www.smwpa.com
SUMMARY:Delegate Wayne Hartman's MACo Reception Fundraiser
DESCRIPTION:Location:\nHarrison’s Harbor Watch\n806 S. Atlantic Ave.\nOcean City \nCost:\n$6\,000 Host\n$3\,000 Platinum Sponsor\n$2\,000 Gold Sponsor\n$1\,000 Silver Sponsor\n$500 Bronze Sponsor\n$250 Per Couple\n$150 Per Individual \nEvent Information:\nFor more information\, please contact wayneahartman@gmail.com\nCan purchase tickets online at: https://secure.anedot.com/waynehartman/maco2025 \nChecks can be payable and mailed to:\nFriends of Wayne Hartman\n511 N Boardwalk\nOcean City\, MD 21842 \nJay Knerr\, Treasurer \nHouse Ways and Means Committee\nRepublican\nDistrict 38C\nWicomico and Worcester County
URL:https://www.smwpa.com/event/delegate-wayne-hartmans-maco-reception/
CATEGORIES:Fundraisers
END:VEVENT
BEGIN:VEVENT
DTSTART;TZID=America/New_York:20250815T113000
DTEND;TZID=America/New_York:20250815T133000
DTSTAMP:20260423T195048
CREATED:20250714T220447Z
LAST-MODIFIED:20250714T220447Z
UID:7028-1755257400-1755264600@www.smwpa.com
SUMMARY:Maryland House Republican Caucus' MACo Reception Fundraiser
DESCRIPTION:Location:\nHarrison’s Harbor Watch\n806 S. Atlantic Ave.\nOcean City \nCost:\n$6\,000 Host\n$3\,000 Platinum Sponsor\n$2\,000 Gold Sponsor\n$1\,000 Silver Sponsor\n$500 Bronze Sponsor\n$250 Per Couple\n$150 Per Individual \nEvent Information:\nFor more information\, please contact torirlaird@gmail.com\nCan purchase tickets online at: https://secure.anedot.com/housecaucus/maco2025 \nChecks can be payable and mailed to:\nRepublican House Caucus Committee\nP.O. Box 1\nAnnapolis \, MD 21401 \nJames Appel\, Treasurer \nMaryland House Republican Caucus Committee
URL:https://www.smwpa.com/event/maryland-house-republican-caucus-maco-reception-fundraiser/
CATEGORIES:Fundraisers
END:VEVENT
BEGIN:VEVENT
DTSTART;TZID=America/New_York:20250816T140000
DTEND;TZID=America/New_York:20250816T170000
DTSTAMP:20260423T195048
CREATED:20250808T164532Z
LAST-MODIFIED:20250808T164532Z
UID:7075-1755352800-1755363600@www.smwpa.com
SUMMARY:Delegate LaToya Nkongolo's 47th Birthday Fundraiser
DESCRIPTION:Location:\nCopper Creek\n904 Ritchie Highway\nSeverna Park \nCost:\n$1\,000 Waltz Sponsor\n$500 Foxtrotter Sponsor\n$250 Boots on the Ground Sponsor\n$75 Per Couple\n$47 Per Person \nEvent Information:\nFor more information\, please contact latoya4maryland@gmail.com\nCan purchase tickets online at: https://secure.anedot.com/friends-of-latoya-nkongolo/8f449d17-c454-4c5c-8d52-ecfe999d0089 \nChecks can be payable and mailed to:\nFriends of LaToya Nkongolo\n268 North Dr\nSeverna Park\, MD 21146 \nJanelle Williams\, Treasurer \nHouse Judiciary Committee\nRepublican\nDistrict 31\nAnne Arundel County
URL:https://www.smwpa.com/event/delegate-latoya-nkongolos-47th-birthday-fundraiser/
CATEGORIES:Fundraisers
END:VEVENT
BEGIN:VEVENT
DTSTART;TZID=America/New_York:20250821T180000
DTEND;TZID=America/New_York:20250821T200000
DTSTAMP:20260423T195048
CREATED:20250630T221222Z
LAST-MODIFIED:20250630T221222Z
UID:6992-1755799200-1755806400@www.smwpa.com
SUMMARY:Delegate Michele Guyton's Fundraiser
DESCRIPTION:Location:\nThe Home of Yara Cheikh and Firmin DeBrabander\nAddress Provided Upon RSVP \nCost:\n$2\,500 VIP Host\n$1\,000 Host\n$500 Sponsor\n$250 Supporter\n$100 Friend \nEvent Information:\nCan purchase tickets online at: https://secure.actblue.com/donate/guyton_2025 \nChecks can be payable and mailed to:\nMichele Guyton for Baltimore County\n14110 Phoenix Road\nPhoenix\, MD 21131 \nManda Simon\, Treasurer \nHouse Environment and Transportation Committee\nDemocrat\nDistrict 42B\nBaltimore County
URL:https://www.smwpa.com/event/delegate-michele-guytons-fundraiser-2/
CATEGORIES:Fundraisers
END:VEVENT
BEGIN:VEVENT
DTSTART;TZID=America/New_York:20250822T180000
DTEND;TZID=America/New_York:20250822T200000
DTSTAMP:20260423T195048
CREATED:20250731T223541Z
LAST-MODIFIED:20250731T223541Z
UID:7061-1755885600-1755892800@www.smwpa.com
SUMMARY:Delegate Steve Johnson's Dinner with the Delegate Fundraiser
DESCRIPTION:Location:\nHoliday Inn Express\n1007 Beards Hill Road\nAberdeen \nCost:\n$1\,000 Platinum Sponsor\n$500 Gold Sponsor\n$250 Silver Sponsor\n$100 Bronze Sponsor \nEvent Information:\nCan purchase tickets online at: https://secure.actblue.com/donate/delegatestevejohnson \nChecks can be payable and mailed to:\nFriends of Steve Johnson\n305 Fords Lane\nAberdeen\, MD 21001 \nNicole Rosado\, Treasurer \nHouse Health and Government Operations Committee\nDemocrat\nDistrict 34A\nHarford County
URL:https://www.smwpa.com/event/delegate-steve-johnsons-dinner-with-the-delegate-fundraiser/
CATEGORIES:Fundraisers
END:VEVENT
BEGIN:VEVENT
DTSTART;TZID=America/New_York:20250824T120000
DTEND;TZID=America/New_York:20250824T140000
DTSTAMP:20260423T195048
CREATED:20250808T165302Z
LAST-MODIFIED:20250808T165656Z
UID:7077-1756036800-1756044000@www.smwpa.com
SUMMARY:Delegate Tiffany Alston's Brunch & Bubbly Fundraiser
DESCRIPTION:Location:\nAddress Provided Upon RSVP \nCost:\n$1\,922 Pearls\n$522 Poodles\n$222 Prophytes\n$122 Neophytes \nEvent Information:\nFor more information or to RSVP\, please contact 443-869-3582 or email Events@karenmillerconsulting.com\nCan donate online at: https://secure.actblue.com/donate/tiffanyalston \nHouse Health and Government Operations Committee\nDemocrat\nDistrict 24\nPrince George’s County
URL:https://www.smwpa.com/event/delegate-tiffany-alstons-brunch-bubbly/
CATEGORIES:Fundraisers
END:VEVENT
BEGIN:VEVENT
DTSTART;TZID=America/New_York:20250826T190000
DTEND;TZID=America/New_York:20250826T203000
DTSTAMP:20260423T195048
CREATED:20250808T165830Z
LAST-MODIFIED:20250808T165830Z
UID:7080-1756234800-1756240200@www.smwpa.com
SUMMARY:Senator Nick Charles' Happy Hour Fundraiser
DESCRIPTION:Location:\nLargo Innovation Campus\n96 Harry S. Truman Drive\nLargo \nCost:\n$2\,500 Gold Sponsor\n$1\,500 Silver Sponsor\n$1\,000 Friend\n$500 Supporter\n$250 Guest \nEvent Information:\nFor more information\, please contact nickcharles@riceconsultingllc.com\nCan purchase tickets online at: https://secure.actblue.com/donate/md-nc250826 \nChecks can be payable and mailed to:\nFriends of Nicholas Charles\nc/o Rice Consulting\n17 W. Courtland St.\, Suite 210\nBel Air\, MD 21014 \nMarie Beresford\, Treasurer \nSenate Judicial Proceedings Committee\nDemocrat\nDistrict 25\nPrince George’s County
URL:https://www.smwpa.com/event/senator-nick-charles-happy-hour-fundraiser/
CATEGORIES:Fundraisers
END:VEVENT
END:VCALENDAR