BEGIN:VCALENDAR
VERSION:2.0
PRODID:-//SCHWARTZ, METZ &amp; WISE, P.A. - ECPv6.13.2.1//NONSGML v1.0//EN
CALSCALE:GREGORIAN
METHOD:PUBLISH
X-ORIGINAL-URL:https://www.smwpa.com
X-WR-CALDESC:Events for SCHWARTZ, METZ &amp; WISE, P.A.
REFRESH-INTERVAL;VALUE=DURATION:PT1H
X-Robots-Tag:noindex
X-PUBLISHED-TTL:PT1H
BEGIN:VTIMEZONE
TZID:America/New_York
BEGIN:DAYLIGHT
TZOFFSETFROM:-0500
TZOFFSETTO:-0400
TZNAME:EDT
DTSTART:20250309T070000
END:DAYLIGHT
BEGIN:STANDARD
TZOFFSETFROM:-0400
TZOFFSETTO:-0500
TZNAME:EST
DTSTART:20251102T060000
END:STANDARD
END:VTIMEZONE
BEGIN:VEVENT
DTSTART;TZID=America/New_York:20250507T080000
DTEND;TZID=America/New_York:20250507T093000
DTSTAMP:20260424T004515
CREATED:20250424T162103Z
LAST-MODIFIED:20250424T170210Z
UID:6832-1746604800-1746610200@www.smwpa.com
SUMMARY:Senator Craig Zucker's Breakfast Reception Fundraiser
DESCRIPTION:Location:\nWoodholme Country Club\n300 Woodholme Avenue\nPikesville \nCost:\n$6\,000 Platinum\n$4\,000 Gold\n$2\,500 Silver\n$1\,000 Bronze \nEvent Information:\nFor more information or to RSVP\, please contact Tory Ricas at tricas@residentialtitle.com\nCan contribute online at: https://www.craigzucker.com \nSenate Budget and Taxation Committee\nDemocrat\nDistrict 14\nMontgomery County
URL:https://www.smwpa.com/event/senator-craig-zuckers-breakfast-reception/
CATEGORIES:Fundraisers
END:VEVENT
BEGIN:VEVENT
DTSTART;TZID=America/New_York:20250514T180000
DTEND;TZID=America/New_York:20250514T193000
DTSTAMP:20260424T004515
CREATED:20250424T165531Z
LAST-MODIFIED:20250424T170158Z
UID:6847-1747245600-1747251000@www.smwpa.com
SUMMARY:Senator Dawn Gile's Happy Hour Reception Fundraiser
DESCRIPTION:Location:\nCafe Mezzanotte\n760 Ritchie Highway\nSeverna Park \nCost:\n$2\,000 Hearty Host\n$1\,000 Sonoma Sponsor\n$500 Piedmont Patron\n$250 Genoa Guest\n$100 Dolce District 33 Resident \nEvent Information:\nFor more information\, please contact Rice Consulting at 410-838-6355 or email dawngile@riceconsultingllc.com\nCan purchase tickets online at: https://secure.ngpvan.com/02CouktAUk6P-QUqhQytrA2 \nChecks can be payable and mailed to:\nCommittee to Elect Dawn Gile\nc/o Rice Consulting\n17 W. Courtland Street\nSuite 210\nBel Air\, MD 21014 \nCara O’Brien\, Treasurer \nSenate Finance Committee\nDemocrat\nDistrict 33\nAnne Arundel County
URL:https://www.smwpa.com/event/senator-dawn-giles-happy-hour-reception-2/
CATEGORIES:Fundraisers
END:VEVENT
BEGIN:VEVENT
DTSTART;TZID=America/New_York:20250514T180000
DTEND;TZID=America/New_York:20250514T200000
DTSTAMP:20260424T004515
CREATED:20250107T173636Z
LAST-MODIFIED:20250107T173649Z
UID:6823-1747245600-1747252800@www.smwpa.com
SUMMARY:Delegate Diana Fennell's Fundraiser
DESCRIPTION:This event was previously scheduled for 1/7/2025 – Any tickets purchased for the rescheduled event will be honored for this date. \nLocation:\nStation 202 Restaurant & Bar\n5820 Landover Road\nHyattsville \nCost:\n$2\,000 Champion\n$1\,000 Supporter\n$500 Friend\n$250 Guest \nEvent Information:\nFor more information or to RSVP\, please contact Jeremiah Pope at dianafennellevent@jpopeconsulting.com \nChecks can be payable and mailed to:\nFriends of Diana Fennell\nP.O. Box 514\nBladensburg\, MD 20710 \nJanet Lucas\, Treasurer \nHouse Economic Matters Committee\nDemocrat\nDistrict 47A\nPrince George’s County
URL:https://www.smwpa.com/event/delegate-diana-fennels-fundraiser/
CATEGORIES:Fundraisers
END:VEVENT
BEGIN:VEVENT
DTSTART;TZID=America/New_York:20250518T150000
DTEND;TZID=America/New_York:20250518T170000
DTSTAMP:20260424T004515
CREATED:20250424T170047Z
LAST-MODIFIED:20250424T170047Z
UID:6849-1747580400-1747587600@www.smwpa.com
SUMMARY:Delegate Chris Tomlinson's Post-Legislative Session Recap Fundraiser
DESCRIPTION:Location:\nO’Lordans Irish Pub\n14 Liberty Street\nWestminster \nCost:\n$1\,000 Pot of Gold Sponsor\n$500 Shamrock Sponsor\n$250 Leprechaun Sponsor\n$100 Couple\n$50 Individual Ticket \nEvent Information:\nFor more information\, please contact ChristopherTomlinson1@gmail.com\nCan purchase tickets online at: https://secure.anedot.com/friendsofchristophertomlinson/9a482da8-82d5-4bd9-9510-2f85cb96007d\nPlease RSVP by May 11\, 2025 \nChecks can be payable and mailed to:\nFriends of Christopher Tomlinson\n4305 Hanover Pike\nManchester\, MD 21102 \nAaron Matty\, Treasurer \nHouse Judiciary Committee\nRepublican\nDistrict 5\nCarroll and Frederick County
URL:https://www.smwpa.com/event/delegate-chris-tomlinsons-post-legislative-session-recap-fundraiser/
CATEGORIES:Fundraisers
END:VEVENT
BEGIN:VEVENT
DTSTART;TZID=America/New_York:20250519T170000
DTEND;TZID=America/New_York:20250519T190000
DTSTAMP:20260424T004515
CREATED:20250424T162709Z
LAST-MODIFIED:20250424T162741Z
UID:6834-1747674000-1747681200@www.smwpa.com
SUMMARY:Delegate Ryan Nawrocki's Fundraiser
DESCRIPTION:Location:\nPooles Island Brewing Co.\n11695 Crossroads Circle\nSuite A\nMiddle River \nCost:\n$6\,000 Co-Host\n$2\,500 Stripes Sponsor\n$1\,000 Stars Sponsor\n$500 Blue Sponsor\n$250 Red Sponsor\n$75 Couple\n$50 Per Person\n$40 Seniors \nEvent Information:\nFor more information\, please contact 443-875-3886 or email Nicole@OssolaConsulting.com\nCan contribute online at: https://www.ryannawrocki.com/brewery \nHouse Environment and Transportation Committee\nRepublican\nDistrict 7A\nBaltimore County
URL:https://www.smwpa.com/event/delegate-ryan-nawrockis-fundraiser-3/
CATEGORIES:Fundraisers
END:VEVENT
BEGIN:VEVENT
DTSTART;TZID=America/New_York:20250520T080000
DTEND;TZID=America/New_York:20250520T093000
DTSTAMP:20260424T004515
CREATED:20250424T171223Z
LAST-MODIFIED:20250424T171223Z
UID:6856-1747728000-1747733400@www.smwpa.com
SUMMARY:Senator Pam Beidle's Breakfast Reception Fundraiser
DESCRIPTION:Location:\nThe Hotel at Arundel Preserve\n7795 Arundel Mills Boulevard\nHanover \nCost:\n$5\,000 Diamond Sponsor (10 Tickets)\n$2\,500 Platinum Sponsor (5 Tickets)\n$1\,000 Gold Sponsor (2 Tickets)\n$250 Guest (1 Ticket) \nEvent Information:\nFor more information\, please contact Rice Consulting at 410-838-6355 or email pambeidle@riceconsultingllc.com\nCan purchase tickets online at: https://secure.ngpvan.com/fwwiT0ll5UuCvLw5kj8tqg2 \nChecks can be payable and mailed to:\nFriends of Pam Beidle\nc/o Rice Consulting\n17 W. Courtland Street\nSuite 210\nBel Air\, Maryland 21014 \nLeonard Beidle\, Treasurer \nChair\, Senate Finance Committee\nDemocrat\nDistrict 32\nAnne Arundel County
URL:https://www.smwpa.com/event/senator-pam-beidles-breakfast-reception-fundraiser/
CATEGORIES:Fundraisers
END:VEVENT
BEGIN:VEVENT
DTSTART;TZID=America/New_York:20250520T170000
DTEND;TZID=America/New_York:20250520T190000
DTSTAMP:20260424T004515
CREATED:20250508T151513Z
LAST-MODIFIED:20250508T151513Z
UID:6863-1747760400-1747767600@www.smwpa.com
SUMMARY:Senator Will Smith's Pints Policy Politics Fundraiser
DESCRIPTION:Location:\nSilver Branch Brewing Company\n8401 Colesville Road\nSilver Spring \nCost:\nFree Event \nEvent Information:\nFor more information\, please contact will.smith@senate.state.md.us\nCan register online at: https://app.jotform.com/251175355522151?utm_source=share-qr&utm_medium=website&utm_campaign=portal-app&utm_term=251175355522151 \nChair\, Senate Judicial Proceedings Committee\nDemocrat\nDistrict 20\nMontgomery County
URL:https://www.smwpa.com/event/senator-will-smiths-pints-policy-politics-fundraiser/
CATEGORIES:Fundraisers
END:VEVENT
BEGIN:VEVENT
DTSTART;TZID=America/New_York:20250520T180000
DTEND;TZID=America/New_York:20250520T200000
DTSTAMP:20260424T004515
CREATED:20250424T163126Z
LAST-MODIFIED:20250424T170146Z
UID:6837-1747764000-1747771200@www.smwpa.com
SUMMARY:Delegate Andrew Pruski's Post Session Reception Fundraiser
DESCRIPTION:Location:\nCrooked Crab Brewing Company\n8251 Telegraph Road\nSuite D\nOdenton \nCost:\n$1\,500 Stout Sponsor\n$1\,000 IPA Sponsor\n$750 Lager Sponsor\n$500 Pilsner Sponsor\n$150 Individual Sponsor Ticket\n$50 District 33 Resident \nEvent Information:\nFor more information or to RSVP\, please contact pruski22mgr@gmail.com \nHouse Economic Matters Committee\nDemocrat\nDistrict 33A\nAnne Arundel County
URL:https://www.smwpa.com/event/delegate-andrew-pruskis-post-session-reception-3/
CATEGORIES:Fundraisers
END:VEVENT
BEGIN:VEVENT
DTSTART;TZID=America/New_York:20250522T080000
DTEND;TZID=America/New_York:20250522T090000
DTSTAMP:20260424T004515
CREATED:20250424T171712Z
LAST-MODIFIED:20250424T171712Z
UID:6858-1747900800-1747904400@www.smwpa.com
SUMMARY:Delegate Mike Rogers' Breakfast Fundraiser
DESCRIPTION:Location:\nMaritime Conference Center\n692 Maritime Boulevard\nLinthicum Heights \nCost:\n$2\,500 Host\n$1\,500 Co-Host\n$1\,000 Sponsor\n$500 Advocate\n$250 Patron\n$125 Guest \nEvent Information:\nFor more information\, please contact media@votemikerogers.com \nChecks can be payable and mailed to:\nMike Rogers Campaign Committee\n8613 Indian Springs Road\nLaurel\, MD 20724 \nAntonio Downing\, Treasurer \nHouse Economic Matters Committee\nDemocrat\nDistrict 32\nAnne Arundel County
URL:https://www.smwpa.com/event/delegate-mike-rogers-breakfast-fundraiser-6/
CATEGORIES:Fundraisers
END:VEVENT
BEGIN:VEVENT
DTSTART;TZID=America/New_York:20250523T080000
DTEND;TZID=America/New_York:20250523T100000
DTSTAMP:20260424T004515
CREATED:20250424T163429Z
LAST-MODIFIED:20250424T163429Z
UID:6839-1747987200-1747994400@www.smwpa.com
SUMMARY:Senator Johnny Ray Salling's Annual Breakfast Fundraiser
DESCRIPTION:Location:\nThe Costas Inn\n4100 North Point Boulevard\nDundalk \nCost:\n$5\,000 Platinum Sponsor\n$2\,500 Gold Sponsor\n$1\,000 Silver Sponsor\n$500 Bronze Sponsor\n$50 Per Person \nEvent Information:\nTo purchase tickets\, please contact Roger Locklear at 410-977-8025 \nSenate Budget and Taxation Committee\nRepublican\nDistrict 6\nBaltimore County
URL:https://www.smwpa.com/event/senator-johnny-ray-sallings-annual-breakfast-fundraiser-2/
CATEGORIES:Fundraisers
END:VEVENT
BEGIN:VEVENT
DTSTART;TZID=America/New_York:20250531T140000
DTEND;TZID=America/New_York:20250531T160000
DTSTAMP:20260424T004515
CREATED:20250424T163906Z
LAST-MODIFIED:20250424T163906Z
UID:6841-1748700000-1748707200@www.smwpa.com
SUMMARY:Delegate Marc Korman's Fundraiser
DESCRIPTION:Location:\nThe Home of Steve and Sandy Foote\nAddress Available Upon RSVP\nBethesda \nCost:\n$500 Golden Gloves\n$250 Silver Sluggers\n$100 General Admission\n$25 Young Democrats \nEvent Information:\nFor more information\, please contact marc@marckorman.com\nCan purchase tickets online at: https://secure.actblue.com/donate/korman-2025 \nChair\, House Environment and Transportation Committee\nDemocrat\nDistrict 16\nMontgomery County
URL:https://www.smwpa.com/event/delegate-marc-kormans-fundraiser-4/
CATEGORIES:Fundraisers
END:VEVENT
BEGIN:VEVENT
DTSTART;TZID=America/New_York:20250531T170000
DTEND;TZID=America/New_York:20250531T200000
DTSTAMP:20260424T004515
CREATED:20250508T152302Z
LAST-MODIFIED:20250508T152302Z
UID:6865-1748710800-1748721600@www.smwpa.com
SUMMARY:Delegate Kym Taylor's Boots on the Ground Fundraiser
DESCRIPTION:Location:\nAroma Ultra Lounge\n4000 Town Center Boulevard\nBowie \nCost:\n$100 General Admission \nEvent Information:\nCan purchase tickets online at: https://secure.actblue.com/donate/kt2025summerfundraiser \nChecks can be payable and mailed to:\nFriends for Kym Taylor\n3540 Crain Highway\nSuite 153\nBowie\, MD 20716 \nVivian P. Jenkins\, CPA\, Treasurer \nHouse Judiciary Committee\nDemocrat\nDistrict 23\nPrince George’s County
URL:https://www.smwpa.com/event/delegate-kym-taylors-boots-on-the-ground-fundraiser/
CATEGORIES:Fundraisers
END:VEVENT
END:VCALENDAR