BEGIN:VCALENDAR
VERSION:2.0
PRODID:-//SCHWARTZ, METZ &amp; WISE, P.A. - ECPv6.13.2.1//NONSGML v1.0//EN
CALSCALE:GREGORIAN
METHOD:PUBLISH
X-ORIGINAL-URL:https://www.smwpa.com
X-WR-CALDESC:Events for SCHWARTZ, METZ &amp; WISE, P.A.
REFRESH-INTERVAL;VALUE=DURATION:PT1H
X-Robots-Tag:noindex
X-PUBLISHED-TTL:PT1H
BEGIN:VTIMEZONE
TZID:America/New_York
BEGIN:DAYLIGHT
TZOFFSETFROM:-0500
TZOFFSETTO:-0400
TZNAME:EDT
DTSTART:20260308T070000
END:DAYLIGHT
BEGIN:STANDARD
TZOFFSETFROM:-0400
TZOFFSETTO:-0500
TZNAME:EST
DTSTART:20261101T060000
END:STANDARD
END:VTIMEZONE
BEGIN:VEVENT
DTSTART;TZID=America/New_York:20260109T153000
DTEND;TZID=America/New_York:20260109T170000
DTSTAMP:20260424T004555
CREATED:20251124T230952Z
LAST-MODIFIED:20251124T230952Z
UID:7402-1767972600-1767978000@www.smwpa.com
SUMMARY:Senator Dawn Gile's Pre-Session Happy Hour Fundraiser
DESCRIPTION:Location:\nRed Red Wine Bar + Bistro\n189 B Main Street\nAnnapolis \nCost:\n$2\,500 Happy Hour Host\n$1\,000 Cheers Champ\n$250 Toast Trustee \nEvent Information:\nFor more information\, please contact Rice Consulting at 410-838-6355 or email dawngile@riceconsultingllc.com\nCan purchase tickets online at: https://secure.ngpvan.com/Ja480fe_K0WS1jJ0ZANVHw2?ref=2026-01-09+RedRedWine&sourceid=1112776&amtOpts=&recurringAmtOpts=&am=&recurringAm=&is_optimized_ask=true&left_to_give=&emci=d29ccd47-69c9-f011-8196-6045bdfe8e9c&emdi=9b1a553a-87c9-f011-8196-6045bdfe8e9c&ceid=24742503 \nChecks can be payable and mailed to:\nCommittee to Elect Dawn Gile\nc/o Rice Consulting\n17 W. Courtland Street\nSuite 210\nBel Air\, MD 21014 \nCara O’Brien\, Treasurer \nSenate Finance Committee\nDemocrat\nDistrict 33\nAnne Arundel County
URL:https://www.smwpa.com/event/senator-dawn-giles-pre-session-happy-hour-fundraiser-3/
CATEGORIES:Fundraisers
END:VEVENT
BEGIN:VEVENT
DTSTART;TZID=America/New_York:20260109T160000
DTEND;TZID=America/New_York:20260109T173000
DTSTAMP:20260424T004555
CREATED:20260105T194936Z
LAST-MODIFIED:20260105T194936Z
UID:7559-1767974400-1767979800@www.smwpa.com
SUMMARY:Senator Malcolm Augustine's Reception Fundraiser
DESCRIPTION:Location:\nHarry Browne’s\n66 State Circle\nAnnapolis \nCost:\n$2\,500 Co-Host\n$1\,000 Sponsor\n$500 Champion\n$250 Supporter\n$100 Friend \nEvent Information:\nFor more information\, please contact manager@malcolmaugustine.com\nCan purchase tickets online at: https://secure.actblue.com/donate/augustine010926 \nChecks can be payable and mailed to:\nFriends of Malcolm Augustine\nP.O. Box 272\nBladensburg\, MD 20710 \nLauren Augustine\, Treasurer \nSenate Budget and Taxation Committee\nSenate President Pro Tem\nDemocrat\nDistrict 47\nPrince George’s County
URL:https://www.smwpa.com/event/senator-malcolm-augustines-reception-fundraiser-2/
CATEGORIES:Fundraisers
END:VEVENT
BEGIN:VEVENT
DTSTART;TZID=America/New_York:20260109T180000
DTEND;TZID=America/New_York:20260109T200000
DTSTAMP:20260424T004555
CREATED:20251119T174042Z
LAST-MODIFIED:20251119T174042Z
UID:7386-1767981600-1767988800@www.smwpa.com
SUMMARY:Delegate Kym Taylor's Driving Fore Success Fundraiser
DESCRIPTION:Location:\nThe Lab 301\n17341 Melford Boulevard\nSuite C\nBowie \nCost:\n$1\,000 Hole in One\n$500 Eagle\n$250 Birdie\n$100 Par\n$50 Mulligan\n$25 Senior Tee (65 years or older) \nEvent Information:\nCan purchase tickets online at: https://secure.actblue.com/donate/golf2026fundraiser \nHouse Judiciary Committee\nDemocrat\nDistrict 23\nPrince George’s County
URL:https://www.smwpa.com/event/delegate-kym-taylors-driving-fore-success-fundraiser/
CATEGORIES:Fundraisers
END:VEVENT
BEGIN:VEVENT
DTSTART;TZID=America/New_York:20260110T120000
DTEND;TZID=America/New_York:20260110T133000
DTSTAMP:20260424T004555
CREATED:20260105T093351Z
LAST-MODIFIED:20260105T093351Z
UID:7519-1768046400-1768051800@www.smwpa.com
SUMMARY:Senator Alonzo Washington's New Year's Brunch Fundraiser
DESCRIPTION:Location:\nDenizens Brewing Co.\n4550 Van Buren Street\nRiverdale Park \nCost:\n$2\,500 Host Committee\n$1\,000 Lead Supporter\n$500 Patron\n$250 Friend \nEvent Information:\nFor more information\, please contact info@alonzowashington.com\nCan purchase tickets online at: https://secure.actblue.com/donate/alonzowashingtonnewyearsbrunch\nRSVP is required to attend. Space is limited. \nChecks can be payable and mailed to:\nFriends of Alonzo Washington\nP.O. Box 355\nHyattsville\, MD 20781 \nCierra Washington\, Treasurer \nSenate Finance Committee\nDemocrat\nDistrict 22\nPrince George’s County
URL:https://www.smwpa.com/event/senator-alonzo-washingtons-new-years-brunch-fundraiser/
CATEGORIES:Fundraisers
END:VEVENT
BEGIN:VEVENT
DTSTART;TZID=America/New_York:20260110T120000
DTEND;TZID=America/New_York:20260110T140000
DTSTAMP:20260424T004555
CREATED:20260105T195830Z
LAST-MODIFIED:20260105T195830Z
UID:7561-1768046400-1768053600@www.smwpa.com
SUMMARY:Delegate Teresa Woorman's Meet & Greet Fundraiser
DESCRIPTION:Location:\nAddress provided upon RSVP\nBethesda \nCost:\n$1\,000 Host\n$500 Advocate\n$250 Friends and Family\n$100 Supporter\n$25 Young Democrats\n$16 District 16 Resident \nEvent Information:\nCan purchase tickets online at: https://secure.actblue.com/donate/woorman011026 \nChecks can be payable and mailed to:\nTeresa Woorman for Maryland\n9105 Willow Gate Lane\nBethesda\, MD 20817 \nMatthew Woorman\, Treasurer \nHouse Health Committee\nDemocrat\nDistrict 16\nMontgomery County
URL:https://www.smwpa.com/event/delegate-teresa-woormans-meet-greet-fundraiser/
CATEGORIES:Fundraisers
END:VEVENT
BEGIN:VEVENT
DTSTART;TZID=America/New_York:20260111T130000
DTEND;TZID=America/New_York:20260111T143000
DTSTAMP:20260424T004555
CREATED:20260105T200803Z
LAST-MODIFIED:20260105T200803Z
UID:7563-1768136400-1768141800@www.smwpa.com
SUMMARY:Senate Karen Lewis Young's New Year New Session Brunch Gathering Fundraiser
DESCRIPTION:Location:\n7th Sister Restaurant\n228 North Market Street\nFrederick \nCost:\n$2\,500 Champion\n$1\,000 Supporter\n$500 Advocate\n$250 Friend\n$100 Guest \nEvent Information:\nCan donate online at: https://secure.actblue.com/donate/friends-of-karen-lewis-young-1 \nSenate Budget and Taxation Committee\nDemocrat\nDistrict 3\nFrederick County
URL:https://www.smwpa.com/event/senate-karen-lewis-youngs-new-year-new-session-brunch-gathering-fundraiser/
CATEGORIES:Fundraisers
END:VEVENT
BEGIN:VEVENT
DTSTART;TZID=America/New_York:20260112T080000
DTEND;TZID=America/New_York:20260112T100000
DTSTAMP:20260424T004555
CREATED:20251230T160735Z
LAST-MODIFIED:20251230T160735Z
UID:7504-1768204800-1768212000@www.smwpa.com
SUMMARY:House Speaker Joseline Pena-Melnyk's Pre-Session Reception Fundraiser
DESCRIPTION:Location:\nGovernor Calvert House\n58 State Circle\nAnnapolis \nCost:\n$6\,000 Host\n$3\,000 Sponsor\n$2\,000 Supporter\n$1\,000 Patron\n$500 Friend\n$250 Guest \nEvent Information:\nFor more information\, please contact Rice Consulting at 410-838-6355 or email joseline@riceconsultingllc.com\nCan contribute online at: https://secure.actblue.com/donate/speaker2601012 \nChecks can be payable and mailed to:\nFriends of Joseline Pena-Melnyk\nc/o Rice Consulting\n17 W. Courtland Street\nSuite 210\nBel Air\, MD 21014 \nMarkian Melnyk\, Treasurer \nSpeaker of the House of Delegates\nDemocrat\nDistrict 21\nAnne Arundel and Prince George’s County
URL:https://www.smwpa.com/event/house-speaker-joseline-pena-melnyks-pre-session-reception-fundraiser/
CATEGORIES:Fundraisers
END:VEVENT
BEGIN:VEVENT
DTSTART;TZID=America/New_York:20260112T083000
DTEND;TZID=America/New_York:20260112T093000
DTSTAMP:20260424T004555
CREATED:20251210T181515Z
LAST-MODIFIED:20251210T181515Z
UID:7473-1768206600-1768210200@www.smwpa.com
SUMMARY:Delegate Heather Bagnall's Pre-Session Breakfast Fundraiser
DESCRIPTION:Location:\nChick & Ruth’s Delly\n165 Main Street\nAnnapolis \nCost:\n$5\,000 Host\n$2\,500 Co-Host\n$1\,000 Sponsor\n$500 Community Leader\n$250 Supporter\n$50 Community Member \nEvent Information:\nFor more information\, please contact heatherbagnallfordelegate@gmail.com\nCan purchase tickets online at: https://secure.actblue.com/donate/breakfast-with-bagnall-2026 \nChecks can be payable and mailed to:\nCitizens for Heather Bagnall\n1521 Ritchie Highway\nP.O. Box 129\nArnold\, MD 21012 \nLuke Tudball\, Treasurer \nHouse Health and Government Operations Committee\nDemocrat\nDistrict 33C\nAnne Arundel County
URL:https://www.smwpa.com/event/delegate-heather-bagnalls-pre-session-breakfast-fundraiser/
CATEGORIES:Fundraisers
END:VEVENT
BEGIN:VEVENT
DTSTART;TZID=America/New_York:20260112T093000
DTEND;TZID=America/New_York:20260112T110000
DTSTAMP:20260424T004555
CREATED:20251215T165416Z
LAST-MODIFIED:20251215T165416Z
UID:7497-1768210200-1768215600@www.smwpa.com
SUMMARY:Senator Justin Ready's Legislative Breakfast Event Fundraiser
DESCRIPTION:Location:\nGovernor Calvert House\nJonas Green Room\n58 State Circle\nAnnapolis \nCost:\n$2\,000 Platinum Level Sponsorship\n$1\,000 Gold Level Sponsorship\n$500 Silver Sponsorship\n$250 Per Ticket \nEvent Information:\nFor more information or to RSVP\, please contact Emily Van Horn at 410-596-0037 or 443-974-2079 or email epvanhorn@icloud.com\nCan purchase tickets online at: https://secure.anedot.com/friends-of-justin-ready/presession2026\nPlease RSVP by Friday\, January 9 \nChecks can be payable and mailed to:\nFriends of Justin Ready\nP.O. Box 402\nWestminster\, MD 21158 \nRebecca Alford Ready\, Treasurer \nSenate Finance Committee\nSenate Minority Whip\nRepublican\nDistrict 5\nCarroll and Frederick County
URL:https://www.smwpa.com/event/senator-justin-readys-legislative-breakfast-event-fundraiser/
CATEGORIES:Fundraisers
END:VEVENT
BEGIN:VEVENT
DTSTART;TZID=America/New_York:20260112T110000
DTEND;TZID=America/New_York:20260112T123000
DTSTAMP:20260424T004555
CREATED:20260105T100124Z
LAST-MODIFIED:20260105T100124Z
UID:7524-1768215600-1768221000@www.smwpa.com
SUMMARY:Delegate Ashanti Martinez's Reception Fundraiser
DESCRIPTION:Location:\nBlack Pearl Lounge\n86 State Circle\nAnnapolis \nCost:\n$2\,500 Sponsor\n$1\,000 Supporter\n$500 Friend\n$250 Guest\n$25 Young Professional \nEvent Information:\nFor more information\, please contact ashanti@ashantimartinez.com\nCan purchase tickets online at: https://secure.actblue.com/donate/MEET-THE-WHIP \nChecks can be payable and mailed to:\nFriends of Ashanti Martinez\nP.O. Box 203\nHyattsville\, MD 20781 \nKenyarn Maxfield\, Treasurer \nHouse Health and Government Operations Committee\nDemocrat\nDistrict 22\nPrince George’s County
URL:https://www.smwpa.com/event/delegate-ashanti-martinezs-reception-fundraiser/
CATEGORIES:Fundraisers
END:VEVENT
BEGIN:VEVENT
DTSTART;TZID=America/New_York:20260112T113000
DTEND;TZID=America/New_York:20260112T123000
DTSTAMP:20260424T004555
CREATED:20260105T201320Z
LAST-MODIFIED:20260105T201320Z
UID:7565-1768217400-1768221000@www.smwpa.com
SUMMARY:Delegate Marlon Amprey's Pre-Session Fundraiser
DESCRIPTION:Location:\nDry 85\n193 B Main Street\nAnnapolis \nCost:\n$2\,500 Diamond Sponsor\n$1\,000 Platinum Sponsor\n$500 Gold Sponsor\n$250 Silver Sponsor\n$100 Supporter \nEvent Information:\nFor more information\, please contact Haley at haley@martinlauer.com\nCan purchase tickets online at: https://secure.actblue.com/donate/jan.12.26 \nChecks can be payable and mailed to:\nCitizens for Marlon Amprey\n1215 E Fort Ave.\nSuite 106\nBaltimore\, MD 21230 \nDominique Watson\, Treasurer \nHouse Economic Matters Committee\nDemocrat\nDistrict 40\nBaltimore City
URL:https://www.smwpa.com/event/delegate-marlon-ampreys-pre-session-fundraiser/
CATEGORIES:Fundraisers
END:VEVENT
BEGIN:VEVENT
DTSTART;TZID=America/New_York:20260112T120000
DTEND;TZID=America/New_York:20260112T140000
DTSTAMP:20260424T004555
CREATED:20260105T201705Z
LAST-MODIFIED:20260105T201705Z
UID:7567-1768219200-1768226400@www.smwpa.com
SUMMARY:Delegate Tiffany Alston's New Year's Fiesta Fundraiser
DESCRIPTION:Location:\nPICANTE\n48 West Street\nAnnapolis \nCost:\n$5\,000 Platinum\n$2\,500 Gold\n$1\,000 Silver\n$500 Bronze\n$250 Friend \nEvent Information:\nFor more information\, please contact 443-869-3582 or events@karenmillerconsulting.com\nCan donate online at: https://secure.actblue.com/donate/tiffanyalston \nHouse Health Committee\nDemocrat\nDistrict 24\nPrince George’s County
URL:https://www.smwpa.com/event/delegate-tiffany-alstons-new-years-fiesta-fundraiser/
CATEGORIES:Fundraisers
END:VEVENT
BEGIN:VEVENT
DTSTART;TZID=America/New_York:20260112T123000
DTEND;TZID=America/New_York:20260112T133000
DTSTAMP:20260424T004555
CREATED:20260105T202151Z
LAST-MODIFIED:20260105T202151Z
UID:7569-1768221000-1768224600@www.smwpa.com
SUMMARY:Senator Carl Jackson's Pre-Session Fundraiser
DESCRIPTION:Location:\nDry 85\n193 B Main Street\nAnnapolis \nCost:\n$2\,500 Champion\n$1\,000 Sponsor\n$500 Host\n$250 Supporter\n$100 Guest \nEvent Information:\nFor more information\, please contact Haley at haley@martinlauer.com\nCan purchase tickets online at: https://secure.actblue.com/donate/1.12.26 \nChecks can be payable and mailed to:\nCitizens for Carl Jackson\n1215 E Fort Ave.\nSuite 106\nBaltimore\, MD 21230 \nKenya Battle-Malone Treasurer \nSenate Finance Committee\nDemocrat\nDistrict 8\nBaltimore County
URL:https://www.smwpa.com/event/senator-carl-jacksons-pre-session-fundraiser/
CATEGORIES:Fundraisers
END:VEVENT
BEGIN:VEVENT
DTSTART;TZID=America/New_York:20260112T133000
DTEND;TZID=America/New_York:20260112T143000
DTSTAMP:20260424T004555
CREATED:20251209T204451Z
LAST-MODIFIED:20251209T204451Z
UID:7463-1768224600-1768228200@www.smwpa.com
SUMMARY:Delegate Kim Ross's New Year's Pre-Session Fundraiser
DESCRIPTION:Location:\nDry 85\n193 B Main Street\nAnnapolis \nCost:\n$1\,000\n$500\n$250\n$100\n$50 \nEvent Information:\nFor more information or to RSVP\, please contact Tyler at tmay@martinlauer.com\nCan purchase tickets online at: https://secure.actblue.com/donate/ross-jan-12 \nChecks can be payable and mailed to:\nKim Ross for Maryland\n1215 E. Fort Ave.\nSuite 106\nBaltimore\, MD 21230 \nIBN Green\, Treasurer \nHouse Health and Government Operations Committee\nDemocrat\nDistrict 8\nBaltimore County
URL:https://www.smwpa.com/event/delegate-kim-rosss-new-years-pre-session-fundraiser/
CATEGORIES:Fundraisers
END:VEVENT
BEGIN:VEVENT
DTSTART;TZID=America/New_York:20260112T143000
DTEND;TZID=America/New_York:20260112T160000
DTSTAMP:20260424T004555
CREATED:20260105T095504Z
LAST-MODIFIED:20260105T095504Z
UID:7522-1768228200-1768233600@www.smwpa.com
SUMMARY:Delegate Nicole Williams' Reception Fundraiser
DESCRIPTION:Location:\nThe Parley Room\n25 State Circle\nAnnapolis \nCost:\n$1\,000 Co-Host\n$500 Sponsor\n$250 Friend\n$100 Guest \nEvent Information:\nFor more information\, please contact Jack Henschen at 410-366-3940 or email joh@helloadeo.com\nCan purchase tickets online at: https://secure.ngpvan.com/TLlWu8-IkEGfj08m1uVsGw2?emci=b97704f3-c5e5-f011-8195-000d3a1d58aa&emdi=eaa6b04a-c7e5-f011-8195-000d3a1d58aa&ceid=24724295 \nChecks can be payable and mailed to:\nFriends of Nicole Williams\n711 W. 40th Street\nSuite 330\nBaltimore\, MD 21211 \nRobert L. Williams\, Treasurer \nHouse Judiciary Committee\nDemocrat\nDistrict 22\nPrince George’s County
URL:https://www.smwpa.com/event/delegate-nicole-williams-reception-fundraiser/
CATEGORIES:Fundraisers
END:VEVENT
BEGIN:VEVENT
DTSTART;TZID=America/New_York:20260112T160000
DTEND;TZID=America/New_York:20260112T173000
DTSTAMP:20260424T004556
CREATED:20260105T205321Z
LAST-MODIFIED:20260105T205321Z
UID:7571-1768233600-1768239000@www.smwpa.com
SUMMARY:Delegate Andrea Fletcher Harrison's Pre-Session Happy Hour Fundraiser
DESCRIPTION:Location:\nRed Red Wine Bar + Bistro\n189 B Main Street\nAnnapolis \nCost:\n$1\,250 Aroma\n$500 Balance\n$250 Crisp\n$150 Full \nEvent Information:\nFor more information\, please contact Rice Consulting at 410-838-6355 or email andreaharrison@riceconsultingllc.com\nCan purchase tickets online at: https://secure.ngpvan.com/rwibwlVnikS1pfafdBmLhw2 \nChecks can be payable and mailed to:\nFriends of Andrea Harrison\nc/o Rice Consulting\n17 W. Courtland Street\nSuite 210\nBel Air\, MD 21014 \nCharles C. Harrison\, Treasurer \nHouse Appropriations Committee\nDemocrat\nDistrict 24\nPrince George’s County
URL:https://www.smwpa.com/event/delegate-andrea-fletcher-harrisons-pre-session-happy-hour-fundraiser/
CATEGORIES:Fundraisers
END:VEVENT
BEGIN:VEVENT
DTSTART;TZID=America/New_York:20260112T163000
DTEND;TZID=America/New_York:20260112T183000
DTSTAMP:20260424T004556
CREATED:20251002T154742Z
LAST-MODIFIED:20251002T154742Z
UID:7218-1768235400-1768242600@www.smwpa.com
SUMMARY:Delegate David Moon's Pre-Session Reception Fundraiser
DESCRIPTION:Location:\nGameOn Bar & Arcade\n114 West Street\nAnnapolis \nCost:\n$2\,000 Champion\n$1\,000 Sponsor\n$500 Host\n$250 Friend\n$100 Individual Ticket \nEvent Information:\nFor more information\, please contact david@davidmoon.us\nCan purchase tickets online at: https://secure.actblue.com/donate/annapolis2026 \nChecks can be payable and mailed to:\nFriends of David Moon\n125 Geneva Avenue\nSilver Spring\, MD 20910 \nNathaniel Giddings\, Treasurer \nHouse Judiciary Committee\nHouse Majority Leader\nDemocrat\nDistrict 20\nMontgomery County
URL:https://www.smwpa.com/event/delegate-david-moons-pre-session-reception-fundraiser/
CATEGORIES:Fundraisers
END:VEVENT
BEGIN:VEVENT
DTSTART;TZID=America/New_York:20260112T170000
DTEND;TZID=America/New_York:20260112T180000
DTSTAMP:20260424T004556
CREATED:20251210T182224Z
LAST-MODIFIED:20251210T182224Z
UID:7475-1768237200-1768240800@www.smwpa.com
SUMMARY:Delegate Malcolm Ruff's Pre-Session Fundraiser
DESCRIPTION:Location:\nHarry Browne’s\n66 State Circle\nAnnapolis \nCost:\n$2\,500 Host\n$1\,000 Sponsor\n$500 Friend\n$250 Guest \nEvent Information:\nFor more information\, please contact rsvp@mellingergroup.com\nCan purchase tickets online at: https://secure.actblue.com/donate/mpr-pre-session-jan2026 \nChecks can be payable and mailed to:\nCommittee For Malcolm Ruff\nP.O. Box 22067\nBaltimore\, MD 21203 \nJamal Turner\, Treasurer \nHouse Appropriations Committee\nCandidate for Senate\nDemocrat\nDistrict 41\nBaltimore City
URL:https://www.smwpa.com/event/delegate-malcolm-ruffs-pre-session-fundraiser-2/
CATEGORIES:Fundraisers
END:VEVENT
BEGIN:VEVENT
DTSTART;TZID=America/New_York:20260112T170000
DTEND;TZID=America/New_York:20260112T183000
DTSTAMP:20260424T004556
CREATED:20251110T190432Z
LAST-MODIFIED:20251110T190432Z
UID:7350-1768237200-1768242600@www.smwpa.com
SUMMARY:Delegate Dana Stein's Reception Fundraiser
DESCRIPTION:Location:\nThe Maryland Inn\nDuke of Gloucester Room\n16 Church Circle\nAnnapolis \nCost:\n$2\,500 Host\n$1\,000 Sponsor\n$500 Patron\n$250 Supporter\n$125 Guest \nEvent Information:\nFor more information or to RSVP\, please contact Tafor at ta@helloadeo.com\nCan purchase tickets online at: https://secure.ngpvan.com/AR_CyNd0eE-Vb6F3IQl94A2 \nHouse Environment and Transportation Committee\nHouse Speaker Pro Tem\nDemocrat\nDistrict 11B\nBaltimore County
URL:https://www.smwpa.com/event/delegate-dana-steins-reception-fundraiser-3/
CATEGORIES:Fundraisers
END:VEVENT
BEGIN:VEVENT
DTSTART;TZID=America/New_York:20260112T173000
DTEND;TZID=America/New_York:20260112T183000
DTSTAMP:20260424T004556
CREATED:20251203T020059Z
LAST-MODIFIED:20251203T020059Z
UID:7446-1768239000-1768242600@www.smwpa.com
SUMMARY:Senator Brian Feldman's Evening Reception Fundraiser
DESCRIPTION:Location:\nHarry Browne’s\n66 State Circle\nAnnapolis \nCost:\n$1\,000 Host\n$500 Sponsor\n$250 Friend \nEvent Information:\nFor more information\, please contact Stephanie at stephanie@mellingergroup.com\nCan purchase tickets online at: https://brianjfeldman.com/contribute/ \nChecks can be payable and mailed to:\nCitizens for Brian Feldman\nP.O. Box 34408\nBethesda\, MD 20827 \nElaine Garson\, Treasurer \nChair\, Senate Education\, Energy\, and the Environment Committee\nDemocrat\nDistrict 15\nMontgomery County
URL:https://www.smwpa.com/event/senator-brian-feldmans-evening-reception-fundraiser-3/
CATEGORIES:Fundraisers
END:VEVENT
BEGIN:VEVENT
DTSTART;TZID=America/New_York:20260112T173000
DTEND;TZID=America/New_York:20260112T183000
DTSTAMP:20260424T004556
CREATED:20251210T184329Z
LAST-MODIFIED:20251210T184329Z
UID:7477-1768239000-1768242600@www.smwpa.com
SUMMARY:Delegate Jheanelle Wilkins' Pre-Session Fundraiser
DESCRIPTION:Location:\nHarry Browne’s\n66 State Circle\nAnnapolis \nCost:\n$3\,000 Changemaker\n$2\,000 Advocate\n$1\,000 Leader\n$500 Supporter\n$250 Friend \nEvent Information:\nFor more information\, please contact rsvp@mellingergroup.com\nCan purchase tickets online at: https://secure.actblue.com/donate/wilkinsjan122026 \nChecks can be payable and mailed to:\nFriends of Jheanelle Wilkins\nP.O. Box 7601\nSilver Spring\, MD 20901 \nJulio Ceron\, Treasurer \nVice-Chair\, House Ways and Means Committee\nDemocrat\nDistrict 20\nMontgomery County
URL:https://www.smwpa.com/event/delegate-jheanelle-wilkins-pre-session-fundraiser-2/
CATEGORIES:Fundraisers
END:VEVENT
BEGIN:VEVENT
DTSTART;TZID=America/New_York:20260112T173000
DTEND;TZID=America/New_York:20260112T183000
DTSTAMP:20260424T004556
CREATED:20251210T185736Z
LAST-MODIFIED:20251210T185736Z
UID:7479-1768239000-1768242600@www.smwpa.com
SUMMARY:Delegate Kris Valderrama's Reception Fundraiser
DESCRIPTION:Location:\nHarry Browne’s\n66 State Circle\nAnnapolis \nCost:\n$2\,000 Platinum Sponsor\n$1\,000 Host\n$500 Sponsor\n$250 Friend \nEvent Information:\nFor more information\, please contact rsvp@mellingergroup.com\nCan purchase tickets online at: https://secure.actblue.com/donate/kvjan122026 \nChecks can be payable and mailed to:\nCitizens for Kris Valderrama\nP.O. Box 1165\nFort Washington\, MD 20749 \nAbraham Lobo\, Treasurer \nHouse Economic Matters Committee\nDemocrat\nDistrict 26\nPrince George’s County
URL:https://www.smwpa.com/event/delegate-kris-valderramas-reception-fundraiser/
CATEGORIES:Fundraisers
END:VEVENT
BEGIN:VEVENT
DTSTART;TZID=America/New_York:20260112T173000
DTEND;TZID=America/New_York:20260112T183000
DTSTAMP:20260424T004556
CREATED:20251210T194000Z
LAST-MODIFIED:20251210T194000Z
UID:7481-1768239000-1768242600@www.smwpa.com
SUMMARY:Delegate Emily Shetty's Reception Fundraiser
DESCRIPTION:Location:\nHarry Browne’s\n66 State Circle\nAnnapolis \nCost:\n1\,000 Sponsor\n$500 Host\n$250 Friend\n$100 District 18 Resident \nEvent Information:\nFor more information\, please contact rsvp@mellingergroup.com\nCan purchase tickets online at: https://secure.actblue.com/donate/esjan122026 \nChecks can be payable and mailed to:\nFriends of Emily Shetty\n137 Gittings Street\nBaltimore\, MD 21230 \nBob Levering\, Treasurer \nHouse Appropriations Committee\nDemocrat\nDistrict 18\nMontgomery County
URL:https://www.smwpa.com/event/delegate-emily-shettys-reception-fundraiser/
CATEGORIES:Fundraisers
END:VEVENT
BEGIN:VEVENT
DTSTART;TZID=America/New_York:20260112T173000
DTEND;TZID=America/New_York:20260112T193000
DTSTAMP:20260424T004556
CREATED:20260105T210159Z
LAST-MODIFIED:20260105T210159Z
UID:7573-1768239000-1768246200@www.smwpa.com
SUMMARY:Senator Johnny Mautz's Pre-Session Reception Fundraiser
DESCRIPTION:Location:\nAmerican Legion Post 91\n98 Sunburst Highway\nCambridge \nCost:\n$6\,000 Diamond Sponsor\n$2\,500 Platinum Sponsor\n$1\,500 Gold Sponsor\n$1\,000 Silver Sponsor\n$500 Bronze Sponsor\n$75 Per Couple\n$50 Per Person \nEvent Information:\nFor more information\, please contact Megan Miller at 410-310-9954 or email campaign@johnnymautz.com\nCan purchase tickets online at: https://secure.anedot.com/friends-of-johnny-mautz/january_reception_2026 \nChecks can be payable and mailed to:\nFriends of Johnny Mautz\nP.O. Box 33\nSt. Michaels\, MD 21663 \nRendy Lomax\, Treasurer \nSenate Finance Committee\nRepublican\nDistrict 37\nCaroline\, Dorchester\, Talbot\, and Wicomico County
URL:https://www.smwpa.com/event/senator-johnny-mautzs-pre-session-reception-fundraiser/
CATEGORIES:Fundraisers
END:VEVENT
BEGIN:VEVENT
DTSTART;TZID=America/New_York:20260112T173000
DTEND;TZID=America/New_York:20260112T200000
DTSTAMP:20260424T004556
CREATED:20251105T201115Z
LAST-MODIFIED:20251105T201115Z
UID:7335-1768239000-1768248000@www.smwpa.com
SUMMARY:Senate President Bill Ferguson's President's Dinner Fundraiser
DESCRIPTION:Location:\nCinghiale\n822 Lancaster Street\nBaltimore \nCost:\n$5\,000 Per Seat \nEvent Information:\nFor more information\, please contact Sophia Silbergeld at 443-857-0479 or email ss@helloadeo.com\nCan purchase tickets online at: https://www.billformd.com/presidentsdinner/\nSeating is very limited and on a first-come first-served basis. RSVP is required. \nChecks can be payable and mailed to:\nCitizens for Bill Ferguson\nc/o Adeo Advocacy\n711 W. 40th Street\nSuite 330\nBaltimore\, MD 21211 \nChristopher Madaio\, Treasurer \nPresident of the Senate\nDemocrat\nDistrict 46\nBaltimore City
URL:https://www.smwpa.com/event/senate-president-bill-fergusons-presidents-dinner-fundraiser/
CATEGORIES:Fundraisers
END:VEVENT
BEGIN:VEVENT
DTSTART;TZID=America/New_York:20260112T180000
DTEND;TZID=America/New_York:20260112T190000
DTSTAMP:20260424T004556
CREATED:20260105T212322Z
LAST-MODIFIED:20260105T212322Z
UID:7575-1768240800-1768244400@www.smwpa.com
SUMMARY:Senator Antonio Hayes' Fundraiser
DESCRIPTION:Location:\nKappa Alpha Psi Youth & Community Center\n1207 Eutaw Place\nBaltimore \nCost:\n$2\,500 Champion\n$1\,000 Community Leader\n$500 Advocate\n$250 Friend\n$100 Guest \nEvent Information:\nFor more information\, please contact Haley at haley@martinlauer.com\nCan purchase tickets online at: https://secure.actblue.com/donate/jan.12.2026 \nChecks can be payable and mailed to:\nCitizens for Antonio Hayes\n1215 E Fort Ave.\nSuite 106\nBaltimore\, MD 21230 \nJoseph A. Powell\, Treasurer \nVice-Chair\, Senate Finance Committee\nDemocrat\nDistrict 40\nBaltimore City
URL:https://www.smwpa.com/event/senator-antonio-hayes-fundraiser-3/
CATEGORIES:Fundraisers
END:VEVENT
BEGIN:VEVENT
DTSTART;TZID=America/New_York:20260112T180000
DTEND;TZID=America/New_York:20260112T190000
DTSTAMP:20260424T004556
CREATED:20260105T212703Z
LAST-MODIFIED:20260105T212703Z
UID:7577-1768240800-1768244400@www.smwpa.com
SUMMARY:Delegate Diana Fennell's Pre-Session Mixer Fundraiser
DESCRIPTION:Location:\nHarry Browne’s\n66 State Circle\nAnnapolis \nCost:\n$1\,000 Champion\n$500 Friend\n$250 Supporter\n$100 Attendee \nEvent Information:\nFor more information\, please contact friends@dianafennell.com\nCan purchase tickets online at: https://secure.actblue.com/donate/dianapresession \nHouse Economic Matters Committee\nDemocrat\nDistrict 47A\nPrince George’s County
URL:https://www.smwpa.com/event/delegate-diana-fennells-pre-session-mixer-fundraiser/
CATEGORIES:Fundraisers
END:VEVENT
BEGIN:VEVENT
DTSTART;TZID=America/New_York:20260112T180000
DTEND;TZID=America/New_York:20260112T193000
DTSTAMP:20260424T004556
CREATED:20251119T174644Z
LAST-MODIFIED:20251119T174644Z
UID:7388-1768240800-1768246200@www.smwpa.com
SUMMARY:Delegate Marc Korman's Fundraiser
DESCRIPTION:Location:\nCalvert House\nJonas Green Room\n58 State Circle\nAnnapolis \nCost:\n$1\,000 Golden Gloves\n$500 Silver Sluggers\n$250 General Admission \nEvent Information:\nFor more information\, please contact marc@marckorman.com\nCan purchase tickets online at: https://secure.actblue.com/donate/kormanannapolis2026 \nChair\, House Environment and Transportation Committee\nDemocrat\nDistrict 16\nMontgomery County
URL:https://www.smwpa.com/event/delegate-marc-kormans-fundraiser-5/
CATEGORIES:Fundraisers
END:VEVENT
BEGIN:VEVENT
DTSTART;TZID=America/New_York:20260112T180000
DTEND;TZID=America/New_York:20260112T193000
DTSTAMP:20260424T004556
CREATED:20251215T164226Z
LAST-MODIFIED:20251215T164226Z
UID:7495-1768240800-1768246200@www.smwpa.com
SUMMARY:Senator Kevin M. Harris' Pre-Session Fundraiser
DESCRIPTION:Location:\nRed Red Wine Bar + Bistro\n189 B Main Street\nAnnapolis \nCost:\n$6\,000 Congratulations\n$4\,000 Champion\n$2\,500 Host\n$1\,000 Supporter\n$500 Friend \nEvent Information:\nFor more information\, please contact info@kevinmharris.org\nCan purchase tickets online at: https://secure.actblue.com/donate/session2026 \nChecks can be payable and mailed to:\nFriends of Kevin M. Harris\n15912 Crain Highway\nUnit 116\nBrandywine\, MD 20613 \nAlim Stick\, Treasurer \nSenate Education\, Energy\, and the Environment Committee (2026 Session)\nHouse Appropriations Committee (2025 Session)\nDemocrat\nDistrict 27\nCalvert\, Charles\, and Prince George’s County
URL:https://www.smwpa.com/event/senator-kevin-m-harris-pre-session-fundraiser/
CATEGORIES:Fundraisers
END:VEVENT
BEGIN:VEVENT
DTSTART;TZID=America/New_York:20260112T180000
DTEND;TZID=America/New_York:20260112T193000
DTSTAMP:20260424T004556
CREATED:20251230T163119Z
LAST-MODIFIED:20251230T163119Z
UID:7506-1768240800-1768246200@www.smwpa.com
SUMMARY:Senator Steve Hershey's Fundraiser
DESCRIPTION:Location:\nParley Room\n25 State Circle\nAnnapolis \nCost:\n$6\,000 Platinum Sponsor\n$4\,000 Gold Sponsor\n$2\,500 Silver Sponsor\n$1\,000 Bronze Sponsor\n$500 Per Ticket \nEvent Information:\nFor more information\, please contact Nicole Ossola at 443-875-3886 or email nicole@ossolaconsulting.com\nCan purchase tickets online at: https://secure.anedot.com/senatorhershey/0112event\nPlease RSVP by Thursday\, January 8 \nChecks can be payable and mailed to:\nFriends of Steve Hershey\nP.O. Box 11\nAnnapolis\, MD 21404 \nJames Appel\, Treasurer \nSenate Finance Committee\nSenate Minority Leader\nRepublican\nDistrict 36\nCaroline\, Cecil\, Kent\, and Queen Anne’s County
URL:https://www.smwpa.com/event/senator-steve-hersheys-fundraiser-3/
CATEGORIES:Fundraisers
END:VEVENT
END:VCALENDAR