BEGIN:VCALENDAR
VERSION:2.0
PRODID:-//SCHWARTZ, METZ &amp; WISE, P.A. - ECPv6.13.2.1//NONSGML v1.0//EN
CALSCALE:GREGORIAN
METHOD:PUBLISH
X-ORIGINAL-URL:https://www.smwpa.com
X-WR-CALDESC:Events for SCHWARTZ, METZ &amp; WISE, P.A.
REFRESH-INTERVAL;VALUE=DURATION:PT1H
X-Robots-Tag:noindex
X-PUBLISHED-TTL:PT1H
BEGIN:VTIMEZONE
TZID:America/New_York
BEGIN:DAYLIGHT
TZOFFSETFROM:-0500
TZOFFSETTO:-0400
TZNAME:EDT
DTSTART:20250309T070000
END:DAYLIGHT
BEGIN:STANDARD
TZOFFSETFROM:-0400
TZOFFSETTO:-0500
TZNAME:EST
DTSTART:20251102T060000
END:STANDARD
END:VTIMEZONE
BEGIN:VEVENT
DTSTART;TZID=America/New_York:20251210T180000
DTEND;TZID=America/New_York:20251210T200000
DTSTAMP:20260425T071829
CREATED:20251105T195424Z
LAST-MODIFIED:20251202T153340Z
UID:7329-1765389600-1765396800@www.smwpa.com
SUMMARY:Senator Joanne Benson's Evening Reception Fundraiser - EVENT POSTPONED
DESCRIPTION:Location:\nThe James R. Cousins Jr. Municipal Building\nGold Room\n8600 Glenarden Parkway\nGlenarden \nCost:\n$1\,000 Platinum Sponsor\n$500 Gold Sponsor\n$250 Silver Sponsor\n$125 Friend\n$40 Senior Citizens \nEvent Information:\nFor more information\, please contact Rice Consulting at 410-838-6355 or email joannebenson@riceconsultingllc.com\nCan purchase tickets online at: https://secure.actblue.com/donate/benson251210?refcode=email_251103_ricengp_calendar \nChecks can be payable and mailed to:\nFriends of Joanne C. Benson\nc/o Rice Consulting\n17 W. Courtland Street\nSuite 210\nBel Air\, MD 21014 \nSaleem Abdul-Mateen\, Treasurer \nSenate Budget and Taxation Committee\nSenate Majority Whip\nDemocrat\nDistrict 24\nPrince George’s County
URL:https://www.smwpa.com/event/senator-joanne-bensons-evening-reception-fundraiser-2/
CATEGORIES:Fundraisers
END:VEVENT
BEGIN:VEVENT
DTSTART;TZID=America/New_York:20251210T173000
DTEND;TZID=America/New_York:20251210T190000
DTSTAMP:20260425T071829
CREATED:20251103T174354Z
LAST-MODIFIED:20251103T174354Z
UID:7313-1765387800-1765393200@www.smwpa.com
SUMMARY:Delegate Pam Lanman Guzzone's Pre-Session Fundraiser
DESCRIPTION:Location:\nHudson Coastal Raw Bar and Grill\n11811 West Market Place\nFulton \nCost:\n$1\,000 Platinum\n$500 Gold\n$250 Silver\n$100 Bronze\n$50 District 13 Resident \nEvent Information:\nFor more information\, please contact Hilary Gibbs at 410-999-5675 or email hilarygibbs443@gmail.com\nCan purchase tickets online at: https://secure.ngpvan.com/ZTj5LBW9BUeRdiOGlc85Cg2?contactdata=wUJJbp0tMz2Cng0Ttnx00rcoK4NSRGtZHI0j97E5FbZAmImyP5hV4CYorZ5osNr99fbSZxRP0xDYxn6LCEbvDpqeW7LZVH4j+Pbm2ZiGLks9Lvq7lKZ+rnmmurd8s+B5&emci=b2cb7651-e2b5-f011-8e61-6045bded8ba4&emdi=e456781b-58b6-f011-8e61-6045bded8ba4&ceid=13029811 \nChecks can be payable and mailed to:\nPeople for Pam\nP.O. Box 201\nSimpsonville\, MD 21150 \nHilary Gibbs\, Treasurer \nHouse Health and Government Operations Committee\nDemocrat\nDistrict 13\nHoward County
URL:https://www.smwpa.com/event/delegate-pam-lanman-guzzones-pre-session-fundraiser-2/
CATEGORIES:Fundraisers
END:VEVENT
BEGIN:VEVENT
DTSTART;TZID=America/New_York:20251209T180000
DTEND;TZID=America/New_York:20251209T200000
DTSTAMP:20260425T071829
CREATED:20251202T165755Z
LAST-MODIFIED:20251202T165755Z
UID:7422-1765303200-1765310400@www.smwpa.com
SUMMARY:Delegate Sean Stinnett's Evening Fundraiser
DESCRIPTION:Location:\nThe Black Olive\n814 S Bond Street\nBaltimore \nCost:\n$2\,500\n$1\,500\n$500\n$150\n$41 \nEvent Information:\nFor more information or to RSVP\, please contact 443-869-3582 or email events@karenmillerconsulting.com\nCan donate online at: https://secure.actblue.com/donate/seanastinnett \nHouse Judiciary Committee\nDemocrat\nDistrict 41\nBaltimore City
URL:https://www.smwpa.com/event/delegate-sean-stinnetts-evening-fundraiser/
CATEGORIES:Fundraisers
END:VEVENT
BEGIN:VEVENT
DTSTART;TZID=America/New_York:20251209T180000
DTEND;TZID=America/New_York:20251209T200000
DTSTAMP:20260425T071829
CREATED:20251202T165007Z
LAST-MODIFIED:20251202T165007Z
UID:7420-1765303200-1765310400@www.smwpa.com
SUMMARY:Delegate Andrew Pruski's Beer/Wine/Spirit Sampling Fundraiser
DESCRIPTION:Location:\nHops and Vines\n8743 Piney Orchard Parkway\n#112 – #113\nOdenton \nCost:\n$500 Gold Sponsor\n$250 Silver Sponsor\n$150 Bronze Sponsor\n$80 Couple’s Ticket\n$50 Individual Ticket \nEvent Information:\nFor more information or to RSVP\, please contact votepruski@gmail.com\nCan purchase tickets online at: https://secure.actblue.com/donate/samplingwithpruski2025 \nHouse Economic Matters Committee\nDemocrat\nDistrict 33A\nAnne Arundel County
URL:https://www.smwpa.com/event/delegate-andrew-pruskis-beer-wine-spirit-sampling-fundraiser/
CATEGORIES:Fundraisers
END:VEVENT
BEGIN:VEVENT
DTSTART;TZID=America/New_York:20251209T180000
DTEND;TZID=America/New_York:20251209T200000
DTSTAMP:20260425T071829
CREATED:20251118T210340Z
LAST-MODIFIED:20251118T210340Z
UID:7371-1765303200-1765310400@www.smwpa.com
SUMMARY:Delegate Nick Allen's Way-Too-Early Army/Navy Tailgate Fundraiser
DESCRIPTION:Location:\nJerry D’s Saloon\n7808 Harford Road\nParkville \nCost:\n$2\,500 Champion\n$1\,000 Host\n$500 Patron\n$250 Sponsor\n$100 Guest \nEvent Information:\nFor more information\, please contact Haley at haley@martinlauer.com\nCan purchase tickets online at: https://secure.actblue.com/donate/armynavy2025 \nChecks can be payable and mailed to:\nFriends of Nicholas Allen\n1215 E Fort Ave.\nSuite 106\nBaltimore\, MD 21230 \nKathleen Jordan\, Treasurer \nHouse Environment and Transportation Committee\nDemocrat\nDistrict 8\nBaltimore County
URL:https://www.smwpa.com/event/delegate-nick-allens-way-too-early-army-navy-tailgate-fundraiser/
CATEGORIES:Fundraisers
END:VEVENT
BEGIN:VEVENT
DTSTART;TZID=America/New_York:20251208T180000
DTEND;TZID=America/New_York:20251208T190000
DTSTAMP:20260425T071829
CREATED:20251118T205447Z
LAST-MODIFIED:20251118T205447Z
UID:7369-1765216800-1765220400@www.smwpa.com
SUMMARY:Delegate Sheila Ruth's 2026 Pre-Session Fundraiser
DESCRIPTION:Location:\nThe Chapel in Catonsville\n600 Frederick Road\nCatonsville \nCost:\n$1\,000 Black Bear\n$500 Blue Heron\n$250 Wood Turtle\n$100 Monarch Butterfly\n$50 Bumble Bee\n$25 Baltimore County Young Democrats Member \nEvent Information:\nCan purchase tickets online at: https://secure.fundhero.com/sheilaruth/winter25 \nChecks can be payable and mailed to:\nFriends of Sheila Ruth\n28 Allegheny Ave\nApt. 2500\nTowson\, MD 21204 \nBonnie K. Smith\, Treasurer \nHouse Environment and Transportation Committee\nDemocrat\nDistrict 44B\nBaltimore County
URL:https://www.smwpa.com/event/delegate-sheila-ruths-2026-pre-session-fundraiser/
CATEGORIES:Fundraisers
END:VEVENT
BEGIN:VEVENT
DTSTART;TZID=America/New_York:20251207T140000
DTEND;TZID=America/New_York:20251207T160000
DTSTAMP:20260425T071829
CREATED:20251110T184251Z
LAST-MODIFIED:20251110T184251Z
UID:7343-1765116000-1765123200@www.smwpa.com
SUMMARY:Delegate Mary Lehman's Merry Mary Fundraiser
DESCRIPTION:Location:\nLaurel Multipurpose Center\n204 Fort Meade Road\nLaurel \nCost:\n$1\,000 Champion\n$500 Sponsor\n$250 Patron\n$100 Friend\n$50 Supporter\n$21 District 21 Resident \nEvent Information:\nFor more information\, please contact Haley at 206-445-9691 or email haley@martinlauer.com\nCan purchase tickets online at: https://secure.actblue.com/donate/merrymary2025 \nChecks can be payable and mailed to:\nCitizens for Mary Lehman\nP.O. Box 376\nLaurel\, MD 20725 \nJeanne Taylor\, Treasurer \nHouse Environment and Transportation Committee\nDemocrat\nDistrict 21\nAnne Arundel and Prince George’s County
URL:https://www.smwpa.com/event/delegate-mary-lehmans-merry-mary-fundraiser-3/
CATEGORIES:Fundraisers
END:VEVENT
BEGIN:VEVENT
DTSTART;TZID=America/New_York:20251207T120000
DTEND;TZID=America/New_York:20251207T160000
DTSTAMP:20260425T071829
CREATED:20251028T202020Z
LAST-MODIFIED:20251028T202020Z
UID:7305-1765108800-1765123200@www.smwpa.com
SUMMARY:Senator Steve Hershey's Fundraiser
DESCRIPTION:Location:\nM&T Bank Stadium\n1101 Russell Street\nBaltimore \nCost:\n$6\,000 Championship Sponsor (3 Tickets)\n$4\,000 Touchdown Sponsor (2 Tickets)\n$2\,500 Per Guest \nEvent Information:\nFor more information\, please contact Nicole at 443-875-3886 or email nicole@ossolaconsulting.com\nCan purchase tickets online at: https://secure.anedot.com/senatorhershey/1207event\nPlease RSVP by mail or web by Sunday\, November 30th\n1:00pm Game Kickoff – Baltimore Ravens vs. Pittsburgh Steelers \nChecks can be payable and mailed to:\nFriends of Steve Hershey\nP.O. Box 11\nAnnapolis\, MD 21404 \nJames Appel\, Treasurer \nSenate Finance Committee\nSenate Minority Leader\nRepublican\nDistrict 36\nCaroline\, Cecil\, Kent\, and Queen Anne’s County
URL:https://www.smwpa.com/event/senator-steve-hersheys-fundraiser-2/
CATEGORIES:Fundraisers
END:VEVENT
BEGIN:VEVENT
DTSTART;TZID=America/New_York:20251206T153000
DTEND;TZID=America/New_York:20251206T170000
DTSTAMP:20260425T071829
CREATED:20251118T204152Z
LAST-MODIFIED:20251118T204152Z
UID:7367-1765035000-1765040400@www.smwpa.com
SUMMARY:Comptroller Brooke Lierman's Anne Arundel County Re-Election Kick-off Fundraiser
DESCRIPTION:Location:\nBlackwall Hitch\n400 Sixth Street\nAnnapolis \nCost:\n$2\,500 Host\n$1\,000 Sponsor\n$500 Friend\n$100 Guest\n$50 Young Dem \nEvent Information:\nFor more information\, please contact Sophia at sophia@brookelierman.com\nCan purchase tickets online at: https://secure.ngpvan.com/hozIXGObzUK5NgjxpSV7Sw2 \nComptroller of Maryland\nDemocrat
URL:https://www.smwpa.com/event/comptroller-brooke-liermans-anne-arundel-county-re-election-kick-off-fundraiser/
CATEGORIES:Fundraisers
END:VEVENT
BEGIN:VEVENT
DTSTART;TZID=America/New_York:20251205T100000
DTEND;TZID=America/New_York:20251205T113000
DTSTAMP:20260425T071829
CREATED:20250909T174003Z
LAST-MODIFIED:20250909T174003Z
UID:7152-1764928800-1764934200@www.smwpa.com
SUMMARY:Delegate Ken Kerr's Re-Election Kickoff Fundraiser
DESCRIPTION:Location:\nClarion Inn Frederick Event Center\n5400 Holiday Drive\nFrederick \nCost:\n$2\,500 Champion\n$1\,000 Host\n$500 Sponsor\n$250 Friend\n$100 Supporter\n$50 Per Ticket \nEvent Information:\nCan purchase tickets online at: https://secure.actblue.com/donate/brunch25 \nHouse Health and Government Operations Committee\nDemocrat\nDistrict 3\nFrederick County
URL:https://www.smwpa.com/event/delegate-ken-kerrs-re-election-kickoff-fundraiser/
CATEGORIES:Fundraisers
END:VEVENT
BEGIN:VEVENT
DTSTART;TZID=America/New_York:20251204T183000
DTEND;TZID=America/New_York:20251204T200000
DTSTAMP:20260425T071829
CREATED:20251202T163703Z
LAST-MODIFIED:20251202T163703Z
UID:7418-1764873000-1764878400@www.smwpa.com
SUMMARY:Delegates Dana Jones & Dylan Behler's Pre-Midnight Madness Holiday Sweater Party Fundraiser
DESCRIPTION:Location:\nFederal House Bar and Grille\n22 Market Space\nAnnapolis \nCost:\n$30 Per Ticket \nEvent Information:\nCan purchase tickets online at: https://secure.actblue.com/donate/uglysweater26 \nDelegate Dana Jones\nHouse Appropriations Committee\nDemocrat\nDistrict 30A\nAnne Arundel County \nDelegate Dylan Behler\nHouse Environment and Transportation Committee\nDemocrat\nDistrict 30A\nAnne Arundel County
URL:https://www.smwpa.com/event/delegates-dana-jones-dylan-behlers-pre-midnight-madness-holiday-sweater-party-fundraiser/
CATEGORIES:Fundraisers
END:VEVENT
BEGIN:VEVENT
DTSTART;TZID=America/New_York:20251204T183000
DTEND;TZID=America/New_York:20251204T200000
DTSTAMP:20260425T071829
CREATED:20251202T160748Z
LAST-MODIFIED:20251202T160748Z
UID:7414-1764873000-1764878400@www.smwpa.com
SUMMARY:Delegate Andre Johnson's Ugly Holiday Sweater Fundraiser
DESCRIPTION:Location:\nMi Sabor Restaurant\n525 Pulaski Highway\nJoppatowne \nCost:\n$2\,000 Diamond\n$1\,500 Platinum\n$500 Gold\n$250 Silver\n$120 Bronze\n$60 District 34A Residents \nEvent Information:\nCan purchase tickets online at: https://secure.actblue.com/donate/2025delegateajohnson-ugly-sweater-event \nHouse Economic Matters Committee\nDemocrat\nDistrict 34A\nHarford County
URL:https://www.smwpa.com/event/delegate-andre-johnsons-ugly-holiday-sweater-fundraiser/
CATEGORIES:Fundraisers
END:VEVENT
BEGIN:VEVENT
DTSTART;TZID=America/New_York:20251204T180000
DTEND;TZID=America/New_York:20251204T200000
DTSTAMP:20260425T071829
CREATED:20251118T202948Z
LAST-MODIFIED:20251118T202948Z
UID:7365-1764871200-1764878400@www.smwpa.com
SUMMARY:Delegate Jennifer White Holland's 3rd Annual Jingle & Mingle Holiday Fundraiser
DESCRIPTION:Location:\nDolfield Business Park\nUnited Real Estate Executives\n11155 Dolfield Boulevard\n#108\nOwings Mills \nCost:\n$1\,000 Host\n$750 Co-Host\n$500 VIP\n$250 Friend\n$100 Supporter\n$25 District 10 Resident \nEvent Information:\nCan purchase tickets online at: https://secure.actblue.com/donate/jingleandmingle2025 \nChecks can be payable and mailed to:\nFriends of Jennifer White\nP.O. Box 274\nRandallstown\, MD 21133-9998 \nWaqiba Strother\, Treasurer \nHouse Health and Government Operations Committee\nDemocrat\nDistrict 10\nBaltimore County
URL:https://www.smwpa.com/event/delegate-jennifer-white-hollands-3rd-annual-jingle-mingle-holiday-fundraiser/
CATEGORIES:Fundraisers
END:VEVENT
BEGIN:VEVENT
DTSTART;TZID=America/New_York:20251204T180000
DTEND;TZID=America/New_York:20251204T200000
DTSTAMP:20260425T071829
CREATED:20251021T193800Z
LAST-MODIFIED:20251021T193800Z
UID:7291-1764871200-1764878400@www.smwpa.com
SUMMARY:Delegate Karen Simpson's Fundraiser
DESCRIPTION:Location:\n103 Linden Avenue\nFrederick \nCost:\n$6\,000 Election Cycle Maximum\n$1\,000 Champion Host\n$500 Sponsor\n$250 Bronze\n$100 Guest \nEvent Information:\nFor more information\, please contact Karen4Maryland@gmail.com\nCan purchase tickets online at: https://secure.actblue.com/donate/karensimpsonfund \nChecks can be payable and mailed to:\nFriends of Karen Simpson\nP.O. Box 1358\nFrederick\, MD 21702 \nDonna Flaharty\, Treasurer \nHouse Judiciary Committee\nDemocrat\nDistrict 3\nFrederick County
URL:https://www.smwpa.com/event/delegate-karen-simpsons-fundraiser/
CATEGORIES:Fundraisers
END:VEVENT
BEGIN:VEVENT
DTSTART;TZID=America/New_York:20251203T183000
DTEND;TZID=America/New_York:20251203T200000
DTSTAMP:20260425T071829
CREATED:20251202T160319Z
LAST-MODIFIED:20251202T160319Z
UID:7412-1764786600-1764792000@www.smwpa.com
SUMMARY:Lieutenant Governor Aruna Miller's Special Reception Fundraiser
DESCRIPTION:Location:\nHome of Dr. Manbir & Preet Takhar\nAddress Provided Upon RSVP\nMontgomery County \nCost:\n$6\,000 Host\n$3\,000 Co-Host\n$2\,000 Sponsor\n$1\,500 Supporter\n$1\,000 Friend \nEvent Information:\nFor more information\, please contact Tyler Rifkin at tyler@wesmoore.com\nCan purchase tickets online at: https://secure.ngpvan.com/vkPGl5ICx020If-peq2hqw2 \nLieutenant Governor of Maryland\nDemocrat
URL:https://www.smwpa.com/event/lieutenant-governor-aruna-millers-special-reception-fundraiser/
CATEGORIES:Fundraisers
END:VEVENT
BEGIN:VEVENT
DTSTART;TZID=America/New_York:20251203T180000
DTEND;TZID=America/New_York:20251203T200000
DTSTAMP:20260425T071829
CREATED:20251105T194915Z
LAST-MODIFIED:20251105T194915Z
UID:7327-1764784800-1764792000@www.smwpa.com
SUMMARY:Delegate Vaughn Stewart's Evening Reception Fundraiser
DESCRIPTION:Location:\nSilver Branch Rockville Beerworks\n7301 Calhoun Place #600\nDerwood \nCost:\n$1\,000 Host\n$500 Sponsor\n$250 Patron\n$150 Donor \nEvent Information:\nFor more information\, please contact Rice Consulting at 410-838-6355 or email vaughnstewart@riceconsultingllc.com\nCan purchase tickets online at: https://secure.actblue.com/donate/stewart251203?refcode=email_251103_ricengp_calendar \nChecks can be payable and mailed to:\nFriends of Vaughn Stewart\nc/o Rice Consulting\n17 W. Courtland Street\nSuite 210\nBel Air\, MD 21014 \nAlexandra Stewart\, Treasurer \nHouse Environment and Transportation Committee\nDemocrat\nDistrict 19\nMontgomery County
URL:https://www.smwpa.com/event/delegate-vaughn-stewarts-evening-reception-fundraiser/
CATEGORIES:Fundraisers
END:VEVENT
BEGIN:VEVENT
DTSTART;TZID=America/New_York:20251203T180000
DTEND;TZID=America/New_York:20251203T193000
DTSTAMP:20260425T071829
CREATED:20251010T204404Z
LAST-MODIFIED:20251110T182213Z
UID:7262-1764784800-1764790200@www.smwpa.com
SUMMARY:Delegate Kim Ross' Reception Fundraiser
DESCRIPTION:Location:\nPappas Restaurant & Sports Bar\n1725 Taylor Avenue\nParkville \nCost:\n$1\,000\n$500\n$250\n$100\n$50 \nEvent Information:\nFor more information or to RSVP\, please contact Haley at haley@martinlauer.com\nCan purchase tickets online at: https://secure.actblue.com/donate/ross-dec-3 \nChecks can be payable and mailed to:\nKim Ross for Maryland\n1215 E. Fort Ave.\nSuite 106\nBaltimore\, MD 21230 \nIBN Green\, Treasurer \nHouse Health and Government Operations Committee\nDemocrat\nDistrict 8\nBaltimore County
URL:https://www.smwpa.com/event/delegate-kim-ross-first-ever-reception-fundraiser/
CATEGORIES:Fundraisers
END:VEVENT
BEGIN:VEVENT
DTSTART;TZID=America/New_York:20251202T180000
DTEND;TZID=America/New_York:20251202T200000
DTSTAMP:20260425T071829
CREATED:20251202T155603Z
LAST-MODIFIED:20251202T155603Z
UID:7410-1764698400-1764705600@www.smwpa.com
SUMMARY:Delegate Vanessa Atterbeary's Evening Reception Fundraiser
DESCRIPTION:Location:\nCattail Creek Country Club\nFounders Reserve\n3600 Cattail Creek Drive\n#9648\nGlenwood \nCost:\n$2\,500 Sponsor (2 Tickets)\n$1\,000 Guest \nEvent Information:\nFor more information\, please contact Rice Consulting at 410-838-6355 or email vanessa@riceconsultingllc.com\nCan purchase tickets online at: https://secure.actblue.com/donate/atterbeary251202?refcode=email_251201_ricengp_calendar \nChecks can be payable and mailed to:\nCommittee to Elect Vanessa Atterbeary\nc/o Rice Consulting\n17 W. Courtland Street\nSuite 210\nBel Air\, MD 21014 \nMarlyn Oatts\, Treasurer \nChair\, House Ways and Means Committee\nCandidate Howard County Executive\nDemocrat\nDistrict 13\nHoward County
URL:https://www.smwpa.com/event/delegate-vanessa-atterbearys-evening-reception-fundraiser-2/
CATEGORIES:Fundraisers
END:VEVENT
BEGIN:VEVENT
DTSTART;TZID=America/New_York:20251202T113000
DTEND;TZID=America/New_York:20251202T133000
DTSTAMP:20260425T071829
CREATED:20251202T154614Z
LAST-MODIFIED:20251202T154748Z
UID:7406-1764675000-1764682200@www.smwpa.com
SUMMARY:Senator Johnny Mautz's Reception Fundraiser
DESCRIPTION:Location:\nAmerican Trucking Association\n430 First Street\, SE\nSuite 100\nWashington\, DC \nCost:\n$6\,000 Diamond\n$2\,500 Platinum\n$1\,500 Gold\n$1\,000 Silver\n$500 Bronze\n$250 Per Person \nEvent Information:\nFor more information or to RSVP\, please contact Betsy Minto at 336-324-6032 or email betsyminto@gmail.com\nCan purchase tickets online at: https://secure.anedot.com/friends-of-johnny-mautz/december2ndevent \nChecks can be payable and mailed to:\nFriends of Johnny Mautz\nP.O. Box 33\nSt. Michaels\, MD 21663 \nRendy Lomax\, Treasurer \nSenate Finance Committee\nRepublican\nDistrict 37\nCaroline\, Dorchester\, Talbot\, Wicomico County
URL:https://www.smwpa.com/event/senator-johnny-mautz-reception/
CATEGORIES:Fundraisers
END:VEVENT
BEGIN:VEVENT
DTSTART;TZID=America/New_York:20251201T190000
DTEND;TZID=America/New_York:20251201T203000
DTSTAMP:20260425T071829
CREATED:20251105T191927Z
LAST-MODIFIED:20251105T191927Z
UID:7323-1764615600-1764621000@www.smwpa.com
SUMMARY:Delegate Kris Valderrama's Fundraiser
DESCRIPTION:Location:\nAddress Provided Upon RSVP\nFort Washington \nCost:\n$2\,000 Chair\n$1\,000 Host\n$500 Sponsor\n$250 Friend\n$100 Guest \nEvent Information:\nFor more information or to RSVP\, please contact RSVP@mellingergroup.com\nCan purchase tickets online at: https://secure.actblue.com/donate/2025dec1 \nChecks can be payable and mailed to:\nCitizens for Kris Valderrama\nP.O. Box 1165\nFort Washington\, MD 20749 \nAbraham Lobo\, Treasurer \nHouse Economic Matters Committee\nDemocrat\nDistrict 26\nPrince George’s County
URL:https://www.smwpa.com/event/delegate-kris-valderramas-fundraiser/
CATEGORIES:Fundraisers
END:VEVENT
BEGIN:VEVENT
DTSTART;TZID=America/New_York:20251201T180000
DTEND;TZID=America/New_York:20251201T200000
DTSTAMP:20260425T071829
CREATED:20251105T194138Z
LAST-MODIFIED:20251105T194138Z
UID:7325-1764612000-1764619200@www.smwpa.com
SUMMARY:Delegate April Rose's Pre-Session Birthday Bash Fundraiser
DESCRIPTION:Location:\nBud’s at Silver Run\n4115 Littlestown Pike\nWestminster \nCost:\n$1\,000 Platinum\n$500 Gold\n$250 Silver\n$125 Per Couple\n$75 Per Person \nEvent Information:\nFor more information\, please contact DelegateRose@gmail.com\nCan purchase tickets online at: https://secure.anedot.com/rose4delegate/cc88780d-760e-4a60-91fd-a7a860b13482 \nHouse Economic Matters Committee\nRepublican\nDistrict 5\nCarroll and Frederick County
URL:https://www.smwpa.com/event/delegate-april-roses-pre-session-birthday-bash-fundraiser/
CATEGORIES:Fundraisers
END:VEVENT
BEGIN:VEVENT
DTSTART;TZID=America/New_York:20251201T173000
DTEND;TZID=America/New_York:20251201T193000
DTSTAMP:20260425T071829
CREATED:20251028T202601Z
LAST-MODIFIED:20251028T202601Z
UID:7307-1764610200-1764617400@www.smwpa.com
SUMMARY:Senator Clarence Lam's 45th Birthday Celebration Fundraiser
DESCRIPTION:Location:\nSapwood Cellars\n8980 MD Route 108\nColumbia \nCost:\n$4\,000 Presidential\n$2\,000 Platinum\n$1\,000 Gold\n$500 Silver\n$250 Bronze\n$50 Per Ticket \nEvent Information:\nFor more information\, please contact RSVP@clarencelam.com\nCan purchase tickets online at: https://secure.actblue.com/donate/lam-45thbirthday \nChecks can be payable and mailed to:\nFriends of Clarence Lam\nP.O. Box 891\nColumbia\, MD 21044 \nPat Payne\, Treasurer \nSenate Finance Committee\nDemocrat\nDistrict 12\nAnne Arundel and Howard County
URL:https://www.smwpa.com/event/senator-clarence-lams-45th-birthday-celebration-fundraiser/
CATEGORIES:Fundraisers
END:VEVENT
BEGIN:VEVENT
DTSTART;TZID=America/New_York:20251124T173000
DTEND;TZID=America/New_York:20251124T193000
DTSTAMP:20260425T071829
CREATED:20251118T202307Z
LAST-MODIFIED:20251118T202307Z
UID:7363-1764005400-1764012600@www.smwpa.com
SUMMARY:Delegate Marvin Holmes' Cheers to Change: A Birthday Affair Fundraiser
DESCRIPTION:Location:\nArthur Wheeler Distillery\n(Official Whiskey Partner of the Washington Commanders)\n1001 Prince George’s Boulevard\nSuite 200\nUpper Marlboro \nCost:\n$1\,000 Master Distiller\n$500 Barrell Select\n$230 Tasting Room Supporter \nEvent Information:\nCan contribute online at: https://secure.actblue.com/donate/cheerstochangeholmes2025 \nHouse Environment and Transportation Committee\nDemocrat\nDistrict 23\nPrince George’s County
URL:https://www.smwpa.com/event/delegate-marvin-holmes-cheers-to-change-a-birthday-affair-fundraiser/
CATEGORIES:Fundraisers
END:VEVENT
BEGIN:VEVENT
DTSTART;TZID=America/New_York:20251123T120000
DTEND;TZID=America/New_York:20251123T160000
DTSTAMP:20260425T071829
CREATED:20251028T201702Z
LAST-MODIFIED:20251028T201702Z
UID:7303-1763899200-1763913600@www.smwpa.com
SUMMARY:Senator Steve Hershey's Fundraiser
DESCRIPTION:Location:\nM&T Bank Stadium\n1101 Russell Street\nBaltimore \nCost:\n$6\,000 Championship Sponsor (3 Tickets)\n$4\,000 Touchdown Sponsor (2 Tickets)\n$2\,500 Per Guest \nEvent Information:\nFor more information\, please contact Nicole at 443-875-3886 or email nicole@ossolaconsulting.com\nCan purchase tickets online at: https://secure.anedot.com/senatorhershey/1123fundraiser\nPlease RSVP by mail or web by Friday\, November 14th\n1:00pm Game Kickoff – Baltimore Ravens vs. New York Jets \nChecks can be payable and mailed to:\nFriends of Steve Hershey\nP.O. Box 11\nAnnapolis\, MD 21404 \nJames Appel\, Treasurer \nSenate Finance Committee\nSenate Minority Leader\nRepublican\nDistrict 36\nCaroline\, Cecil\, Kent\, and Queen Anne’s County
URL:https://www.smwpa.com/event/senator-steve-hersheys-fundraiser/
CATEGORIES:Fundraisers
END:VEVENT
BEGIN:VEVENT
DTSTART;TZID=America/New_York:20251122T160000
DTEND;TZID=America/New_York:20251122T190000
DTSTAMP:20260425T071829
CREATED:20251118T200916Z
LAST-MODIFIED:20251118T200916Z
UID:7361-1763827200-1763838000@www.smwpa.com
SUMMARY:Delegate Bernice Mireku-North's Birthday Celebration Fundraiser
DESCRIPTION:Location:\nRestaurant 198\n15540 Old Columbia Pike\nBurtonsville \nCost:\n$500 Believer\n$250 Advocate\n$100 Hope Builder \nEvent Information:\nFor more information or to RSVP\, please contact hello@mirekunorth.com\nCan purchase tickets online at: https://secure.actblue.com/donate/birthdaywithbernice \nChecks can be payable and mailed to:\nFriends of Bernice Mireku-North\n5016 Dorsey Hall Drive\nSuite 202\nEllicott City\, MD 21043 \nMatthew Enekwe\, Treasurer \nHouse Ways and Means Committee\nDemocrat\nDistrict 14\nMontgomery County
URL:https://www.smwpa.com/event/delegate-bernice-mireku-norths-birthday-celebration-fundraiser/
CATEGORIES:Fundraisers
END:VEVENT
BEGIN:VEVENT
DTSTART;TZID=America/New_York:20251122T140000
DTEND;TZID=America/New_York:20251122T153000
DTSTAMP:20260425T071829
CREATED:20251103T173629Z
LAST-MODIFIED:20251103T173649Z
UID:7309-1763820000-1763825400@www.smwpa.com
SUMMARY:Delegate Lily Qi's Re-Election Kick-Off Fundraiser
DESCRIPTION:Location:\nKungFu 12 Restaurant\n14921 Shady Grove Road\nRockville \nCost:\n$1\,000\n$500\n$250\n$100 \nEvent Information:\nFor more information or to RSVP\, please contact info@lilyqi.com\nCan donate online at: https://www.lilyqi.com/donate/ \nChecks can be payable and mailed to:\nFriends of Lily Qi\nP.O. Box 83025\nGaithersburg\, MD 20883 \nRobert Weinstock\, Treasurer \nHouse Economic Matters Committee\nDemocrat\nDistrict 15\nMontgomery County
URL:https://www.smwpa.com/event/delegate-lily-qis-re-election-kick-off-fundraiser/
CATEGORIES:Fundraisers
END:VEVENT
BEGIN:VEVENT
DTSTART;TZID=America/New_York:20251121T080000
DTEND;TZID=America/New_York:20251121T090000
DTSTAMP:20260425T071829
CREATED:20251105T200352Z
LAST-MODIFIED:20251105T200352Z
UID:7333-1763712000-1763715600@www.smwpa.com
SUMMARY:Delegate Mark Chang's Breakfast Fundraiser
DESCRIPTION:Location:\nHarry Browne’s\n66 State Circle\nAnnapolis \nCost:\n$2\,500 Host\n$1\,000 Co-Host\n$500 Supporter\n$250 Guest \nEvent Information:\nFor more information\, please contact rsvp@mellingergroup.com\nCan purchase tickets online at: https://secure.actblue.com/donate/nov21-chang \nChecks can be payable and mailed to:\nCitizens for Mark Chang\n137 E. Gittings Street\nBaltimore\, MD 21230 \nJeremy P. Fisher\, Treasurer \nVice-Chair\, House Appropriations Committee\nDemocrat\nDistrict 32\nAnne Arundel County
URL:https://www.smwpa.com/event/delegate-mark-changs-breakfast-fundraiser/
CATEGORIES:Fundraisers
END:VEVENT
BEGIN:VEVENT
DTSTART;TZID=America/New_York:20251120T183000
DTEND;TZID=America/New_York:20251120T200000
DTSTAMP:20260425T071829
CREATED:20251110T182926Z
LAST-MODIFIED:20251110T182926Z
UID:7341-1763663400-1763668800@www.smwpa.com
SUMMARY:Delegate Lesley Lopez's Millenial Trivia Night Fundraiser
DESCRIPTION:Location:\nVirtual Event\nZoom link will be available upon RSVP \nCost:\n$25 Per Ticket\nAll contributions appreciated and valued \nEvent Information:\nCan purchase tickets online at: https://secure.actblue.com/donate/lopeztrivia25 \nHouse Health and Government Operations Committee\nDemocrat\nDistrict 39\nMontgomery County
URL:https://www.smwpa.com/event/delegate-lesley-lopezs-millenial-trivia-night-fundraiser/
CATEGORIES:Fundraisers
END:VEVENT
BEGIN:VEVENT
DTSTART;TZID=America/New_York:20251120T180000
DTEND;TZID=America/New_York:20251120T200000
DTSTAMP:20260425T071829
CREATED:20251010T210136Z
LAST-MODIFIED:20251010T210136Z
UID:7266-1763661600-1763668800@www.smwpa.com
SUMMARY:Delegate Caylin Young's Fall Fundraiser
DESCRIPTION:Location:\nGuilford Hall Brewery\n1611 Guilford Avenue\nBaltimore \nCost:\n$1\,000 Patron\n$500 Friend\n$250 Guest\n$100 Attendee\n$45 45th District Resident \nEvent Information:\nFor more information\, please contact Tyler at 443-500-2902 or email tmay@martinlauer.com\nCan purchase tickets online at: https://secure.actblue.com/donate/young-nov-20\nAny donations made toward the September 18th fundraiser will count toward the November 20th event \nChecks can be payable and mailed to:\nFriends of Caylin Young\n1215 E. Fort Ave.\nSuite 106\nBaltimore\, MD 21230 \nJamal Turner\, Treasurer \nHouse Ways and Means Committee\nDemocrat\nDistrict 45\nBaltimore City
URL:https://www.smwpa.com/event/delegate-caylin-youngs-fall-fundraiser/
CATEGORIES:Fundraisers
END:VEVENT
BEGIN:VEVENT
DTSTART;TZID=America/New_York:20251120T170000
DTEND;TZID=America/New_York:20251120T200000
DTSTAMP:20260425T071829
CREATED:20250521T223318Z
LAST-MODIFIED:20250521T223318Z
UID:6924-1763658000-1763668800@www.smwpa.com
SUMMARY:Maryland Democratic Senate Caucus Committee's Senate Chairs Dinner Fundraiser
DESCRIPTION:Location:\nThe Capital Grille\n500 E. Pratt Street\nBaltimore \nCost:\n$3\,000 VIP Cocktail Reception + 1 Dinner Seat\n$2\,500 Dinner Guest \nEvent Information:\nFor more information or to RSVP\, please contact Sophia Silbergeld at 410-366-3940 or email ss@helloadeo.com\nCan purchase tickets online at: https://secure.actblue.com/donate/senatechairs\nVIP Cocktail Reception at 5:00 PM\nDinner at 6:00 PM \nMaryland Democratic Senate Caucus Committee
URL:https://www.smwpa.com/event/maryland-democratic-senate-caucus-committees-senate-chairs-dinner-fundraiser/
CATEGORIES:Fundraisers
END:VEVENT
END:VCALENDAR