BEGIN:VCALENDAR
VERSION:2.0
PRODID:-//SCHWARTZ, METZ &amp; WISE, P.A. - ECPv6.13.2.1//NONSGML v1.0//EN
CALSCALE:GREGORIAN
METHOD:PUBLISH
X-WR-CALNAME:SCHWARTZ, METZ &amp; WISE, P.A.
X-ORIGINAL-URL:https://www.smwpa.com
X-WR-CALDESC:Events for SCHWARTZ, METZ &amp; WISE, P.A.
REFRESH-INTERVAL;VALUE=DURATION:PT1H
X-Robots-Tag:noindex
X-PUBLISHED-TTL:PT1H
BEGIN:VTIMEZONE
TZID:America/New_York
BEGIN:DAYLIGHT
TZOFFSETFROM:-0500
TZOFFSETTO:-0400
TZNAME:EDT
DTSTART:20240310T070000
END:DAYLIGHT
BEGIN:STANDARD
TZOFFSETFROM:-0400
TZOFFSETTO:-0500
TZNAME:EST
DTSTART:20241103T060000
END:STANDARD
END:VTIMEZONE
BEGIN:VEVENT
DTSTART;TZID=America/New_York:20241121T170000
DTEND;TZID=America/New_York:20241121T190000
DTSTAMP:20260424T065805
CREATED:20241015T173957Z
LAST-MODIFIED:20241112T191845Z
UID:6553-1732208400-1732215600@www.smwpa.com
SUMMARY:Maryland House Democratic Caucus' 2024 Annual Reception Fundraiser
DESCRIPTION:Location:\nBlackwall Barn & Lodge\n329 Gambrills Road\nGambrills \nCost:\n$4\,000 Host\n$2\,500 Sponsor\n$1\,000 Patron\n$250 Guest \nEvent Information:\nFor more information\, please contact Colin at 410-366-3940 x101 or email cb@helloadeo.com\nCan purchase tickets and RSVP online at: https://secure.actblue.com/donate/november21st\n5:00 PM-6:00 PM – Speaker’s Reception – SOLD OUT\n6:00 PM-7:00 PM – General Reception \nChecks can be payable and mailed to:\nMaryland House Democratic Caucus Committee\n711 W. 40th Street\nSuite 330\nBaltimore\, MD 21211 \nRegan Riley\, Treasurer \nMaryland House Democratic Caucus
URL:https://www.smwpa.com/event/maryland-house-democratic-caucus-2024-annual-reception-fundraiser/
CATEGORIES:Fundraisers
END:VEVENT
BEGIN:VEVENT
DTSTART;TZID=America/New_York:20241120T170000
DTEND;TZID=America/New_York:20241120T190000
DTSTAMP:20260424T065805
CREATED:20241015T173239Z
LAST-MODIFIED:20241015T173239Z
UID:6551-1732122000-1732129200@www.smwpa.com
SUMMARY:Senator Nick Charles' Reception Fundraiser
DESCRIPTION:Location:\nAddress Provided Upon RSVP\nPotomac \nCost:\n$5\,000\n$2\,500\n$1\,000\n$500\n$250 \nEvent Information:\nFor more information\, please contact Caroline Barkuloo at carolinebarkuloo@riceconsultingllc.com\nCan purchase tickets online at: https://secure.actblue.com/donate/md-nc241120 \nChecks can be payable and mailed to:\nFriends of Nicholas Charles\n17 W. Courtland Street\nSuite 210\nBel Air\, MD 21014 \nMarie Beresford\, Treasurer \nSenate Judicial Proceedings Committee\nDemocrat\nDistrict 25\nPrince George’s County
URL:https://www.smwpa.com/event/senator-nick-charles-reception-fundraiser/
CATEGORIES:Fundraisers
END:VEVENT
BEGIN:VEVENT
DTSTART;TZID=America/New_York:20241120T170000
DTEND;TZID=America/New_York:20241120T183000
DTSTAMP:20260424T065805
CREATED:20241029T185841Z
LAST-MODIFIED:20241029T185841Z
UID:6577-1732122000-1732127400@www.smwpa.com
SUMMARY:Delegate Vaughn Stewart's Birthday Celebration Fundraiser
DESCRIPTION:Location:\nThe Creek Lodge Bar & Grill\n5566 Norbeck Road\nRockville \nCost:\n$1\,000 Host\n$500 Sponsor\n$250 Patron\n$125 Donor \nEvent Information:\nFor more information\, please contact Rice Consulting at 410-838-6355 or email vaughnstewart@riceconsultingllc.com\nCan purchase tickets online at: https://secure.actblue.com/donate/stewart241120 \nChecks can be payable and mailed to:\nFriends of Vaughn Stewart\nc/o Rice Consulting\n17 W. Courtland Street\nSuite 210\nBel Air\, MD 21014 \nAlexandra Stewart\, Treasurer \nHouse Environment and Transportation Committee\nDemocrat\nDistrict 19\nMontgomery County
URL:https://www.smwpa.com/event/delegate-vaughn-stewarts-birthday-celebration-fundraiser/
CATEGORIES:Fundraisers
END:VEVENT
BEGIN:VEVENT
DTSTART;TZID=America/New_York:20241120T170000
DTEND;TZID=America/New_York:20241120T183000
DTSTAMP:20260424T065805
CREATED:20241008T161526Z
LAST-MODIFIED:20241008T161603Z
UID:6519-1732122000-1732127400@www.smwpa.com
SUMMARY:Delegate Jen Terrasa's Reception Fundraiser
DESCRIPTION:Location:\nAnother Broken Egg Café\n7700 Hearthside Way\nSuite 7\nElkridge \nCost:\n$2\,500\n$1\,000\n$500\n$250\n$100\n$50 \nEvent Information:\nFor more information or to RSVP\, please contact Haley at 410-547-8884 or email haley@martinlauer.com\nCan purchase tickets online at: https://secure.actblue.com/donate/terrasa2024 \nChecks can be payable and mailed to:\nFriends of Jennifer Terrasa\n1215 E. Fort Ave.\nSuite 106\nBaltimore\, MD 21230 \nAbby Hendrix\, Treasurer \nHouse Environment and Transportation Committee\nDemocrat\nDistrict 13\nHoward County
URL:https://www.smwpa.com/event/delegate-jen-terrasas-reception-fundraiser/
CATEGORIES:Fundraisers
END:VEVENT
BEGIN:VEVENT
DTSTART;TZID=America/New_York:20241119T180000
DTEND;TZID=America/New_York:20241119T193000
DTSTAMP:20260424T065805
CREATED:20241029T185239Z
LAST-MODIFIED:20241029T185239Z
UID:6575-1732039200-1732044600@www.smwpa.com
SUMMARY:Delegate Robbyn Lewis' Reception Fundraiser
DESCRIPTION:Location:\n3402 Art Gallery\n3402 Gough Street\nBaltimore \nCost:\n$2\,500 Gold Sponsor\n$1\,000 Silver Sponsor\n$500 Bronze Sponsor\n$250 Angel\n$100 Ally\n$46 Friend \nEvent Information:\nFor more information\, please contact Haley at 410-547-8884 or email  haley@martinlauer.com\nCan purchase tickets online at: https://secure.actblue.com/donate/lewisnovember2024 \nChecks can be payable and mailed to:\nFriends of Robbyn Lewis\n1215 E. Fort Ave.\nSuite 106\nBaltimore\, MD 21230 \nTracey Lewis\, Treasurer \nHouse Environment and Transportation Committee\nDemocrat\nDistrict 46\nBaltimore City
URL:https://www.smwpa.com/event/delegate-robbyn-lewis-reception-fundraiser/
CATEGORIES:Fundraisers
END:VEVENT
BEGIN:VEVENT
DTSTART;TZID=America/New_York:20241119T173000
DTEND;TZID=America/New_York:20241119T193000
DTSTAMP:20260424T065805
CREATED:20241015T172746Z
LAST-MODIFIED:20241015T172746Z
UID:6549-1732037400-1732044600@www.smwpa.com
SUMMARY:Delegate Jackie Addison's Reception Fundraiser
DESCRIPTION:Location:\nCellar2 @ Parkville\n7631 Harford Road\nBaltimore \nCost:\n$1\,045\n$545\n$245\n$145 \nEvent Information:\nFor more information or to RSVP\, please contact 443-869-3582 or email events@karenmillerconsulting.com\nCan donate online at: https://secure.actblue.com/donate/voteaddison \nHouse Environment and Transportation Committee\nDemocrat\nDistrict 45\nBaltimore City
URL:https://www.smwpa.com/event/delegate-jackie-addisons-reception-fundraiser/
CATEGORIES:Fundraisers
END:VEVENT
BEGIN:VEVENT
DTSTART;TZID=America/New_York:20241118T183000
DTEND;TZID=America/New_York:20241118T200000
DTSTAMP:20260424T065805
CREATED:20241029T184502Z
LAST-MODIFIED:20241029T184502Z
UID:6573-1731954600-1731960000@www.smwpa.com
SUMMARY:Delegate Ashanti Martinez' 3rd Annual Pints for Progress Fundraiser
DESCRIPTION:Location:\nDenizens\n4550 Van Buren Street\nRiverdale Park \nCost:\n$1\,000 Taproom Trailblazer (Co-Host)\n$500 Pint Patron\n$250 Brew Benefactor\n$150 Cheers Champion\n$50 Sipping Supporter \nEvent Information:\nCan donate and RSVP online at: https://secure.actblue.com/donate/pints-for-progress-3 \nChecks can be payable and mailed to:\nFriends of Ashanti Martinez\nP.O. Box 203\nHyattsville\, MD 20781 \nKenyarn Maxfield\, Treasurer \nHouse Health and Government Operations Committee\nDemocrat\nDistrict 22\nPrince George’s County
URL:https://www.smwpa.com/event/delegate-ashanti-martinez-3rd-annual-pints-for-progress-fundraiser/
CATEGORIES:Fundraisers
END:VEVENT
BEGIN:VEVENT
DTSTART;TZID=America/New_York:20241114T180000
DTEND;TZID=America/New_York:20241114T193000
DTSTAMP:20260424T065805
CREATED:20241029T183348Z
LAST-MODIFIED:20241029T183348Z
UID:6571-1731607200-1731612600@www.smwpa.com
SUMMARY:Delegate Karen Toles' Fundraiser
DESCRIPTION:Location:\nSteamfitters Local Union Hall\n8700 Ashwood Drive\nCapitol Heights \nCost:\n$6\,000 All in 4 Maryland\n$2\,500 Rockfish\n$1\,000 Blue Crab\n$500 Terrapin\n$100 Black-Eyed Susan \nEvent Information:\nCan donate online at: https://secure.actblue.com/donate/friends-of-karen-r–toles-1 \nChecks can be payable and mailed to:\nFriends of Karen B. Toles\nP.O. Box 7007\nCapitol Heights\, MD 20791 \nRochelle Andrews\, Treasurer \nHouse Judiciary Committee\nDemocrat\nDistrict 25\nPrince George’s County
URL:https://www.smwpa.com/event/delegate-karen-toles-fundraiser/
CATEGORIES:Fundraisers
END:VEVENT
BEGIN:VEVENT
DTSTART;TZID=America/New_York:20241114T180000
DTEND;TZID=America/New_York:20241114T193000
DTSTAMP:20260424T065805
CREATED:20240930T182946Z
LAST-MODIFIED:20240930T182946Z
UID:6505-1731607200-1731612600@www.smwpa.com
SUMMARY:Delegate Luke Clippinger's Reception Fundraiser
DESCRIPTION:Location:\nLittle Havana\n1325 Key Highway\nBaltimore \nCost:\n$1\,000 Host\n$500 Friend\n$100 Guest\n$46 District 46 Resident \nEvent Information:\nFor more information or to RSVP by check\, please contact Jibril Howard at 410-366-2940 x105 or email jh@helloadeo.com\nCan purchase tickets online at: https://bit.ly/lukeatlittlehavana \nChecks can be payable and mailed to:\nFriends of Luke Clippinger\nc/o Adeo Advocacy\n711 W. 40th Street\nSuite 330\nBaltimore\, MD 21211 \nMelissa Evans\, Treasurer \nChair\, House Judiciary Committee\nDemocrat\nDistrict 46\nBaltimore City
URL:https://www.smwpa.com/event/delegate-luke-clippingers-reception-fundraiser/
CATEGORIES:Fundraisers
END:VEVENT
BEGIN:VEVENT
DTSTART;TZID=America/New_York:20241114T173000
DTEND;TZID=America/New_York:20241114T190000
DTSTAMP:20260424T065805
CREATED:20241029T182838Z
LAST-MODIFIED:20241029T182838Z
UID:6569-1731605400-1731610800@www.smwpa.com
SUMMARY:Senator Malcolm Augustine's Reception Fundraiser
DESCRIPTION:Location:\nRoss-Tayman Hall\n3608 Legion Drive\nCheverly \nCost:\n$2\,500 Co-Host\n$1\,000 Sponsor\n$500 Champion\n$250 Supporter\n$100 Friend \nEvent Information:\nFor more information or to RSVP\, please contact Haley at 410-547-8884 or email haley@martinlauer.com\nCan purchase tickets online at: https://secure.actblue.com/donate/augustine11.14.24 \nChecks can be payable and mailed to:\nFriends of Malcolm Augustine\n1215 E. Fort Ave.\nSuite 106\nBaltimore\, MD 21230 \nMarvin Stewart\, Treasurer \nSenate Education\, Energy\, and the Environment Committee\nSenate President Pro-Tempore\nDemocrat\nDistrict 47\nPrince George’s County
URL:https://www.smwpa.com/event/senator-malcolm-augustines-reception-fundraiser/
CATEGORIES:Fundraisers
END:VEVENT
BEGIN:VEVENT
DTSTART;TZID=America/New_York:20241114T083000
DTEND;TZID=America/New_York:20241114T100000
DTSTAMP:20260424T065805
CREATED:20241015T172312Z
LAST-MODIFIED:20241015T172312Z
UID:6547-1731573000-1731578400@www.smwpa.com
SUMMARY:Delegate Natalie Ziegler's Breakfast Reception Fundraiser
DESCRIPTION:Location:\nThe Iron Bridge Wine Company\n10435 MD-108\nColumbia \nCost:\n$1\,000 Sponsor\n$500 Champion\n$250 Supporter\n$100 Guest\n$50 Constituent \nEvent Information:\nFor more information\, please contact Haley at 410-547-8884 or email haley@martinlauer.com\nCan purchase tickets online at: https://secure.actblue.com/donate/ironbridge2024 \nChecks can be payable and mailed to:\nFriends of Natalie Ziegler\n1215 E. Fort Ave.\nSuite 106\nBaltimore\, MD 21230 \nCynthia Williams\, Treasurer \nHouse Environment and Transportation Committee\nDemocrat\nDistrict 9A\nHoward and Montgomery County
URL:https://www.smwpa.com/event/delegate-natalie-zieglers-breakfast-reception-fundraiser/
CATEGORIES:Fundraisers
END:VEVENT
BEGIN:VEVENT
DTSTART;TZID=America/New_York:20241112T180000
DTEND;TZID=America/New_York:20241112T200000
DTSTAMP:20260424T065805
CREATED:20241029T182110Z
LAST-MODIFIED:20241029T182110Z
UID:6567-1731434400-1731441600@www.smwpa.com
SUMMARY:Senator Mary Washington's Karaoke Night Fundraiser
DESCRIPTION:Location:\nGertrude’s Chesapeake Kitchen\n10 Museum Drive\nBaltimore \nCost:\n$2\,500 Pillar Sponsor\n$1\,000 Arch Sponsor\n$500 Bridge Sponsor\n$250 Cornerstone Sponsor\n$100 Guest \nEvent Information:\nFor more information\, please contact Haley at 410-547-8884 or email fundraiser@senatormarywashington.com\nCan purchase tickets online at: https://secure.ngpvan.com/mRvFRxAn4EOsBMZNb8ltmQ2 \nSenate Education\, Energy\, and the Environment Committee\nDemocrat\nDistrict 43\nBaltimore County and Baltimore City
URL:https://www.smwpa.com/event/senator-mary-washingtons-karaoke-night-fundraiser/
CATEGORIES:Fundraisers
END:VEVENT
BEGIN:VEVENT
DTSTART;TZID=America/New_York:20241112T173000
DTEND;TZID=America/New_York:20241112T193000
DTSTAMP:20260424T065805
CREATED:20240930T182101Z
LAST-MODIFIED:20240930T182101Z
UID:6503-1731432600-1731439800@www.smwpa.com
SUMMARY:Treasurer Dereck E. Davis' Fall Happy Hour Fundraiser
DESCRIPTION:Location:\nRed Red Wine Bar + Bistro\n189-B Main Street\nAnnapolis \nCost:\n$1\,000 Vintage\n$500 Oaky\n$250 Earthy \nEvent Information:\nFor more information\, please contact Rice Consulting at 410-838-6355 or email dereckdavis@riceconsultingllc.com\nCan purchase tickets online at: https://bit.ly/DavisNov12 \nChecks can be payable and mailed to:\nFriends of Dereck Davis\nc/o Rice Consulting\n17 W. Courtland Street\nSuite 210\nBel Air\, MD 21014 \nDaria L. Bailey\, Treasurer \nTreasurer of Maryland\nDemocrat
URL:https://www.smwpa.com/event/treasurer-dereck-e-davis-fall-happy-hour-fundraiser/
CATEGORIES:Fundraisers
END:VEVENT
BEGIN:VEVENT
DTSTART;TZID=America/New_York:20241112T173000
DTEND;TZID=America/New_York:20241112T190000
DTSTAMP:20260424T065805
CREATED:20241112T192044Z
LAST-MODIFIED:20241112T192044Z
UID:6602-1731432600-1731438000@www.smwpa.com
SUMMARY:Delegate Ryan Nawrocki's Fundraiser
DESCRIPTION:Location:\nSilver Spring Mining Co.\n8634 Belair Road\nPerry Hall \nCost:\n$6\,000 Co-Host\n$2\,500 Stripes Sponsor\n$1\,000 Stars Sponsor\n$500 Blue Sponsor\n$250 Red Sponsor\n$75 Per Couple\n$50 Per Person\n$40 Per Senior \nEvent Information:\nCan purchase tickets online at: https://secure.anedot.com/nawrocki/brewery \nHouse Environment and Transportation Committee\nRepublican\nDistrict 7A\nBaltimore County
URL:https://www.smwpa.com/event/delegate-ryan-nawrockis-fundraiser-2/
CATEGORIES:Fundraisers
END:VEVENT
BEGIN:VEVENT
DTSTART;TZID=America/New_York:20241112T173000
DTEND;TZID=America/New_York:20241112T190000
DTSTAMP:20260424T065805
CREATED:20240930T181535Z
LAST-MODIFIED:20240930T181535Z
UID:6501-1731432600-1731438000@www.smwpa.com
SUMMARY:Delegate J. Sandy Bartlett's Reception Fundraiser
DESCRIPTION:Location:\nMaryland City Volunteer Fire Department\n3498 Fort Meade Road\nLaurel \nCost:\n$1\,000 Sponsor\n$500 Host\n$250 Supporter\n$100 Guest\n$32 District 32 Residents \nEvent Information:\nFor more information\, please contact rsvp@mellingergroup.com\nCan purchase tickets online at: https://secure.actblue.com/donate/nov12bartlett \nChecks can be payable and mailed to:\nCitizens for Sandy Bartlett\nP.O. Box 336\nLaurel\, MD 2075 \nScott Bartlett\, Treasurer \nVice-Chair\, House Judiciary Committee\nDemocrat\nDistrict 32\nAnne Arundel County
URL:https://www.smwpa.com/event/delegate-j-sandy-bartletts-reception-fundraiser/
CATEGORIES:Fundraisers
END:VEVENT
BEGIN:VEVENT
DTSTART;TZID=America/New_York:20241110T150000
DTEND;TZID=America/New_York:20241110T170000
DTSTAMP:20260424T065805
CREATED:20241015T171757Z
LAST-MODIFIED:20241015T171757Z
UID:6545-1731250800-1731258000@www.smwpa.com
SUMMARY:Delegate Karen Simpson's Harvest Fundraiser
DESCRIPTION:Location:\n103 Linden Avenue\nFrederick \nCost:\n$2\,000 Feast\n$1\,000 Harvest\n$500 Pumpkin\n$250 Apple\n$100 Chestnut\n$25 Young Democrat (Under Age 30) \nEvent Information:\nFor more information\, please contact karen4maryland@gmail.com\nCan purchase tickets online at: https://secure.actblue.com/donate/karensimpsonfund \nChecks can be payable and mailed to:\nFriends of Karen Simpson\nP.O. Box 1358\nFrederick\, MD 21702 \nDonna Flaharty\, Treasurer \nHouse Judiciary Committee\nDemocrat\nDistrict 3\nFrederick County
URL:https://www.smwpa.com/event/delegate-karen-simpsons-harvest-fundraiser/
CATEGORIES:Fundraisers
END:VEVENT
BEGIN:VEVENT
DTSTART;TZID=America/New_York:20241102T150000
DTEND;TZID=America/New_York:20241102T170000
DTSTAMP:20260424T065805
CREATED:20240930T180900Z
LAST-MODIFIED:20241001T202704Z
UID:6499-1730559600-1730566800@www.smwpa.com
SUMMARY:Delegate Tom Hutchinson's End of Daylight Savings Celebration Fundraiser
DESCRIPTION:Location:\nThe Home of Delegate Hutchinson\nAddress Provided Upon RSVP\nWoolford \nCost:\n$2\,000 Fabulous Sponsor\n$1\,000 Awesome Sponsor\n$500 Terrific Sponsor\n$250 Cool Sponsor\n$100 Per Couple\n$75 Per Ticket \nEvent Information:\nFor more information or to RSVP\, please contact 443-257-9074 or email Tom@CitizensForHutchinson.com\nCan contribute online at: https://www.citizensforhutchinson.com/ \nChecks can be payable and mailed to:\nCitizens for Hutchinson\nP.O. Box 19\nChurch Creek\, MD 21622 \nDavid Short\, CPA\, Treasurer \nHouse Health and Government Operations Committee\nRepublican\nDistrict 37B\nCaroline\, Dorchester\, Talbot\, and Wicomico County
URL:https://www.smwpa.com/event/delegate-tom-hutchinsons-end-of-daylight-savings-celebration-fundraiser/
CATEGORIES:Fundraisers
END:VEVENT
BEGIN:VEVENT
DTSTART;TZID=America/New_York:20241101T170000
DTEND;TZID=America/New_York:20241101T190000
DTSTAMP:20260424T065805
CREATED:20241028T210310Z
LAST-MODIFIED:20241028T210702Z
UID:6565-1730480400-1730487600@www.smwpa.com
SUMMARY:Delegate Jeff Ghrist's Crackin' Crabs for a Cause Feast & Fundraiser
DESCRIPTION:Location:\nThe Wharves at Choptank\n3 Crouse Park Lane\nDenton \nCost:\n$1\,000 Sponsor (12 Tickets)\n$500 Sponsor (8 Tickets)\n$250 Sponsor (4 Tickets)\n$50 General Admission \nEvent Information:\nFor more information\, please contact 410-829-5163\nCan purchase tickets online at: https://secure.anedot.com/4e1cc9de-8f3e-46c0-91b6-abd2e984af9e/events/14326a0e-79ab-4a54-9455-dde433e881b9 \nChecks can be payable and mailed to:\nFriends of Jeff Ghrist\nP.O. Box 434\nDenton\, MD 21629 \nJames Appel\, Treasurer \nHouse Appropriations Committee\nRepublican\nDistrict 36\nCaroline\, Cecil\, Kent\, and Queen Anne’s County
URL:https://www.smwpa.com/event/delegate-jeff-ghrists-crackin-crabs-for-a-cause-feast-fundraiser/
CATEGORIES:Fundraisers
END:VEVENT
BEGIN:VEVENT
DTSTART;TZID=America/New_York:20241101T160000
DTEND;TZID=America/New_York:20241101T190000
DTSTAMP:20260424T065805
CREATED:20241028T205611Z
LAST-MODIFIED:20241028T205611Z
UID:6563-1730476800-1730487600@www.smwpa.com
SUMMARY:Delegate William Wivell's Fall Gathering Fundraiser
DESCRIPTION:Location:\nBeaver Creek School Event Center\n9702 Beaver Creek Church Road\nHagerstown \nCost:\n$250 Event Sponsor\n$5 Gun/Cash Raffle\nFree Admission for the Fall Gathering \nEvent Information:\nFor more information\, please contact delegatewivell@gmail.com \nHouse Economic Matters Committee\nRepublican\nDistrict 2A\nFrederick and Washington County
URL:https://www.smwpa.com/event/delegate-william-wivells-fall-gathering-fundraiser/
CATEGORIES:Fundraisers
END:VEVENT
BEGIN:VEVENT
DTSTART;TZID=America/New_York:20241030T183000
DTEND;TZID=America/New_York:20241030T213000
DTSTAMP:20260424T065805
CREATED:20241015T171228Z
LAST-MODIFIED:20241015T171228Z
UID:6543-1730313000-1730323800@www.smwpa.com
SUMMARY:Delegate Deni Taveras' Stand Up Comedy Fundraiser
DESCRIPTION:Location:\nCocineros Restaurant\n3513 East West Highway\nHyattsville \nCost:\n$2\,500 Producer\n$1\,000 Executive\n$500 Director\n$250 Sponsor\n$100 Casting\n$50 Actor\n$25 Senior \nEvent Information:\nFor more information\, please contact 202-299-6562 or email votedenitaveras@gmail.com\nCan donate online at: https://votedenitaveras.com/donate\n6:30 PM – Doors Open\n8:00 PM – Show Starts \nChecks can be payable and mailed to:\nFriends of Deni Taveras\nP.O. Box 1763\nHyattsville\, MD 20788 \nCandice Buckner\, Treasurer \nHouse Health and Government Operations Committee\nDemocrat\nDistrict 47B\nPrince George’s County
URL:https://www.smwpa.com/event/delegate-deni-taveras-stand-up-comedy-fundraiser/
CATEGORIES:Fundraisers
END:VEVENT
BEGIN:VEVENT
DTSTART;TZID=America/New_York:20241030T180000
DTEND;TZID=America/New_York:20241030T200000
DTSTAMP:20260424T065805
CREATED:20241028T205226Z
LAST-MODIFIED:20241028T205226Z
UID:6561-1730311200-1730318400@www.smwpa.com
SUMMARY:Senator J.B. Jennings' 2024 Pre-Election Fundraiser
DESCRIPTION:Location:\nRockfield Manor\n501 E. Churchville Road\nBel Air \nCost:\n$2\,000 Platinum Sponsor (8 Tickets)\n$1\,000 Gold Sponsor (6 Tickets)\n$500 Silver Sponsor (4 Tickets)\n$250 Bronze Sponsor (2 Tickets)\n$175 Per Couple\n$100 Per Person \nEvent Information:\nFor more information\, please contact 410-870-5848 or email friendsofjbjenningsmd@gmail.com\nCan purchase tickets online at: https://secure.anedot.com/friends-of-j-b-jennings/rockfieldmanor2024 \nChecks can be payable and mailed to:\nFriends of J.B. Jennings\nP.O. Box 764\nBel Air\, MD 21014 \nLauren Fowler\, Treasurer \nSenate Budget and Taxation Committee\nRepublican\nDistrict 7\nBaltimore and Harford County
URL:https://www.smwpa.com/event/senator-j-b-jennings-2024-pre-election-fundraiser/
CATEGORIES:Fundraisers
END:VEVENT
BEGIN:VEVENT
DTSTART;TZID=America/New_York:20241029T173000
DTEND;TZID=America/New_York:20241029T193000
DTSTAMP:20260424T065805
CREATED:20240930T180240Z
LAST-MODIFIED:20240930T180240Z
UID:6497-1730223000-1730230200@www.smwpa.com
SUMMARY:Delegate Kathy Szeliga's Fundraiser
DESCRIPTION:Location:\nBoordy Vineyards\n12820 Long Green Pike\nHydes \nCost:\n$2\,500 Cabernet Sponsor (10 Tickets)\n$1\,000 Malbec Sponsor (4 Tickets)\n$500 Riesling Sponsor (2 Tickets)\n$250 Sangria Sponsor (1 Ticket)\n$125 Per Couple\n$75 Per Guest \nEvent Information:\nPlease RSVP by October 22\, 2024\, to jamie@ossolaconsulting.com\nCan purchase tickets online at: https://secure.anedot.com/kathyszeliga/2024boordy/ \nChecks can be payable and mailed to:\nFriends of Kathy Szeliga\nP.O. Box 11\nAnnapolis\, MD 21404 \nJames Appel\, Treasurer \nHouse Health and Government Operations Committee\nRepublican\nDistrict 7A\nBaltimore County
URL:https://www.smwpa.com/event/delegate-kathy-szeligas-fundraiser-5/
CATEGORIES:Fundraisers
END:VEVENT
BEGIN:VEVENT
DTSTART;TZID=America/New_York:20241029T173000
DTEND;TZID=America/New_York:20241029T193000
DTSTAMP:20260424T065805
CREATED:20240930T175413Z
LAST-MODIFIED:20240930T175413Z
UID:6495-1730223000-1730230200@www.smwpa.com
SUMMARY:Delegate Mike Griffith's Happy Hour Fundraiser
DESCRIPTION:Location:\nIndependent Brewing Company\n418 N Main Street\nBel Air \nCost:\n$6\,000 Platinum Sponsor\n$2\,500 Gold Sponsor\n$1\,000 Silver Sponsor\n$500 Bronze Sponsor\n$75 Per Couple\n$50 Per Person \nEvent Information:\nFor more information\, please contact 443-801-0423 or email delegate35b@gmail.com\nCan purchase tickets online at: https://secure.anedot.com/friends-of-mike-griffith/happyhouroct2024 \nHouse Ways and Means Committee\nRepublican\nDistrict 35A\nCecil and Harford County
URL:https://www.smwpa.com/event/delegate-mike-griffiths-happy-hour-fundraiser/
CATEGORIES:Fundraisers
END:VEVENT
BEGIN:VEVENT
DTSTART;TZID=America/New_York:20241027T130000
DTEND;TZID=America/New_York:20241027T160000
DTSTAMP:20260424T065805
CREATED:20241015T170451Z
LAST-MODIFIED:20241015T170451Z
UID:6541-1730034000-1730044800@www.smwpa.com
SUMMARY:Senator Michael Jackson's 3rd Annual Crab Feast Fundraiser
DESCRIPTION:Location:\nAbner’s Crabhouse\n3802 Harbor Road\nChesapeake Beach \nCost:\n$2\,700 Host (10 Tickets)\n$1\,000 Sponsor (5 Tickets)\n$500 Patron (2 Tickets)\n$270 Supporter (1 Ticket)\n$70 Friend (1 Ticket) \nEvent Information:\nFor more information\, please contact 240-883-6453 or email fomajackson@gmail.com\nCan purchase tickets online at: https://secure.fundhero.com/friendsofmichaelajackson/crabfeast2024 \nSenate Budget and Taxation Committee\nDemocrat\nDistrict 27\nCalvert\, Charles\, and Prince George’s County
URL:https://www.smwpa.com/event/senator-michael-jacksons-3rd-annual-crab-feast-fundraiser/
CATEGORIES:Fundraisers
END:VEVENT
BEGIN:VEVENT
DTSTART;TZID=America/New_York:20241024T190000
DTEND;TZID=America/New_York:20241024T200000
DTSTAMP:20260424T065805
CREATED:20240930T174533Z
LAST-MODIFIED:20240930T174533Z
UID:6492-1729796400-1729800000@www.smwpa.com
SUMMARY:Delegate Mike Rogers' Virtual Fundraiser
DESCRIPTION:Location:\nVirtual\nA Zoom link will be available upon RSVP \nCost:\n$2\,500 Host\n$1\,500 Co-Host\n$1\,000 Sponsor\n$500 Advocate\n$250 Patron\n$125 Guest \nEvent Information:\nFor more information\, please contact media@votemikerogers.com \nHouse Economic Matters Committee\nDemocrat\nDistrict 32\nAnne Arundel County
URL:https://www.smwpa.com/event/delegate-mike-rogers-virtual-fundraiser-3/
CATEGORIES:Fundraisers
END:VEVENT
BEGIN:VEVENT
DTSTART;TZID=America/New_York:20241024T183000
DTEND;TZID=America/New_York:20241024T203000
DTSTAMP:20260424T065805
CREATED:20241015T165955Z
LAST-MODIFIED:20241015T165955Z
UID:6539-1729794600-1729801800@www.smwpa.com
SUMMARY:Delegate Michele Guyton's Birthday Celebration Fundraiser
DESCRIPTION:Location:\nAddress Provided Upon RSVP \nCost:\n$2\,500 VIP Host\n$1\,000 Host\n$500 Sponsor\n$250 Supporter\n$100 Guest \nEvent Information:\nCan purchase tickets online at: https://secure.actblue.com/donate/guyton_birthday_2024 \nHouse Environment and Transportation Committee\nDemocrat\nDistrict 42B\nBaltimore County
URL:https://www.smwpa.com/event/delegate-michele-guytons-birthday-celebration-fundraiser/
CATEGORIES:Fundraisers
END:VEVENT
BEGIN:VEVENT
DTSTART;TZID=America/New_York:20241023T180000
DTEND;TZID=America/New_York:20241023T200000
DTSTAMP:20260424T065805
CREATED:20240930T170419Z
LAST-MODIFIED:20240930T170419Z
UID:6490-1729706400-1729713600@www.smwpa.com
SUMMARY:County Executive Johnny Olszewski\, Jr.'s Evening Fundraiser
DESCRIPTION:Location:\nBarley’s Backyard Uptown\n408 York Road\nTowson \nCost:\n$5\,000 Host\n$3\,300 Co-Host\n$1\,000 Sponsor\n$500 Supporter\n$100 Guest\n$50 Young Professional \nEvent Information:\nFor more information or to RSVP by check\, please contact Colin Buckeridge at 410-366-3940 ext 101 or email cb@helloadeo.com\nCan purchase tickets and RSVP online at: https://gojohnnyo.com/bigoctober/\n6:00 PM – Hosts Reception\n6:30 PM – General Reception \nBaltimore County Executive\nCandidate for Congress\nDemocrat
URL:https://www.smwpa.com/event/county-executive-johnny-olszewski-jr-s-evening-fundraiser/
CATEGORIES:Fundraisers
END:VEVENT
BEGIN:VEVENT
DTSTART;TZID=America/New_York:20241022T180000
DTEND;TZID=America/New_York:20241022T200000
DTSTAMP:20260424T065805
CREATED:20240923T235924Z
LAST-MODIFIED:20240923T235924Z
UID:6452-1729620000-1729627200@www.smwpa.com
SUMMARY:Delegate Jazz Lewis' Reception Fundraiser
DESCRIPTION:Location:\nCopper Canyon – Glenarden\n9300 Taj Lane\nLanham \nCost:\n$2\,500 Host\n$1\,000 Co-Host\n$500 Sponsor\n$150 Guest\n$75 Friend \nEvent Information:\nFor more information or to RSVP\, please contact Meaghan at 410-838-6355 or email meaghanelsner@riceconsultingllc.com\nCan purchase tickets and RSVP online at: https://secure.actblue.com/donate/jazz241022/ \nChecks can be payable and mailed to:\nFriends of Jazz Lewis\nc/o Rice Consulting\n17 W. Courtland Street\nSuite 210\nBel Air\, MD 21014 \nChris Taitt\, Treasurer \nHouse Appropriations Committee\nHouse Majority Whip\nDemocrat\nDistrict 24\nPrince George’s County
URL:https://www.smwpa.com/event/delegate-jazz-lewis-reception-fundraiser/
CATEGORIES:Fundraisers
END:VEVENT
BEGIN:VEVENT
DTSTART;TZID=America/New_York:20241021T180000
DTEND;TZID=America/New_York:20241021T193000
DTSTAMP:20260424T065805
CREATED:20240930T163921Z
LAST-MODIFIED:20240930T163921Z
UID:6488-1729533600-1729539000@www.smwpa.com
SUMMARY:Delegate Kevin Harris' Birthday Celebration Fundraiser
DESCRIPTION:Location:\nMarylou’s\n731 Cady Drive\nFort Washington \nCost:\n$2\,043 Sponsor\n$1\,043 Host\n$543 Happy Birthday\n$243 Friend \nEvent Information:\nFor more information\, please contact info@kevinmharris.org\nCan purchase tickets online at: https://secure.actblue.com/donate/kmh43 \nChecks can be payable and mailed to:\nFriends of Kevin M. Harris\n15912 Crain Hwy\nUnit 116\nBrandywine\, MD 20613 \nDiane Crews\, Treasurer \nHouse Appropriations Committee\nDemocrat\nDistrict 27A\nCharles and Prince George’s County
URL:https://www.smwpa.com/event/delegate-kevin-harris-birthday-celebration-fundraiser/
CATEGORIES:Fundraisers
END:VEVENT
BEGIN:VEVENT
DTSTART;TZID=America/New_York:20241021T173000
DTEND;TZID=America/New_York:20241021T193000
DTSTAMP:20260424T065805
CREATED:20240930T163227Z
LAST-MODIFIED:20240930T163227Z
UID:6485-1729531800-1729539000@www.smwpa.com
SUMMARY:Senator Clarence Lam's Reception Fundraiser
DESCRIPTION:Location:\nSapwood Cellars\n8980 MD Route 108\nColumbia \nCost:\n$4\,000 Presidential Sponsor\n$2\,000 Platinum Sponsor\n$1\,000 Gold Sponsor\n$500 Silver Sponsor\n$250 Bronze Sponsor\n$50 Guest Ticket \nEvent Information:\nFor more information\, please contact info@clarencelam.com\nCan contribute online at: https://www.clarencelam.com/donate \nChecks can be payable and mailed to:\nFriends of Clarence Lam\nP.O. Box 891\nColumbia\, MD 21044 \nPat Payne\, Treasurer \nSenate Finance Committee\nDemocrat\nDistrict 12\nAnne Arundel and Howard County
URL:https://www.smwpa.com/event/senator-clarence-lams-reception-fundraiser/
CATEGORIES:Fundraisers
END:VEVENT
END:VCALENDAR