BEGIN:VCALENDAR
VERSION:2.0
PRODID:-//SCHWARTZ, METZ &amp; WISE, P.A. - ECPv6.13.2.1//NONSGML v1.0//EN
CALSCALE:GREGORIAN
METHOD:PUBLISH
X-ORIGINAL-URL:https://www.smwpa.com
X-WR-CALDESC:Events for SCHWARTZ, METZ &amp; WISE, P.A.
REFRESH-INTERVAL;VALUE=DURATION:PT1H
X-Robots-Tag:noindex
X-PUBLISHED-TTL:PT1H
BEGIN:VTIMEZONE
TZID:America/New_York
BEGIN:DAYLIGHT
TZOFFSETFROM:-0500
TZOFFSETTO:-0400
TZNAME:EDT
DTSTART:20250309T070000
END:DAYLIGHT
BEGIN:STANDARD
TZOFFSETFROM:-0400
TZOFFSETTO:-0500
TZNAME:EST
DTSTART:20251102T060000
END:STANDARD
END:VTIMEZONE
BEGIN:VEVENT
DTSTART;TZID=America/New_York:20250507T080000
DTEND;TZID=America/New_York:20250507T093000
DTSTAMP:20260424T030523
CREATED:20250424T162103Z
LAST-MODIFIED:20250424T170210Z
UID:6832-1746604800-1746610200@www.smwpa.com
SUMMARY:Senator Craig Zucker's Breakfast Reception Fundraiser
DESCRIPTION:Location:\nWoodholme Country Club\n300 Woodholme Avenue\nPikesville \nCost:\n$6\,000 Platinum\n$4\,000 Gold\n$2\,500 Silver\n$1\,000 Bronze \nEvent Information:\nFor more information or to RSVP\, please contact Tory Ricas at tricas@residentialtitle.com\nCan contribute online at: https://www.craigzucker.com \nSenate Budget and Taxation Committee\nDemocrat\nDistrict 14\nMontgomery County
URL:https://www.smwpa.com/event/senator-craig-zuckers-breakfast-reception/
CATEGORIES:Fundraisers
END:VEVENT
BEGIN:VEVENT
DTSTART;TZID=America/New_York:20250514T180000
DTEND;TZID=America/New_York:20250514T193000
DTSTAMP:20260424T030523
CREATED:20250424T165531Z
LAST-MODIFIED:20250424T170158Z
UID:6847-1747245600-1747251000@www.smwpa.com
SUMMARY:Senator Dawn Gile's Happy Hour Reception Fundraiser
DESCRIPTION:Location:\nCafe Mezzanotte\n760 Ritchie Highway\nSeverna Park \nCost:\n$2\,000 Hearty Host\n$1\,000 Sonoma Sponsor\n$500 Piedmont Patron\n$250 Genoa Guest\n$100 Dolce District 33 Resident \nEvent Information:\nFor more information\, please contact Rice Consulting at 410-838-6355 or email dawngile@riceconsultingllc.com\nCan purchase tickets online at: https://secure.ngpvan.com/02CouktAUk6P-QUqhQytrA2 \nChecks can be payable and mailed to:\nCommittee to Elect Dawn Gile\nc/o Rice Consulting\n17 W. Courtland Street\nSuite 210\nBel Air\, MD 21014 \nCara O’Brien\, Treasurer \nSenate Finance Committee\nDemocrat\nDistrict 33\nAnne Arundel County
URL:https://www.smwpa.com/event/senator-dawn-giles-happy-hour-reception-2/
CATEGORIES:Fundraisers
END:VEVENT
BEGIN:VEVENT
DTSTART;TZID=America/New_York:20250514T180000
DTEND;TZID=America/New_York:20250514T200000
DTSTAMP:20260424T030523
CREATED:20250107T173636Z
LAST-MODIFIED:20250107T173649Z
UID:6823-1747245600-1747252800@www.smwpa.com
SUMMARY:Delegate Diana Fennell's Fundraiser
DESCRIPTION:This event was previously scheduled for 1/7/2025 – Any tickets purchased for the rescheduled event will be honored for this date. \nLocation:\nStation 202 Restaurant & Bar\n5820 Landover Road\nHyattsville \nCost:\n$2\,000 Champion\n$1\,000 Supporter\n$500 Friend\n$250 Guest \nEvent Information:\nFor more information or to RSVP\, please contact Jeremiah Pope at dianafennellevent@jpopeconsulting.com \nChecks can be payable and mailed to:\nFriends of Diana Fennell\nP.O. Box 514\nBladensburg\, MD 20710 \nJanet Lucas\, Treasurer \nHouse Economic Matters Committee\nDemocrat\nDistrict 47A\nPrince George’s County
URL:https://www.smwpa.com/event/delegate-diana-fennels-fundraiser/
CATEGORIES:Fundraisers
END:VEVENT
BEGIN:VEVENT
DTSTART;TZID=America/New_York:20250518T150000
DTEND;TZID=America/New_York:20250518T170000
DTSTAMP:20260424T030523
CREATED:20250424T170047Z
LAST-MODIFIED:20250424T170047Z
UID:6849-1747580400-1747587600@www.smwpa.com
SUMMARY:Delegate Chris Tomlinson's Post-Legislative Session Recap Fundraiser
DESCRIPTION:Location:\nO’Lordans Irish Pub\n14 Liberty Street\nWestminster \nCost:\n$1\,000 Pot of Gold Sponsor\n$500 Shamrock Sponsor\n$250 Leprechaun Sponsor\n$100 Couple\n$50 Individual Ticket \nEvent Information:\nFor more information\, please contact ChristopherTomlinson1@gmail.com\nCan purchase tickets online at: https://secure.anedot.com/friendsofchristophertomlinson/9a482da8-82d5-4bd9-9510-2f85cb96007d\nPlease RSVP by May 11\, 2025 \nChecks can be payable and mailed to:\nFriends of Christopher Tomlinson\n4305 Hanover Pike\nManchester\, MD 21102 \nAaron Matty\, Treasurer \nHouse Judiciary Committee\nRepublican\nDistrict 5\nCarroll and Frederick County
URL:https://www.smwpa.com/event/delegate-chris-tomlinsons-post-legislative-session-recap-fundraiser/
CATEGORIES:Fundraisers
END:VEVENT
BEGIN:VEVENT
DTSTART;TZID=America/New_York:20250519T170000
DTEND;TZID=America/New_York:20250519T190000
DTSTAMP:20260424T030523
CREATED:20250424T162709Z
LAST-MODIFIED:20250424T162741Z
UID:6834-1747674000-1747681200@www.smwpa.com
SUMMARY:Delegate Ryan Nawrocki's Fundraiser
DESCRIPTION:Location:\nPooles Island Brewing Co.\n11695 Crossroads Circle\nSuite A\nMiddle River \nCost:\n$6\,000 Co-Host\n$2\,500 Stripes Sponsor\n$1\,000 Stars Sponsor\n$500 Blue Sponsor\n$250 Red Sponsor\n$75 Couple\n$50 Per Person\n$40 Seniors \nEvent Information:\nFor more information\, please contact 443-875-3886 or email Nicole@OssolaConsulting.com\nCan contribute online at: https://www.ryannawrocki.com/brewery \nHouse Environment and Transportation Committee\nRepublican\nDistrict 7A\nBaltimore County
URL:https://www.smwpa.com/event/delegate-ryan-nawrockis-fundraiser-3/
CATEGORIES:Fundraisers
END:VEVENT
BEGIN:VEVENT
DTSTART;TZID=America/New_York:20250520T080000
DTEND;TZID=America/New_York:20250520T093000
DTSTAMP:20260424T030523
CREATED:20250424T171223Z
LAST-MODIFIED:20250424T171223Z
UID:6856-1747728000-1747733400@www.smwpa.com
SUMMARY:Senator Pam Beidle's Breakfast Reception Fundraiser
DESCRIPTION:Location:\nThe Hotel at Arundel Preserve\n7795 Arundel Mills Boulevard\nHanover \nCost:\n$5\,000 Diamond Sponsor (10 Tickets)\n$2\,500 Platinum Sponsor (5 Tickets)\n$1\,000 Gold Sponsor (2 Tickets)\n$250 Guest (1 Ticket) \nEvent Information:\nFor more information\, please contact Rice Consulting at 410-838-6355 or email pambeidle@riceconsultingllc.com\nCan purchase tickets online at: https://secure.ngpvan.com/fwwiT0ll5UuCvLw5kj8tqg2 \nChecks can be payable and mailed to:\nFriends of Pam Beidle\nc/o Rice Consulting\n17 W. Courtland Street\nSuite 210\nBel Air\, Maryland 21014 \nLeonard Beidle\, Treasurer \nChair\, Senate Finance Committee\nDemocrat\nDistrict 32\nAnne Arundel County
URL:https://www.smwpa.com/event/senator-pam-beidles-breakfast-reception-fundraiser/
CATEGORIES:Fundraisers
END:VEVENT
BEGIN:VEVENT
DTSTART;TZID=America/New_York:20250520T170000
DTEND;TZID=America/New_York:20250520T190000
DTSTAMP:20260424T030523
CREATED:20250508T151513Z
LAST-MODIFIED:20250508T151513Z
UID:6863-1747760400-1747767600@www.smwpa.com
SUMMARY:Senator Will Smith's Pints Policy Politics Fundraiser
DESCRIPTION:Location:\nSilver Branch Brewing Company\n8401 Colesville Road\nSilver Spring \nCost:\nFree Event \nEvent Information:\nFor more information\, please contact will.smith@senate.state.md.us\nCan register online at: https://app.jotform.com/251175355522151?utm_source=share-qr&utm_medium=website&utm_campaign=portal-app&utm_term=251175355522151 \nChair\, Senate Judicial Proceedings Committee\nDemocrat\nDistrict 20\nMontgomery County
URL:https://www.smwpa.com/event/senator-will-smiths-pints-policy-politics-fundraiser/
CATEGORIES:Fundraisers
END:VEVENT
BEGIN:VEVENT
DTSTART;TZID=America/New_York:20250520T180000
DTEND;TZID=America/New_York:20250520T200000
DTSTAMP:20260424T030523
CREATED:20250424T163126Z
LAST-MODIFIED:20250424T170146Z
UID:6837-1747764000-1747771200@www.smwpa.com
SUMMARY:Delegate Andrew Pruski's Post Session Reception Fundraiser
DESCRIPTION:Location:\nCrooked Crab Brewing Company\n8251 Telegraph Road\nSuite D\nOdenton \nCost:\n$1\,500 Stout Sponsor\n$1\,000 IPA Sponsor\n$750 Lager Sponsor\n$500 Pilsner Sponsor\n$150 Individual Sponsor Ticket\n$50 District 33 Resident \nEvent Information:\nFor more information or to RSVP\, please contact pruski22mgr@gmail.com \nHouse Economic Matters Committee\nDemocrat\nDistrict 33A\nAnne Arundel County
URL:https://www.smwpa.com/event/delegate-andrew-pruskis-post-session-reception-3/
CATEGORIES:Fundraisers
END:VEVENT
BEGIN:VEVENT
DTSTART;TZID=America/New_York:20250522T080000
DTEND;TZID=America/New_York:20250522T090000
DTSTAMP:20260424T030523
CREATED:20250424T171712Z
LAST-MODIFIED:20250424T171712Z
UID:6858-1747900800-1747904400@www.smwpa.com
SUMMARY:Delegate Mike Rogers' Breakfast Fundraiser
DESCRIPTION:Location:\nMaritime Conference Center\n692 Maritime Boulevard\nLinthicum Heights \nCost:\n$2\,500 Host\n$1\,500 Co-Host\n$1\,000 Sponsor\n$500 Advocate\n$250 Patron\n$125 Guest \nEvent Information:\nFor more information\, please contact media@votemikerogers.com \nChecks can be payable and mailed to:\nMike Rogers Campaign Committee\n8613 Indian Springs Road\nLaurel\, MD 20724 \nAntonio Downing\, Treasurer \nHouse Economic Matters Committee\nDemocrat\nDistrict 32\nAnne Arundel County
URL:https://www.smwpa.com/event/delegate-mike-rogers-breakfast-fundraiser-6/
CATEGORIES:Fundraisers
END:VEVENT
BEGIN:VEVENT
DTSTART;TZID=America/New_York:20250523T080000
DTEND;TZID=America/New_York:20250523T100000
DTSTAMP:20260424T030523
CREATED:20250424T163429Z
LAST-MODIFIED:20250424T163429Z
UID:6839-1747987200-1747994400@www.smwpa.com
SUMMARY:Senator Johnny Ray Salling's Annual Breakfast Fundraiser
DESCRIPTION:Location:\nThe Costas Inn\n4100 North Point Boulevard\nDundalk \nCost:\n$5\,000 Platinum Sponsor\n$2\,500 Gold Sponsor\n$1\,000 Silver Sponsor\n$500 Bronze Sponsor\n$50 Per Person \nEvent Information:\nTo purchase tickets\, please contact Roger Locklear at 410-977-8025 \nSenate Budget and Taxation Committee\nRepublican\nDistrict 6\nBaltimore County
URL:https://www.smwpa.com/event/senator-johnny-ray-sallings-annual-breakfast-fundraiser-2/
CATEGORIES:Fundraisers
END:VEVENT
BEGIN:VEVENT
DTSTART;TZID=America/New_York:20250531T140000
DTEND;TZID=America/New_York:20250531T160000
DTSTAMP:20260424T030523
CREATED:20250424T163906Z
LAST-MODIFIED:20250424T163906Z
UID:6841-1748700000-1748707200@www.smwpa.com
SUMMARY:Delegate Marc Korman's Fundraiser
DESCRIPTION:Location:\nThe Home of Steve and Sandy Foote\nAddress Available Upon RSVP\nBethesda \nCost:\n$500 Golden Gloves\n$250 Silver Sluggers\n$100 General Admission\n$25 Young Democrats \nEvent Information:\nFor more information\, please contact marc@marckorman.com\nCan purchase tickets online at: https://secure.actblue.com/donate/korman-2025 \nChair\, House Environment and Transportation Committee\nDemocrat\nDistrict 16\nMontgomery County
URL:https://www.smwpa.com/event/delegate-marc-kormans-fundraiser-4/
CATEGORIES:Fundraisers
END:VEVENT
BEGIN:VEVENT
DTSTART;TZID=America/New_York:20250531T170000
DTEND;TZID=America/New_York:20250531T200000
DTSTAMP:20260424T030523
CREATED:20250508T152302Z
LAST-MODIFIED:20250508T152302Z
UID:6865-1748710800-1748721600@www.smwpa.com
SUMMARY:Delegate Kym Taylor's Boots on the Ground Fundraiser
DESCRIPTION:Location:\nAroma Ultra Lounge\n4000 Town Center Boulevard\nBowie \nCost:\n$100 General Admission \nEvent Information:\nCan purchase tickets online at: https://secure.actblue.com/donate/kt2025summerfundraiser \nChecks can be payable and mailed to:\nFriends for Kym Taylor\n3540 Crain Highway\nSuite 153\nBowie\, MD 20716 \nVivian P. Jenkins\, CPA\, Treasurer \nHouse Judiciary Committee\nDemocrat\nDistrict 23\nPrince George’s County
URL:https://www.smwpa.com/event/delegate-kym-taylors-boots-on-the-ground-fundraiser/
CATEGORIES:Fundraisers
END:VEVENT
BEGIN:VEVENT
DTSTART;TZID=America/New_York:20250601T120500
DTEND;TZID=America/New_York:20250601T170500
DTSTAMP:20260424T030523
CREATED:20250508T153847Z
LAST-MODIFIED:20250508T153847Z
UID:6867-1748779500-1748797500@www.smwpa.com
SUMMARY:Delegate Stuart Schmidt's Orioles Baseball Game Fundraiser
DESCRIPTION:Location:\nOriole Park at Camden Yards\n333 West Camden Street\nBaltimore \nCost:\n$2\,000 Grandslam VIP Sponsor\n$1\,000 Food & Beverage Sponsor\n$850 Home Run\n$650 Triple\n$450 Double\n$250 Single \nEvent Information:\nCan purchase tickets online at: https://secure.anedot.com/schmidt4delegate/29832c5a-a2be-4293-95b0-603dca2ee230\nGates open 12:05pm\nGame time 1:35pm\nAll inclusive suite box event \nHouse Judiciary Committee\nRepublican\nDistrict 33B\nAnne Arundel County
URL:https://www.smwpa.com/event/delegate-stuart-schmidts-orioles-baseball-game-fundraiser/
CATEGORIES:Fundraisers
END:VEVENT
BEGIN:VEVENT
DTSTART;TZID=America/New_York:20250602T173000
DTEND;TZID=America/New_York:20250602T190000
DTSTAMP:20260424T030523
CREATED:20250430T175912Z
LAST-MODIFIED:20250430T175912Z
UID:6860-1748885400-1748890800@www.smwpa.com
SUMMARY:Senator Cory McCray's Fundraiser
DESCRIPTION:Location:\nSalud Sports Bar Lounge & Restaurant\n200 S. Haven Street\nBaltimore \nCost:\n$2\,500 Gold\n$1\,000 Silver\n$500 Bronze\n$125 Supporter \nEvent Information:\nFor more information or to RSVP\, please contact Tamika Winkler at 443-768-5617 or email info@electcorymccray.com\nCan purchase tickets online at: https://secure.actblue.com/donate/senatormccray2025 \nChecks can be payable and mailed to:\nFriends of Cory McCray\nP.O. Box 18741\nBaltimore\, MD 21206 \nCharmaine Turner\, Treasurer \nSenate Budget and Taxation Committee\nDemocrat\nDistrict 45\nBaltimore City
URL:https://www.smwpa.com/event/senator-cory-mccrays-fundraiser-7/
CATEGORIES:Fundraisers
END:VEVENT
BEGIN:VEVENT
DTSTART;TZID=America/New_York:20250603T173000
DTEND;TZID=America/New_York:20250603T193000
DTSTAMP:20260424T030523
CREATED:20250508T155552Z
LAST-MODIFIED:20250508T155552Z
UID:6869-1748971800-1748979000@www.smwpa.com
SUMMARY:Delegate Eric Ebersole's Happy Hour Fundraiser
DESCRIPTION:Location:\nHeavy Seas Brewery\n4615 Hollins Ferry Road\nHalethorpe \nCost:\n$1\,000 Friend 4 Life\n$500 Best Friend\n$250 Good Friend\n$100 Friend\n$50 Constituent \nEvent Information:\nFor more information\, please contact eric@ericebersole.org\nCan purchase tickets online at: https://secure.actblue.com/donate/ericebersole24 \nChecks can be payable and mailed to:\nElect Eric Ebersole\n133 Oakdale Avenue\nCatonsville\, MD 21228 \nCaroline D. Ebersole\, Treasurer \nHouse Ways and Means Committee\nDemocrat\nDistrict 44A\nBaltimore County
URL:https://www.smwpa.com/event/delegate-eric-ebersoles-happy-hour-fundraiser/
CATEGORIES:Fundraisers
END:VEVENT
BEGIN:VEVENT
DTSTART;TZID=America/New_York:20250604T073000
DTEND;TZID=America/New_York:20250604T090000
DTSTAMP:20260424T030523
CREATED:20250513T152516Z
LAST-MODIFIED:20250513T152516Z
UID:6893-1749022200-1749027600@www.smwpa.com
SUMMARY:Delegate Nic Kipke's Breakfast Fundraiser
DESCRIPTION:Location:\nThe Rumor Rell Restaurant\n1701 Poplar Ridge Road\nPasadena \nCost:\n$5\,000 Co-Host (20 Tickets)\n$2\,500 Stripes Sponsor (6 Tickets)\n$1\,000 Stars Sponsor (4 Tickets)\n$500 Blue Sponsor (2 Tickets)\n$250 Red Sponsor (1 Ticket)\n$125 Per Couple\n$100 Per Person\n$40 Seniors \nEvent Information:\nFor more information\, please contact 443-875-3886 or email nicole@ossolaconsulting.com\nCan purchase tickets online at: https://www.kipke.com/breakfast \nChecks can be payable and mailed to:\nFriends of Nic Kipke\nP.O. Box 11\nAnnapolis\, MD 21404 \nJudy Glinka\, Treasurer \nHouse Health and Government Operations Committee\nCandidate for State Senate\nRepublican\nDistrict 31\nAnne Arundel County
URL:https://www.smwpa.com/event/delegate-nic-kipkes-breakfast-fundraiser-2/
CATEGORIES:Fundraisers
END:VEVENT
BEGIN:VEVENT
DTSTART;TZID=America/New_York:20250604T173000
DTEND;TZID=America/New_York:20250604T193000
DTSTAMP:20260424T030523
CREATED:20250508T160753Z
LAST-MODIFIED:20250508T160753Z
UID:6871-1749058200-1749065400@www.smwpa.com
SUMMARY:Senator Antonio Hayes' Fundraiser
DESCRIPTION:Location:\nBaltimore’s Latest Food Hall – The Mill On North\n2636 West North Avenue\nBaltimore \nCost:\n$2\,500 Champion\n$1\,000 Sponsor\n$500 Host\n$250 Friend \nEvent Information:\nFor more information\, please contact Haley at 410-547-8884 or email haley@martinlauer.com\nCan purchase tickets and RSVP online at: https://secure.actblue.com/donate/hayes-at-the-mill \nChecks can be payable and mailed to:\nCitizens for Antonio Hayes\n1215 E Fort Ave.\nSuite 106\nBaltimore\, MD 21230 \nJoseph A. Powell\, Treasurer \nVice-Chair\, Senate Finance Committee\nDemocrat\nDistrict 40\nBaltimore City
URL:https://www.smwpa.com/event/senator-antonio-hayes-fundraiser-2/
CATEGORIES:Fundraisers
END:VEVENT
BEGIN:VEVENT
DTSTART;TZID=America/New_York:20250605T180000
DTEND;TZID=America/New_York:20250605T200000
DTSTAMP:20260424T030523
CREATED:20250508T161903Z
LAST-MODIFIED:20250508T161903Z
UID:6873-1749146400-1749153600@www.smwpa.com
SUMMARY:House Speaker Adrienne Jones' Spring into Summer Fundraiser
DESCRIPTION:Location:\nOverhills Mansion\n916 South Rolling Road\nCatonsville \nCost:\n$2\,500 Splish Splash Sponsor\n$1\,000 Picnic Patron\n$500 Garden Guest \nEvent Information:\nFor more information\, please contact 410-838-6355 or email adriennejones@riceconsultingllc.com\nCan purchase tickets online at: https://secure.ngpvan.com/2EbqiDreXUS2Gp0ZTb4j4g2 \nChecks can be payable and mailed to:\nCitizens for Adrienne Jones\nc/o Rice Consulting\n17 W. Courtland Street\nSuite 210\nBel Air\, MD 21014 \nArnold Jablon\, Treasurer \nSpeaker of the House of Delegates\nDemocrat\nDistrict 10\nBaltimore County
URL:https://www.smwpa.com/event/house-speaker-adrienne-jones-spring-into-summer-fundraiser-3/
CATEGORIES:Fundraisers
END:VEVENT
BEGIN:VEVENT
DTSTART;TZID=America/New_York:20250605T183000
DTEND;TZID=America/New_York:20250605T210000
DTSTAMP:20260424T030523
CREATED:20250514T200820Z
LAST-MODIFIED:20250514T200820Z
UID:6905-1749148200-1749157200@www.smwpa.com
SUMMARY:Delegate Brian Chisholm's Bourbon & Barbecue Soiree Fundraiser
DESCRIPTION:Location:\nThe Home of Delegate Chisholm\nAddress Provided Upon RSVP\nSeverna Park \nCost:\n$2\,500 Lowcountry Legends\n$1\,500 Freedom Folks\n$500 Front Porch Friends\n$150 Per Couple\n$100 Per Person\n$75 Seniors/Veterans \nEvent Information:\nFor more information\, please contact chisholmformaryland@gmail.com\nCan purchase tickets online at: https://secure.anedot.com/chisholm/soiree\nPlease RSVP by June 1\, 2025. \nChecks can be payable and mailed to:\nCitizens for Brian Chisholm\n258 Moreau Lane\nSeverna Park\, MD 21146 \nBrian Crepeau\, Treasurer \nHouse Health and Government Operations Committee\nRepublican\nDistrict 31\nAnne Arundel County
URL:https://www.smwpa.com/event/delegate-brian-chisholms-bourbon-barbecue-soiree-fundraiser/
CATEGORIES:Fundraisers
END:VEVENT
BEGIN:VEVENT
DTSTART;TZID=America/New_York:20250607T170000
DTEND;TZID=America/New_York:20250607T190000
DTSTAMP:20260424T030523
CREATED:20250508T163056Z
LAST-MODIFIED:20250508T163524Z
UID:6875-1749315600-1749322800@www.smwpa.com
SUMMARY:Delegate Bernice Mireku-North's Wine Tasting Fundraiser
DESCRIPTION:Location:\nAddress provided upon receipt of contribution\nGlenwood \nCost:\n$2\,500 Cellar Master\n$1\,000 Vineyard Benefactor\n$250 Tasting Trailblazer \nEvent Information:\nCan purchase tickets online at: https://secure.actblue.com/donate/unwine4bernice \nChecks can be payable and mailed to:\nFriends of Bernice Mireku-North\n5016 Dorsey Hall Drive\nSuite 202\nEllicott City\, MD 21043 \nMatthew Enekwe\, Treasurer \nHouse Ways and Means Committee\nDemocrat\nDistrict 14\nMontgomery County
URL:https://www.smwpa.com/event/delegate-bernice-mireku-north-wine-tasting-fundraiser/
CATEGORIES:Fundraisers
END:VEVENT
BEGIN:VEVENT
DTSTART;TZID=America/New_York:20250610T180000
DTEND;TZID=America/New_York:20250610T193000
DTSTAMP:20260424T030523
CREATED:20250521T185409Z
LAST-MODIFIED:20250521T185409Z
UID:6908-1749578400-1749583800@www.smwpa.com
SUMMARY:Delegate Regina Boyce's Celebration of National Caribbean Heritage Month Fundraiser
DESCRIPTION:Location:\nThe Historic Clifton Mansion\n2701 St Lo Drive\nBaltimore \nCost:\n$1\,000 Host\n$500 Sponsor\n$250 Supporter \nEvent Information:\nFor more information\, please contact Stephanie at RSVP@mellingergroup.com\nCan purchase tickets online at: https://secure.actblue.com/donate/2025junecmtmg \nChecks can be payable and mailed to:\nFriends of Regina T. Boyce\n3511 Old York Road\nBaltimore\, MD 21218 \nLindsey D. Hendrick\, Treasurer \nVice-Chair\, House Environment and Transportation Committee\nDemocrat\nDistrict 43A\nBaltimore City
URL:https://www.smwpa.com/event/delegate-regina-boyces-celebration-of-national-caribbean-heritage-month-fundraiser/
CATEGORIES:Fundraisers
END:VEVENT
BEGIN:VEVENT
DTSTART;TZID=America/New_York:20250610T180000
DTEND;TZID=America/New_York:20250610T203000
DTSTAMP:20260424T030523
CREATED:20250508T165046Z
LAST-MODIFIED:20250508T165046Z
UID:6878-1749578400-1749587400@www.smwpa.com
SUMMARY:Senator Ron Watson's Bourbon & Cigars Fundraiser
DESCRIPTION:Location:\nAddress Provided Upon RSVP \nCost:\n$3\,000 Liga Privada\n$1\,000 Cohiba\n$500 Partagas\n$250 Montecristo \nEvent Information:\nFor more information\, please contact Rice Consulting at 410-838-6355 or email ronwatson@riceconsultingllc.com\nCan purchase tickets online at: https://secure.actblue.com/donate/250610watson \nChecks can be payable and mailed to:\nFriends of Ron Watson\nc/o Rice Consulting\n17 W. Courtland St.\nSuite 210\nBel Air\, MD 21014 \nSean Osborne\, Treasurer \nSenate Education\, Energy\, and the Environment Committee\nDemocrat\nDistrict 23\nPrince George’s County
URL:https://www.smwpa.com/event/senator-ron-watsons-bourbon-cigars-fundraiser/
CATEGORIES:Fundraisers
END:VEVENT
BEGIN:VEVENT
DTSTART;TZID=America/New_York:20250610T180000
DTEND;TZID=America/New_York:20250610T210000
DTSTAMP:20260424T030523
CREATED:20250424T164405Z
LAST-MODIFIED:20250513T145751Z
UID:6843-1749578400-1749589200@www.smwpa.com
SUMMARY:Senator Mike McKay's Scotch & Cigar Train Fundraiser (Powered by "Maryland Thunder" Steam Locomotive No. 1309)
DESCRIPTION:Location:\nHistoric Western Maryland Railway Station (Cumberland-Frostburg Round Trip)\n13 Canal Street\nCumberland \nCost:\n$1\,000 Conductor Sponsorship\n$750 Brakeman Sponsorship\n$500 Engineer Sponsorship\n$175 Per Ticket (Premium Experience – Cigar and Scotch)\n$100 Per Ticket (Deluxe Coach and Cash Bar) \nEvent Information:\nCan purchase tickets online at: https://secure.anedot.com/e373f385-3868-455f-8c59-613dda62bde1/june10th\n6:00pm – 6:30pm – Check-in/Boarding\n7:00pm – Train Ride \nChecks can be payable and mailed to:\nCitizens to Elect Mike McKay\n407 Washington Street\nCumberland\, MD 21502 \nJeremy Bender\, Treasurer \nSenate Judicial Proceedings Committee\nRepublican\nDistrict 1\nAllegany\, Garrett\, and Washington County
URL:https://www.smwpa.com/event/senator-mike-mckays-scotch-cigar-train-powered-by-maryland-thunder-steam-locomotive-no-1309/
CATEGORIES:Fundraisers
END:VEVENT
BEGIN:VEVENT
DTSTART;TZID=America/New_York:20250611T080000
DTEND;TZID=America/New_York:20250611T170000
DTSTAMP:20260424T030523
CREATED:20250521T191535Z
LAST-MODIFIED:20250521T191535Z
UID:6910-1749628800-1749661200@www.smwpa.com
SUMMARY:Delegate Diana Fennell's Reception Fundraiser
DESCRIPTION:Location:\nStation 202\n5820 Landover Road\nHyattsville \nCost:\n$2\,000 Champion\n$1\,000 Supporter\n$500 Friend\n$250 Guest \nEvent Information:\nFor more information or to RSVP\, please contact Jeremiah Pope at DianaFennellEvent@jpopeconsulting.com\nCan purchase tickets online at: https://secure.actblue.com/donate/dianafennelljun112025event \nHouse Economic Matters Committee\nDemocrat\nDistrict 47A\nPrince George’s County
URL:https://www.smwpa.com/event/delegate-diana-fennells-reception-fundraiser-2/
CATEGORIES:Fundraisers
END:VEVENT
BEGIN:VEVENT
DTSTART;TZID=America/New_York:20250611T180000
DTEND;TZID=America/New_York:20250611T200000
DTSTAMP:20260424T030523
CREATED:20250508T170052Z
LAST-MODIFIED:20250508T170052Z
UID:6880-1749664800-1749672000@www.smwpa.com
SUMMARY:Senator Craig Zucker's 5th Annual Taste of District 14 Fundraiser
DESCRIPTION:Location:\nBella Vita Farm\n4901 Brookeville Road\nBrookeville \nCost:\n$2\,000 Platinum Sponsor\n$1\,000 Gold Sponsor\n$500 Silver Sponsor\n$250 Sponsor\n$100 Donor\n$50 Guest \nEvent Information:\nFor more information\, please contact 301-476-0914 or email info@craigzucker.com\nCan purchase tickets online at: https://secure.ngpvan.com/tWkA1Gxo_0KUSZtsN9lhog2?emci=1750186a-ad29-f011-8b3d-6045bded8cca&emdi=e49835f0-b929-f011-8b3d-6045bded8cca&ceid=2431202\nEvent will take place in rain or shine. \nSenate Budget and Taxation Committee\nDemocrat\nDistrict 14\nMontgomery County
URL:https://www.smwpa.com/event/senator-craig-zuckers-5th-annual-taste-of-district-14-fundraiser/
CATEGORIES:Fundraisers
END:VEVENT
BEGIN:VEVENT
DTSTART;TZID=America/New_York:20250612T080000
DTEND;TZID=America/New_York:20250612T093000
DTSTAMP:20260424T030523
CREATED:20250521T215200Z
LAST-MODIFIED:20250521T215200Z
UID:6912-1749715200-1749720600@www.smwpa.com
SUMMARY:Senator Justin Ready's Wrap-Up of the 2025 Legislative Session Fundraiser
DESCRIPTION:Location:\nGreenmount Station Restaurant\n1631 N. Main Street\nHampstead \nCost:\n$2\,000 Event Host\n$1\,000 Platinum Sponsor\n$500 Gold Sponsor\n$300 Silver Sponsor\n$150 Two Tickets\n$75 Single Ticket \nEvent Information:\nCan purchase tickets online at: https://secure.anedot.com/friends-of-justin-ready/bizbreakfast2025 \nChecks can be payable and mailed to:\nFriends of Justin Ready\nP.O. Box 402\nWestminster\, MD 21158 \nRebecca Alford Ready\, Treasurer \nSenate Finance Committee\nRepublican\nDistrict 5\nCaroll and Frederick County
URL:https://www.smwpa.com/event/senator-justin-readys-wrap-up-of-the-2025-legislative-session-fundraiser/
CATEGORIES:Fundraisers
END:VEVENT
BEGIN:VEVENT
DTSTART;TZID=America/New_York:20250612T180000
DTEND;TZID=America/New_York:20250612T193000
DTSTAMP:20260424T030523
CREATED:20250610T174408Z
LAST-MODIFIED:20250610T174408Z
UID:6949-1749751200-1749756600@www.smwpa.com
SUMMARY:Delegate Malcolm Ruff's Reception Fundraiser
DESCRIPTION:Location:\nThe Home of Sam Lennon\nAddress Available Upon RSVP\nBaltimore \nCost:\n$5\,000 Host\n$1\,000 Sponsor\n$500 Friend\n$250 Guest \nEvent Information:\nFor more information\, please contact rsvp@mellingergroup.com\nCan purchase tickets online at: https://secure.actblue.com/donate/committee-for-malcolm-p–ruff-2025june12 \nHouse Appropriations Committee\nDemocrat\nDistrict 41\nBaltimore City
URL:https://www.smwpa.com/event/delegate-malcolm-ruffs-reception-fundraiser/
CATEGORIES:Fundraisers
END:VEVENT
BEGIN:VEVENT
DTSTART;TZID=America/New_York:20250613T070000
DTEND;TZID=America/New_York:20250613T090000
DTSTAMP:20260424T030523
CREATED:20250521T215632Z
LAST-MODIFIED:20250521T215632Z
UID:6914-1749798000-1749805200@www.smwpa.com
SUMMARY:Delegate Sean Stinnett's Pre-Father's Day Unity Breakfast Fundraiser
DESCRIPTION:Location:\nLangston Hughes Community Center\n5011 Arbutus Avenue\nBaltimore \nEvent Information:\nFor more information\, please contact 410-493-4446 or email info@seanstinnett.com\nCan RSVP online at: https://docs.google.com/forms/d/e/1FAIpQLScU4KqSTQwYmX_MKmj_ZxsafL69c_LFgrpUbmgv-tK52ctzpg/viewform?pli=1 \nHouse Judiciary Committee\nDemocrat\nDistrict 41\nBaltimore City
URL:https://www.smwpa.com/event/delegate-sean-stinnetts-pre-fathers-day-unity-breakfast-fundraiser/
CATEGORIES:Fundraisers
END:VEVENT
BEGIN:VEVENT
DTSTART;TZID=America/New_York:20250616T180000
DTEND;TZID=America/New_York:20250616T200000
DTSTAMP:20260424T030523
CREATED:20250529T161447Z
LAST-MODIFIED:20250529T161447Z
UID:6932-1750096800-1750104000@www.smwpa.com
SUMMARY:Delegate Heather Bagnall's Foreword to the Future Fundraiser
DESCRIPTION:Location:\nPark Books & LitCoLab\n555 Baltimore Annapolis Blvd.\nSeverna Park \nCost:\n$2\,000 The Odyssey (Platinum Sponsorship)\n$1\,000 Big Fish (Gold Sponsorship)\n$500 Great Expectations (Silver Sponsorship)\n$250 Aesop’s Fables (Bronze Sponsorship)\n$75 The Beginning of Everything (General Admission) \nEvent Information:\nCan purchase tickets online at: https://secure.actblue.com/donate/delegate-bagnall-foreword-to-the-future \nChecks can be payable and mailed to:\nCitizens for Heather Bagnall\n1521 Ritchie Highway\nP.O. Box 129\nArnold\, MD 21012 \nLuke Tudball\, Treasurer \nHouse Health and Government Operations Committee\nDemocrat\nDistrict 33C\nAnne Arundel County
URL:https://www.smwpa.com/event/delegate-heather-bagnalls-foreword-to-the-future-fundraiser/
CATEGORIES:Fundraisers
END:VEVENT
BEGIN:VEVENT
DTSTART;TZID=America/New_York:20250617T180000
DTEND;TZID=America/New_York:20250617T200000
DTSTAMP:20260424T030523
CREATED:20250508T173757Z
LAST-MODIFIED:20250508T173757Z
UID:6888-1750183200-1750190400@www.smwpa.com
SUMMARY:Delegate Nick Allen's Fundraiser
DESCRIPTION:Location:\nJerry D’s Saloon\n7808 Harford Road\nParkville \nCost:\n$2\,500 Champion\n$1\,000 Host\n$500 Patron\n$250 Sponsor\n$100 Guest\n$50 District 8 Citizen \nEvent Information:\nFor more information\, please contact Hayley at 410-547-8884 or email haley@martinlauer.com\nCan purchase tickets online at: https://secure.actblue.com/donate/allen06172025 \nChecks can be payable and mailed to:\nFriends of Nicholas Allen\n1215 E. Fort Ave.\nSuite 106\nBaltimore\, MD 21230 \nKathleen Jordan\, Treasurer \nHouse Environment and Transportation Committee\nDemocrat\nDistrict 8\nBaltimore County
URL:https://www.smwpa.com/event/delegate-nick-allens-fundraiser-2/
CATEGORIES:Fundraisers
END:VEVENT
END:VCALENDAR