BEGIN:VCALENDAR
VERSION:2.0
PRODID:-//SCHWARTZ, METZ &amp; WISE, P.A. - ECPv6.13.2.1//NONSGML v1.0//EN
CALSCALE:GREGORIAN
METHOD:PUBLISH
X-WR-CALNAME:SCHWARTZ, METZ &amp; WISE, P.A.
X-ORIGINAL-URL:https://www.smwpa.com
X-WR-CALDESC:Events for SCHWARTZ, METZ &amp; WISE, P.A.
REFRESH-INTERVAL;VALUE=DURATION:PT1H
X-Robots-Tag:noindex
X-PUBLISHED-TTL:PT1H
BEGIN:VTIMEZONE
TZID:America/New_York
BEGIN:DAYLIGHT
TZOFFSETFROM:-0500
TZOFFSETTO:-0400
TZNAME:EDT
DTSTART:20260308T070000
END:DAYLIGHT
BEGIN:STANDARD
TZOFFSETFROM:-0400
TZOFFSETTO:-0500
TZNAME:EST
DTSTART:20261101T060000
END:STANDARD
END:VTIMEZONE
BEGIN:VEVENT
DTSTART;TZID=America/New_York:20260113T200000
DTEND;TZID=America/New_York:20260113T220000
DTSTAMP:20260425T082214
CREATED:20260105T230959Z
LAST-MODIFIED:20260105T230959Z
UID:7591-1768334400-1768341600@www.smwpa.com
SUMMARY:Delegate Ken Kerr's Pre-Session Jam Session Fundraiser
DESCRIPTION:Location:\nCastlebay Irish Pub\n193 A Main Street\nAnnapolis \nCost:\n$1\,000 Patron of the Arts\n$250 3rd Member of the Band\n$100 Super Fan\n$50 Casual Fan \nEvent Information:\nCan purchase tickets online at: https://secure.actblue.com/donate/cookandkerr \nVice-Chair\, House Government\, Labor\, and Elections Committee\nDemocrat\nDistrict 3\nFrederick County
URL:https://www.smwpa.com/event/delegate-ken-kerrs-pre-session-jam-session-fundraiser/
CATEGORIES:Fundraisers
END:VEVENT
BEGIN:VEVENT
DTSTART;TZID=America/New_York:20260113T174500
DTEND;TZID=America/New_York:20260113T194500
DTSTAMP:20260425T082214
CREATED:20251230T173503Z
LAST-MODIFIED:20251230T173503Z
UID:7515-1768326300-1768333500@www.smwpa.com
SUMMARY:Maryland Freedom Caucus' Reception Fundraiser
DESCRIPTION:Location:\nThe Home of Paul Teller\nAddress Provided Upon RSVP\nChevy Chase \nCost:\n$6\,000 Constitution Sponsor (4 Tickets – Private Reception)\n$2\,500 Liberty Sponsor (2 Tickets – Private Reception)\n$1\,000 Freedom Sponsor (1 Ticket – Private Reception)\n$500 Per Guest (Private Reception)\n$200 Per Couple (General Reception)\n$150 Per Guest (General Reception) \nEvent Information:\nFor more information\, please contact events@mdfreedom.org\nCan purchase tickets online at: https://secure.anedot.com/maryland-freedom-caucus-slate/0113event \nMaryland Freedom Caucus
URL:https://www.smwpa.com/event/maryland-freedom-caucus-reception-fundraiser/
CATEGORIES:Fundraisers
END:VEVENT
BEGIN:VEVENT
DTSTART;TZID=America/New_York:20260113T173000
DTEND;TZID=America/New_York:20260113T183000
DTSTAMP:20260425T082214
CREATED:20260105T230325Z
LAST-MODIFIED:20260105T230325Z
UID:7589-1768325400-1768329000@www.smwpa.com
SUMMARY:Delegate Jeffrie Long's Pre-Session Send Off Fundraiser
DESCRIPTION:Location:\nDry 85\n193 B Main Street\nAnnapolis \nCost:\n$2\,700 Host\n$1\,000 Champion\n$500 Friend\n$270 Supporter\n$100 Guest\n$20 Seniors (65+) \nEvent Information:\nCan donate online at: https://secure.actblue.com/donate/jeffrielong \nHouse Environment and Transportation Committee\nDemocrat\nDistrict 27B\nCalvert and Prince George’s County
URL:https://www.smwpa.com/event/delegate-jeffrie-longs-pre-session-send-off-fundraiser-2/
CATEGORIES:Fundraisers
END:VEVENT
BEGIN:VEVENT
DTSTART;TZID=America/New_York:20260113T173000
DTEND;TZID=America/New_York:20260113T183000
DTSTAMP:20260425T082214
CREATED:20260105T223027Z
LAST-MODIFIED:20260105T223027Z
UID:7587-1768325400-1768329000@www.smwpa.com
SUMMARY:Delegate Kris Fair's Fundraiser
DESCRIPTION:Location:\nHarry Browne’s\n66 State Circle\nAnnapolis \nCost:\n$2\,000 Changemaker\n$1\,000 Advocate\n$500 Ally\n$200 Friend\n$50 District 3 Resident \nEvent Information:\nCan purchase tickets online at: https://krisfair.com/January-13-fundraiser \nHouse Government\, Labor\, and Elections Committee\nDemocrat\nDistrict 3\nFrederick County
URL:https://www.smwpa.com/event/delegate-kris-fairs-fundraiser/
CATEGORIES:Fundraisers
END:VEVENT
BEGIN:VEVENT
DTSTART;TZID=America/New_York:20260113T163000
DTEND;TZID=America/New_York:20260113T183000
DTSTAMP:20260425T082214
CREATED:20260105T221956Z
LAST-MODIFIED:20260105T221956Z
UID:7585-1768321800-1768329000@www.smwpa.com
SUMMARY:Delegate Stuart Schmidt's 2026 Session Send Off Heated Patio Party Fundraiser
DESCRIPTION:Location:\nParley Room\n25 State Circle\nAnnapolis \nCost:\n$6\,000 VIP Event Sponsor\n$2\,000 Presenting Sponsor & Honorary Toast\n$1\,000 Speak Easy Sponsor\n$500 Oysters Sponsor\n$225 Gatsby Group (3 Tickets)\n$125 Dynamic Duo (2 Tickets)\n$65 Pearl (1 Ticket) \nEvent Information:\nCan purchase tickets online at: https://secure.anedot.com/schmidt4delegate/parleyroom2026sessionsendoff \nChecks can be payable and mailed to:\nFriends of Stuart Schmidt\n1515 Crofton Parkway\nCrofton\, MD 21114 \nAnthony Pelura\, Treasurer \nHouse Judiciary Committee\nRepublican\nDistrict 33B\nAnne Arundel County
URL:https://www.smwpa.com/event/delegate-stuart-schmidts-2026-session-send-off-heated-patio-party-fundraiser/
CATEGORIES:Fundraisers
END:VEVENT
BEGIN:VEVENT
DTSTART;TZID=America/New_York:20260113T153000
DTEND;TZID=America/New_York:20260113T170000
DTSTAMP:20260425T082214
CREATED:20251203T020902Z
LAST-MODIFIED:20251203T020902Z
UID:7449-1768318200-1768323600@www.smwpa.com
SUMMARY:Senator Ron Watson's Pre-Session Happy Hour Fundraiser
DESCRIPTION:Location:\nRed Red Wine Bar + Bistro\n189 B Main Street\nAnnapolis \nCost:\n$2\,500 Sommelier Sponsor\n$1\,000 Piedmont Patron\n$250 Cask Contributor \nEvent Information:\nFor more information\, please contact Rice Consulting at 410-838-6355 or email ronwatson@riceconsultingllc.com\nCan purchase tickets online at: https://secure.actblue.com/donate/watson260113?refcode=email_251202_redredwine_blast1 \nChecks can be payable and mailed to:\nFriends of Ron Watson\nc/o Rice Consulting\n17 W. Courtland Street\nSuite 210\nBel Air\, MD 21014 \nSean Osborne\, Treasurer \nSenate Education\, Energy\, and the Environment Committee\nDemocrat\nDistrict 23\nPrince George’s County
URL:https://www.smwpa.com/event/senator-ron-watsons-pre-session-happy-hour-fundraiser/
CATEGORIES:Fundraisers
END:VEVENT
BEGIN:VEVENT
DTSTART;TZID=America/New_York:20260113T150000
DTEND;TZID=America/New_York:20260113T170000
DTSTAMP:20260425T082214
CREATED:20260108T232806Z
LAST-MODIFIED:20260108T232806Z
UID:7599-1768316400-1768323600@www.smwpa.com
SUMMARY:Delegate Christopher Tomlinson's 2026 Pre-Session Reception Fundraiser
DESCRIPTION:Location:\nFederal House Bar & Grill\n22 Market Space\nAnnapolis \nCost:\n$2\,500 Gold Sponsor (8 Tickets)\n$1\,000 Black Sponsor (6 Tickets)\n$500 White Sponsor (4 Tickets)\n$250 Red Sponsor (2 Tickets)\n$100 Per Person \nEvent Information:\nFor more information\, please contact christophertomlinson1@gmail.com\nCan purchase tickets online at: https://secure.anedot.com/friendsofchristophertomlinson/34f7d955-0656-4db4-9022-44b0e1b998ee \nChecks can be payable and mailed to:\nFriends of Christopher Tomlinson\n4305 Hanover Pike\nManchester\, MD\, 21102 \nAaron Matty\, Treasurer \nGovernment\, Labor\, and Elections Committee\nRepublican\nDistrict 5\nCarroll and Frederick County
URL:https://www.smwpa.com/event/delegate-christopher-tomlinsons-2026-pre-session-reception-fundraiser/
CATEGORIES:Fundraisers
END:VEVENT
BEGIN:VEVENT
DTSTART;TZID=America/New_York:20260113T140000
DTEND;TZID=America/New_York:20260113T160000
DTSTAMP:20260425T082214
CREATED:20260105T100734Z
LAST-MODIFIED:20260105T100734Z
UID:7526-1768312800-1768320000@www.smwpa.com
SUMMARY:Delegate Mike Griffith's Pre-Session Fundraiser
DESCRIPTION:Location:\nDry 85\n193 B Main Street\nAnnapolis \nCost:\n$1\,000 Platinum\n$500 Gold\n$250 Silver \nEvent Information:\nCan purchase tickets online at: https://secure.anedot.com/friends-of-mike-griffith/jan13 \nChecks can be payable and mailed to:\nFriends of Mike Griffith\nP.O. Box 114\nForest Hill\, MD 21050 \nJeff Tolley\, Treasurer \nHouse Ways and Means Committee\nRepublican\nDistrict 35A\nCecil and Harford County
URL:https://www.smwpa.com/event/delegate-mike-griffiths-pre-session-fundraiser-2/
CATEGORIES:Fundraisers
END:VEVENT
BEGIN:VEVENT
DTSTART;TZID=America/New_York:20260113T133000
DTEND;TZID=America/New_York:20260113T150000
DTSTAMP:20260425T082215
CREATED:20260105T220320Z
LAST-MODIFIED:20260105T220320Z
UID:7583-1768311000-1768316400@www.smwpa.com
SUMMARY:Delegate Teresa Woorman's Fundraiser
DESCRIPTION:Location:\nRed Red Wine + Bistro\n189 B Main Street\nAnnapolis \nCost:\n$1\,000\n$250\n$100\n$25 \nEvent Information:\nCan donate online at: https://secure.actblue.com/donate/teresawoorman \nChecks can be payable and mailed to:\nTeresa Woorman for Maryland\n9105 Willow Gate Lane\nBethesda\, MD 20817 \nMatthew Woorman\, Treasurer \nHouse Health Committee\nDemocrat\nDistrict 16\nMontgomery County
URL:https://www.smwpa.com/event/delegate-teresa-woormans-fundraiser/
CATEGORIES:Fundraisers
END:VEVENT
BEGIN:VEVENT
DTSTART;TZID=America/New_York:20260113T133000
DTEND;TZID=America/New_York:20260113T150000
DTSTAMP:20260425T082215
CREATED:20260105T215914Z
LAST-MODIFIED:20260105T215914Z
UID:7581-1768311000-1768316400@www.smwpa.com
SUMMARY:Delegate Lesley Lopez's Fundraiser
DESCRIPTION:Location:\nRed Red Wine + Bistro\n189 B Main Street\nAnnapolis \nCost:\n$1\,000\n$250\n$100\n$25 \nEvent Information:\nCan donate online at: https://secure.actblue.com/donate/lesley-lopez-1 \nHouse Health Committee\nDemocrat\nDistrict 39\nMontgomery County
URL:https://www.smwpa.com/event/delegate-lesley-lopezs-fundraiser/
CATEGORIES:Fundraisers
END:VEVENT
BEGIN:VEVENT
DTSTART;TZID=America/New_York:20260113T133000
DTEND;TZID=America/New_York:20260113T150000
DTSTAMP:20260425T082215
CREATED:20260105T215635Z
LAST-MODIFIED:20260105T215635Z
UID:7579-1768311000-1768316400@www.smwpa.com
SUMMARY:Delegate Jennifer White Holland's Fundraiser
DESCRIPTION:Location:\nRed Red Wine + Bistro\n189 B Main Street\nAnnapolis \nCost:\n$500\n$250\n$100\n$50\n$25\n$10 \nEvent Information:\nCan donate online at: https://secure.actblue.com/donate/friends-of-jennifer-white-2 \nChecks can be payable and mailed to:\nFriends of Jennifer White\nP.O. Box 274\nRandallstown\, MD 21133-9998 \nWaqiba Strother\, Treasurer \nHouse Health Committee\nDemocrat\nDistrict 10\nBaltimore County
URL:https://www.smwpa.com/event/delegate-jennifer-white-hollands-fundraiser/
CATEGORIES:Fundraisers
END:VEVENT
BEGIN:VEVENT
DTSTART;TZID=America/New_York:20260113T120000
DTEND;TZID=America/New_York:20260113T120000
DTSTAMP:20260425T082215
CREATED:20251230T172459Z
LAST-MODIFIED:20251230T172459Z
UID:7513-1768305600-1768305600@www.smwpa.com
SUMMARY:Maryland Democratic Party's Legislative Luncheon Fundraiser
DESCRIPTION:Location:\nThe Westin Annapolis\n100 Westgate Circle\nAnnapolis \nCost:\n$10\,000 President’s Circle (20 Tickets)\n$5\,000 Speaker’s Circle (10 Tickets)\n$2\,500 Majority Leader’s Circle (5 Tickets)\n$500 Guest (1 Ticket) \nEvent Information:\nFor more information\, please contact Aaron Jarboe at 301-520-5134 or email ajarboe@mddems.org\nCan purchase tickets online at: https://secure.actblue.com/donate/mdpleglunch2026\nRegistration begins at 11:30 AM \nChecks can be payable and mailed to:\nMaryland Democratic Party\n275 West Street\nSuite 70\nAnnapolis\, MD 21401 \nDevang Shah\, Treasurer
URL:https://www.smwpa.com/event/maryland-democratic-partys-legislative-luncheon-fundraiser/
CATEGORIES:Fundraisers
END:VEVENT
BEGIN:VEVENT
DTSTART;TZID=America/New_York:20260113T100000
DTEND;TZID=America/New_York:20260113T113000
DTSTAMP:20260425T082215
CREATED:20251119T175703Z
LAST-MODIFIED:20251119T175703Z
UID:7390-1768298400-1768303800@www.smwpa.com
SUMMARY:Attorney General Anthony Brown's Coffee Break & Reception Fundraiser
DESCRIPTION:Location:\nThe Maryland Inn\n16 Church Circle\nAnnapolis \nCost:\n$2\,500 Sponsor\n$1\,000 Friend\n$500 Guest \nEvent Information:\nFor more information\, please contact Sophia Silbergeld at 410-366-3940 x 102 or email ss@helloadeo.com\nCan purchase tickets online at: https://secure.ngpvan.com/lxAMKZZcN0KgIEpcYMoNXg2 \nChecks can be payable and mailed to:\nFriends of Anthony Brown\n12138 Central Ave.\n#671\nBowie\, MD 20721 \nGerard Boden\, Treasurer \nAttorney General of Maryland\nDemocrat
URL:https://www.smwpa.com/event/attorney-general-anthony-browns-coffee-break-reception-fundraiser/
CATEGORIES:Fundraisers
END:VEVENT
BEGIN:VEVENT
DTSTART;TZID=America/New_York:20260113T090000
DTEND;TZID=America/New_York:20260113T100000
DTSTAMP:20260425T082215
CREATED:20260108T180304Z
LAST-MODIFIED:20260108T180304Z
UID:7597-1768294800-1768298400@www.smwpa.com
SUMMARY:Delegate Jared Solomon's Pre-Session Breakfast Fundraiser
DESCRIPTION:Location:\nOffices of the Maryland State Education Association\n140 Main Street\nAnnapolis \nCost:\n1\,000 Host\n$500 Co-Host\n$250 Supporter\n$100 Friend \nEvent Information:\nFor more information\, please contact RSVP@mellingergroup.com\nCan purchase tickets online at: https://secure.actblue.com/donate/presessionbreakfast \nChecks can be payable and mailed to:\nFriends of Jared Solomon\n137 Gittings Street\nBaltimore\, MD 21230 \nMegan Chambers\, Treasurer \nHouse Government\, Labor\, and Elections Committee\nDemocrat\nDistrict 18\nMontgomery County
URL:https://www.smwpa.com/event/delegate-jared-solomons-pre-session-breakfast-fundraiser/
CATEGORIES:Fundraisers
END:VEVENT
BEGIN:VEVENT
DTSTART;TZID=America/New_York:20260113T083000
DTEND;TZID=America/New_York:20260113T100000
DTSTAMP:20260425T082215
CREATED:20251217T170332Z
LAST-MODIFIED:20251217T170332Z
UID:7501-1768293000-1768298400@www.smwpa.com
SUMMARY:Senator Johnny Ray Salling's Breakfast Fundraiser
DESCRIPTION:Location:\nResidence Inn by Marriott\n200 Taylor Avenue\nAnnapolis \nCost:\n$5\,000 Sponsor\n$2\,000 Sponsor\n$1\,000 Sponsor\n$500 Sponsor\n$50 Per Person \nEvent Information:\nFor more information\, please contact 410-409-7825 \nSenate Budget and Taxation Committee\nRepublican\nDistrict 6\nBaltimore County
URL:https://www.smwpa.com/event/senator-johnny-ray-sallings-breakfast-fundraiser-2/
CATEGORIES:Fundraisers
END:VEVENT
BEGIN:VEVENT
DTSTART;TZID=America/New_York:20260113T083000
DTEND;TZID=America/New_York:20260113T100000
DTSTAMP:20260425T082215
CREATED:20251210T194828Z
LAST-MODIFIED:20251210T194828Z
UID:7483-1768293000-1768298400@www.smwpa.com
SUMMARY:Delegate Dana Jones' 2026 Pre-Session Fundraiser
DESCRIPTION:Location:\nHarry Browne’s\nCapital View Room\n66 State Circle\nAnnapolis \nCost:\n$1\,000 Host\n$500 Sponsor\n$250 Friend\n$50 Constituent \nEvent Information:\nFor more information\, please contact rsvp@mellingergroup.com\nCan purchase tickets online at: https://secure.actblue.com/donate/26presession \nChecks can be payable and mailed to:\nFriends of Dana Jones\n821 Chesapeake Ave.\nP.O. Box 4237\nAnnapolis\, MD 21403-9998 \nKaren White\, Treasurer \nHouse Appropriations Committee\nDemocrat\nDistrict 30A\nAnne Arundel County
URL:https://www.smwpa.com/event/delegate-dana-jones-2026-pre-session-fundraiser/
CATEGORIES:Fundraisers
END:VEVENT
BEGIN:VEVENT
DTSTART;TZID=America/New_York:20260113T083000
DTEND;TZID=America/New_York:20260113T100000
DTSTAMP:20260425T082215
CREATED:20251208T210437Z
LAST-MODIFIED:20251208T210437Z
UID:7461-1768293000-1768298400@www.smwpa.com
SUMMARY:Governor Wes Moore's Reception Fundraiser
DESCRIPTION:Location:\nGovernor Calvert House\n58 State Circle\nAnnapolis \nCost:\n$2\,500 Sponsor (4 Tickets)\n$1\,000 Friend (1 Ticket)\n$500 Guest \nEvent Information:\nFor more information\, please contact Sophia Silbergeld at 410-366-3940 x 102 or email ss@helloadeo.com\nCan purchase tickets online at: https://support.wesmoore.com/a/govmoore0113_annapolis \nGovernor of Maryland\nDemocrat
URL:https://www.smwpa.com/event/governor-wes-moores-reception-fundraiser/
CATEGORIES:Fundraisers
END:VEVENT
BEGIN:VEVENT
DTSTART;TZID=America/New_York:20260113T083000
DTEND;TZID=America/New_York:20260113T100000
DTSTAMP:20260425T082215
CREATED:20251105T201651Z
LAST-MODIFIED:20251105T201651Z
UID:7337-1768293000-1768298400@www.smwpa.com
SUMMARY:Senator Shaneka Henson's Morning on the Docks Fundraiser
DESCRIPTION:Location:\nFederal House Bar & Grille\n22 Market Space\nAnnapolis \nCost:\n$2\,500 Host Sponsor\n$1\,000 Sponsor\n$500 Patron\n$250 Supporter\n$100 Friend\n$50 District 30 Resident \nEvent Information:\nFor more information\, please contact Rice Consulting at 410-838-6355 or email shanekahenson@riceconsultingllc.com\nCan purchase tickets online at: https://secure.actblue.com/donate/henson260113 \nChecks can be payable and mailed to:\nFriends of Shaneka Henson\nc/o Rice Consulting\n17 W. Courtland Street\nSuite 210\nBel Air\, MD 21014 \nSherry Galloway\, Treasurer \nSenate Judicial Proceedings Committee\nDemocrat\nDistrict 30\nAnne Arundel County
URL:https://www.smwpa.com/event/senator-shaneka-hensons-morning-on-the-docks-fundraiser/
CATEGORIES:Fundraisers
END:VEVENT
BEGIN:VEVENT
DTSTART;TZID=America/New_York:20260113T080000
DTEND;TZID=America/New_York:20260113T100000
DTSTAMP:20260425T082215
CREATED:20260105T171645Z
LAST-MODIFIED:20260105T171645Z
UID:7528-1768291200-1768298400@www.smwpa.com
SUMMARY:House Economic Matters Committe Republicans' Breakfast Reception Fundraiser
DESCRIPTION:Location:\nParley Room\n25 State Circle\nAnnapolis \nCost:\n$100 Per Person \nEvent Information:\nContribute to the individual Committee members of your choice. \nDelegate Christopher Adams\nHouse Economic Matters Committee\nRepublican\nDistrict 37B\nCaroline\, Dorchester\, Talbot\, and Wicomico County \nDelegate Steven Arentz\nHouse Economic Matters Committee\nRepublican\nDistrict 36\nCaroline\, Cecil\, Kent\, and Queen Anne’s County \nDelegate Seth Howard\nHouse Economic Matters Committee\nRepublican\nDistrict 30B\nAnne Arundel County \nDelegate Jesse Pippy\nHouse Economic Matters Committee\nHouse Minority Whip\nRepublican\nDistrict 4\nFrederick County \nDelegate April Rose\nHouse Economic Matters Committee\nRepublican\nDistrict 5\nCarroll and Frederick County \nDelegate William Wivell\nHouse Economic Matters Committee\nRepublican\nDistrict 2A\nFrederick and Washington County
URL:https://www.smwpa.com/event/house-economic-matters-committe-republicans-breakfast-reception-fundraiser/
CATEGORIES:Fundraisers
END:VEVENT
BEGIN:VEVENT
DTSTART;TZID=America/New_York:20260113T080000
DTEND;TZID=America/New_York:20260113T100000
DTSTAMP:20260425T082215
CREATED:20251230T170341Z
LAST-MODIFIED:20251230T171826Z
UID:7510-1768291200-1768298400@www.smwpa.com
SUMMARY:Senator Clarence Lam's Reception Fundraiser
DESCRIPTION:Location:\nAddress Provided Upon RSVP\nAnnapolis \nCost:\n$4\,000 Presidential\n$3\,000 Platinum\n$2\,000 Gold\n$1\,000 Silver\n$500 Bronze\n$100 Individual Ticket \nEvent Information:\nFor more information\, please contact rsvp@clarencelam.com\nCan purchase tickets online at: https://secure.actblue.com/donate/lamfundraiserjan2026 \nChecks can be payable and mailed to: \nFriends of Clarence Lam\nP.O. Box 891\nColumbia\, MD 21044 \nPat Payne\, Treasurer \nSenate Finance Committee\nDemocrat\nDistrict 12\nAnne Arundel and Howard County
URL:https://www.smwpa.com/event/senator-clarence-lams-reception-fundraiser-4/
CATEGORIES:Fundraisers
END:VEVENT
BEGIN:VEVENT
DTSTART;TZID=America/New_York:20260113T080000
DTEND;TZID=America/New_York:20260113T090000
DTSTAMP:20260425T082215
CREATED:20251230T165402Z
LAST-MODIFIED:20251230T165402Z
UID:7508-1768291200-1768294800@www.smwpa.com
SUMMARY:Senate Republican Caucus Committee's Pre-Session Breakfast Fundraiser
DESCRIPTION:Location:\nHarry Browne’s\n66 State Circle\nAnnapolis \nCost:\n$10\,000 Presenting Sponsor\n$6\,000 Maryland Sponsor\n$2\,500 Gold Sponsor\n$1\,000 Red Sponsor\n$500 Individual Ticket \nEvent Information:\nCan purchase tickets online at: https://secure.anedot.com/maryland-republican-senate-caucus-committee/0113event \nChecks can be payable and mailed to:\nSenate Republican Caucus Committee\nP.O. Box 11\nAnnapolis\, MD 21404 \nJames Appel\, Treasurer
URL:https://www.smwpa.com/event/senate-republican-caucus-committees-pre-session-breakfast-fundraiser/
CATEGORIES:Fundraisers
END:VEVENT
BEGIN:VEVENT
DTSTART;TZID=America/New_York:20260112T180000
DTEND;TZID=America/New_York:20260112T200000
DTSTAMP:20260425T082215
CREATED:20251208T205559Z
LAST-MODIFIED:20251208T205559Z
UID:7459-1768240800-1768248000@www.smwpa.com
SUMMARY:Delegate Vanessa Atterbeary's Annapolis Session Warm Up Fundraiser
DESCRIPTION:Location:\nDry 85\n193 B Main Street\nAnnapolis \nCost:\n$2\,500 Capitol Sponsor\n$1\,000 House Patron\n$250 Guest \nEvent Information:\nFor more information\, please contact Rice Consulting at 410-838-6355 or email vanessa@riceconsultingllc.com\nCan purchase tickets online at: https://secure.actblue.com/donate/atterbeary260112?refcode=email_251125_warmup_blast1 \nChecks can be payable and mailed to:\nCommittee to Elect Vanessa Atterbeary\nc/o Rice Consulting\n17 W. Courtland Street\nSuite 210\nBel Air\, MD 21014 \nMarlyn Oatts\, Treasurer \nChair\, House Ways and Means Committee\nCandidate Howard County Executive\nDemocrat\nDistrict 13\nHoward County
URL:https://www.smwpa.com/event/delegate-vanessa-atterbearys-annapolis-session-warm-up-fundraiser/
CATEGORIES:Fundraisers
END:VEVENT
BEGIN:VEVENT
DTSTART;TZID=America/New_York:20260112T180000
DTEND;TZID=America/New_York:20260112T193000
DTSTAMP:20260425T082215
CREATED:20251230T163119Z
LAST-MODIFIED:20251230T163119Z
UID:7506-1768240800-1768246200@www.smwpa.com
SUMMARY:Senator Steve Hershey's Fundraiser
DESCRIPTION:Location:\nParley Room\n25 State Circle\nAnnapolis \nCost:\n$6\,000 Platinum Sponsor\n$4\,000 Gold Sponsor\n$2\,500 Silver Sponsor\n$1\,000 Bronze Sponsor\n$500 Per Ticket \nEvent Information:\nFor more information\, please contact Nicole Ossola at 443-875-3886 or email nicole@ossolaconsulting.com\nCan purchase tickets online at: https://secure.anedot.com/senatorhershey/0112event\nPlease RSVP by Thursday\, January 8 \nChecks can be payable and mailed to:\nFriends of Steve Hershey\nP.O. Box 11\nAnnapolis\, MD 21404 \nJames Appel\, Treasurer \nSenate Finance Committee\nSenate Minority Leader\nRepublican\nDistrict 36\nCaroline\, Cecil\, Kent\, and Queen Anne’s County
URL:https://www.smwpa.com/event/senator-steve-hersheys-fundraiser-3/
CATEGORIES:Fundraisers
END:VEVENT
BEGIN:VEVENT
DTSTART;TZID=America/New_York:20260112T180000
DTEND;TZID=America/New_York:20260112T193000
DTSTAMP:20260425T082215
CREATED:20251215T164226Z
LAST-MODIFIED:20251215T164226Z
UID:7495-1768240800-1768246200@www.smwpa.com
SUMMARY:Senator Kevin M. Harris' Pre-Session Fundraiser
DESCRIPTION:Location:\nRed Red Wine Bar + Bistro\n189 B Main Street\nAnnapolis \nCost:\n$6\,000 Congratulations\n$4\,000 Champion\n$2\,500 Host\n$1\,000 Supporter\n$500 Friend \nEvent Information:\nFor more information\, please contact info@kevinmharris.org\nCan purchase tickets online at: https://secure.actblue.com/donate/session2026 \nChecks can be payable and mailed to:\nFriends of Kevin M. Harris\n15912 Crain Highway\nUnit 116\nBrandywine\, MD 20613 \nAlim Stick\, Treasurer \nSenate Education\, Energy\, and the Environment Committee (2026 Session)\nHouse Appropriations Committee (2025 Session)\nDemocrat\nDistrict 27\nCalvert\, Charles\, and Prince George’s County
URL:https://www.smwpa.com/event/senator-kevin-m-harris-pre-session-fundraiser/
CATEGORIES:Fundraisers
END:VEVENT
BEGIN:VEVENT
DTSTART;TZID=America/New_York:20260112T180000
DTEND;TZID=America/New_York:20260112T193000
DTSTAMP:20260425T082215
CREATED:20251119T174644Z
LAST-MODIFIED:20251119T174644Z
UID:7388-1768240800-1768246200@www.smwpa.com
SUMMARY:Delegate Marc Korman's Fundraiser
DESCRIPTION:Location:\nCalvert House\nJonas Green Room\n58 State Circle\nAnnapolis \nCost:\n$1\,000 Golden Gloves\n$500 Silver Sluggers\n$250 General Admission \nEvent Information:\nFor more information\, please contact marc@marckorman.com\nCan purchase tickets online at: https://secure.actblue.com/donate/kormanannapolis2026 \nChair\, House Environment and Transportation Committee\nDemocrat\nDistrict 16\nMontgomery County
URL:https://www.smwpa.com/event/delegate-marc-kormans-fundraiser-5/
CATEGORIES:Fundraisers
END:VEVENT
BEGIN:VEVENT
DTSTART;TZID=America/New_York:20260112T180000
DTEND;TZID=America/New_York:20260112T190000
DTSTAMP:20260425T082215
CREATED:20260105T212703Z
LAST-MODIFIED:20260105T212703Z
UID:7577-1768240800-1768244400@www.smwpa.com
SUMMARY:Delegate Diana Fennell's Pre-Session Mixer Fundraiser
DESCRIPTION:Location:\nHarry Browne’s\n66 State Circle\nAnnapolis \nCost:\n$1\,000 Champion\n$500 Friend\n$250 Supporter\n$100 Attendee \nEvent Information:\nFor more information\, please contact friends@dianafennell.com\nCan purchase tickets online at: https://secure.actblue.com/donate/dianapresession \nHouse Economic Matters Committee\nDemocrat\nDistrict 47A\nPrince George’s County
URL:https://www.smwpa.com/event/delegate-diana-fennells-pre-session-mixer-fundraiser/
CATEGORIES:Fundraisers
END:VEVENT
BEGIN:VEVENT
DTSTART;TZID=America/New_York:20260112T180000
DTEND;TZID=America/New_York:20260112T190000
DTSTAMP:20260425T082215
CREATED:20260105T212322Z
LAST-MODIFIED:20260105T212322Z
UID:7575-1768240800-1768244400@www.smwpa.com
SUMMARY:Senator Antonio Hayes' Fundraiser
DESCRIPTION:Location:\nKappa Alpha Psi Youth & Community Center\n1207 Eutaw Place\nBaltimore \nCost:\n$2\,500 Champion\n$1\,000 Community Leader\n$500 Advocate\n$250 Friend\n$100 Guest \nEvent Information:\nFor more information\, please contact Haley at haley@martinlauer.com\nCan purchase tickets online at: https://secure.actblue.com/donate/jan.12.2026 \nChecks can be payable and mailed to:\nCitizens for Antonio Hayes\n1215 E Fort Ave.\nSuite 106\nBaltimore\, MD 21230 \nJoseph A. Powell\, Treasurer \nVice-Chair\, Senate Finance Committee\nDemocrat\nDistrict 40\nBaltimore City
URL:https://www.smwpa.com/event/senator-antonio-hayes-fundraiser-3/
CATEGORIES:Fundraisers
END:VEVENT
BEGIN:VEVENT
DTSTART;TZID=America/New_York:20260112T173000
DTEND;TZID=America/New_York:20260112T200000
DTSTAMP:20260425T082215
CREATED:20251105T201115Z
LAST-MODIFIED:20251105T201115Z
UID:7335-1768239000-1768248000@www.smwpa.com
SUMMARY:Senate President Bill Ferguson's President's Dinner Fundraiser
DESCRIPTION:Location:\nCinghiale\n822 Lancaster Street\nBaltimore \nCost:\n$5\,000 Per Seat \nEvent Information:\nFor more information\, please contact Sophia Silbergeld at 443-857-0479 or email ss@helloadeo.com\nCan purchase tickets online at: https://www.billformd.com/presidentsdinner/\nSeating is very limited and on a first-come first-served basis. RSVP is required. \nChecks can be payable and mailed to:\nCitizens for Bill Ferguson\nc/o Adeo Advocacy\n711 W. 40th Street\nSuite 330\nBaltimore\, MD 21211 \nChristopher Madaio\, Treasurer \nPresident of the Senate\nDemocrat\nDistrict 46\nBaltimore City
URL:https://www.smwpa.com/event/senate-president-bill-fergusons-presidents-dinner-fundraiser/
CATEGORIES:Fundraisers
END:VEVENT
BEGIN:VEVENT
DTSTART;TZID=America/New_York:20260112T173000
DTEND;TZID=America/New_York:20260112T193000
DTSTAMP:20260425T082215
CREATED:20260105T210159Z
LAST-MODIFIED:20260105T210159Z
UID:7573-1768239000-1768246200@www.smwpa.com
SUMMARY:Senator Johnny Mautz's Pre-Session Reception Fundraiser
DESCRIPTION:Location:\nAmerican Legion Post 91\n98 Sunburst Highway\nCambridge \nCost:\n$6\,000 Diamond Sponsor\n$2\,500 Platinum Sponsor\n$1\,500 Gold Sponsor\n$1\,000 Silver Sponsor\n$500 Bronze Sponsor\n$75 Per Couple\n$50 Per Person \nEvent Information:\nFor more information\, please contact Megan Miller at 410-310-9954 or email campaign@johnnymautz.com\nCan purchase tickets online at: https://secure.anedot.com/friends-of-johnny-mautz/january_reception_2026 \nChecks can be payable and mailed to:\nFriends of Johnny Mautz\nP.O. Box 33\nSt. Michaels\, MD 21663 \nRendy Lomax\, Treasurer \nSenate Finance Committee\nRepublican\nDistrict 37\nCaroline\, Dorchester\, Talbot\, and Wicomico County
URL:https://www.smwpa.com/event/senator-johnny-mautzs-pre-session-reception-fundraiser/
CATEGORIES:Fundraisers
END:VEVENT
BEGIN:VEVENT
DTSTART;TZID=America/New_York:20260112T173000
DTEND;TZID=America/New_York:20260112T183000
DTSTAMP:20260425T082215
CREATED:20251210T194000Z
LAST-MODIFIED:20251210T194000Z
UID:7481-1768239000-1768242600@www.smwpa.com
SUMMARY:Delegate Emily Shetty's Reception Fundraiser
DESCRIPTION:Location:\nHarry Browne’s\n66 State Circle\nAnnapolis \nCost:\n1\,000 Sponsor\n$500 Host\n$250 Friend\n$100 District 18 Resident \nEvent Information:\nFor more information\, please contact rsvp@mellingergroup.com\nCan purchase tickets online at: https://secure.actblue.com/donate/esjan122026 \nChecks can be payable and mailed to:\nFriends of Emily Shetty\n137 Gittings Street\nBaltimore\, MD 21230 \nBob Levering\, Treasurer \nHouse Appropriations Committee\nDemocrat\nDistrict 18\nMontgomery County
URL:https://www.smwpa.com/event/delegate-emily-shettys-reception-fundraiser/
CATEGORIES:Fundraisers
END:VEVENT
END:VCALENDAR