BEGIN:VCALENDAR
VERSION:2.0
PRODID:-//SCHWARTZ, METZ &amp; WISE, P.A. - ECPv6.13.2.1//NONSGML v1.0//EN
CALSCALE:GREGORIAN
METHOD:PUBLISH
X-WR-CALNAME:SCHWARTZ, METZ &amp; WISE, P.A.
X-ORIGINAL-URL:https://www.smwpa.com
X-WR-CALDESC:Events for SCHWARTZ, METZ &amp; WISE, P.A.
REFRESH-INTERVAL;VALUE=DURATION:PT1H
X-Robots-Tag:noindex
X-PUBLISHED-TTL:PT1H
BEGIN:VTIMEZONE
TZID:America/New_York
BEGIN:DAYLIGHT
TZOFFSETFROM:-0500
TZOFFSETTO:-0400
TZNAME:EDT
DTSTART:20260308T070000
END:DAYLIGHT
BEGIN:STANDARD
TZOFFSETFROM:-0400
TZOFFSETTO:-0500
TZNAME:EST
DTSTART:20261101T060000
END:STANDARD
END:VTIMEZONE
BEGIN:VEVENT
DTSTART;TZID=America/New_York:20260426T120000
DTEND;TZID=America/New_York:20260426T150000
DTSTAMP:20260423T080311
CREATED:20260421T172742Z
LAST-MODIFIED:20260421T172742Z
UID:7611-1777204800-1777215600@www.smwpa.com
SUMMARY:Delegate Matthew Schindler's Post-Session Meet & Greet Fundraiser
DESCRIPTION:Location:\nHub City Brewery\n25 W Church Street\nHagerstown \nCost:\n$6\,000 Host\n$1\,000 Sponsor\n$500 Supporter\n$100 Friend\nFree to attend but ticket is required. Please donate what you can. \nEvent Information:\nCan purchase tickets online at: https://secure.actblue.com/donate/postsessionmeetandgreet \nLegislative Profile:\nHouse Government\, Labor\, and Elections Committee\nDemocrat\nDistrict 2B\nWashington County
URL:https://www.smwpa.com/event/delegate-matthew-schindlers-post-session-meet-greet-fundraiser/
CATEGORIES:Fundraisers
END:VEVENT
END:VCALENDAR